BEGIN:VCALENDAR
VERSION:2.0
PRODID:-//Find Upcoming Comedy Shows Near You | Comedy Calendar - ECPv6.15.20//NONSGML v1.0//EN
CALSCALE:GREGORIAN
METHOD:PUBLISH
X-ORIGINAL-URL:https://comedycalendar.com
X-WR-CALDESC:Events for Find Upcoming Comedy Shows Near You | Comedy Calendar
REFRESH-INTERVAL;VALUE=DURATION:PT1H
X-Robots-Tag:noindex
X-PUBLISHED-TTL:PT1H
BEGIN:VTIMEZONE
TZID:America/New_York
BEGIN:DAYLIGHT
TZOFFSETFROM:-0500
TZOFFSETTO:-0400
TZNAME:EDT
DTSTART:20250309T070000
END:DAYLIGHT
BEGIN:STANDARD
TZOFFSETFROM:-0400
TZOFFSETTO:-0500
TZNAME:EST
DTSTART:20251102T060000
END:STANDARD
BEGIN:DAYLIGHT
TZOFFSETFROM:-0500
TZOFFSETTO:-0400
TZNAME:EDT
DTSTART:20260308T070000
END:DAYLIGHT
BEGIN:STANDARD
TZOFFSETFROM:-0400
TZOFFSETTO:-0500
TZNAME:EST
DTSTART:20261101T060000
END:STANDARD
BEGIN:DAYLIGHT
TZOFFSETFROM:-0500
TZOFFSETTO:-0400
TZNAME:EDT
DTSTART:20270314T070000
END:DAYLIGHT
BEGIN:STANDARD
TZOFFSETFROM:-0400
TZOFFSETTO:-0500
TZNAME:EST
DTSTART:20271107T060000
END:STANDARD
END:VTIMEZONE
BEGIN:VEVENT
DTSTART;TZID=America/New_York:20261113T190000
DTEND;TZID=America/New_York:20261113T213000
DTSTAMP:20260423T051440
CREATED:20260322T020000Z
LAST-MODIFIED:20260323T032458Z
UID:10003786-1794596400-1794605400@comedycalendar.com
SUMMARY:Kathleen Madigan: Flying Cats & Marching Armadillos Tour LIVE at Carolina Theatre - Durham
DESCRIPTION:Official TicketsResale Tickets \nThis post contains affiliate links. We may earn a commission at no extra cost to you. \nAbout the Performer\nKathleen Madigan is one of the most successful and beloved stand-up comedians in America. Over three decades into her career\, she has built a touring empire without the benefit of a major TV show or movie role — just pure\, relentless dedication to the craft of stand-up comedy. Coming from a long line of Midwestern union workers\, Madigan has always approached comedy as a job\, and the results speak for themselves. \nShe has released six stand-up specials\, including Hunting Bigfoot on Amazon Prime (winner of the Interrobang’s 2023 Comedy Special of the Year)\, and Bothering Jesus on Netflix\, which became the highest-selling comedy album and most-played comedy special on streaming services since 2015. She has appeared on over 40 late-night and daytime talk shows and was featured on Comedians in Cars Getting Coffee with Jerry Seinfeld. \nJerry Seinfeld himself has said: “She’s small\, practical and fun. She makes a lot of sense but not too much sense. Just enough to be hilarious.” Ron White adds: “There’s nobody better than Maddy. She’s not just one of the best female comics\, she’s one of the best comics period.” \nEvent Details\nDate: Friday\, November 13\, 2026 \nShow Time: 7:00 PM EST \nVenue: Fletcher Hall at Carolina Theatre of Durham \nAddress: 309 W Morgan St\, Durham\, NC 27701 \nNote: A second show is also available on Saturday\, November 14 at 7:00 PM. \nAbout the Venue\nThe Carolina Theatre of Durham is a beautifully restored 1926 landmark in the heart of downtown Durham. Fletcher Hall seats approximately 1\,000 guests and is known for its warm acoustics\, classic proscenium stage\, and intimate atmosphere that makes every seat feel close to the action. \nThe venue is surrounded by Durham’s vibrant dining and nightlife scene. Parking is available on nearby streets and in downtown garages. The Carolina Theatre is easily accessible from I-85 and US-15/501\, and the historic building itself is part of the experience. \nWhat to Expect\nKathleen Madigan delivers the kind of stand-up that feels effortless — sharp\, perfectly timed\, and full of the kind of wisdom that sneaks up on you mid-laugh. Her material draws from everyday life\, family\, politics\, and the absurdity of modern existence\, all filtered through her uniquely Midwestern\, no-nonsense lens. \nThe Chicago Tribune wrote: “She has all but perfected the art of crafting and delivering a perfect joke.” Expect approximately 75–90 minutes of masterclass stand-up comedy from one of the most consistent performers in the business. \nTicket Information\nPrice Range: $35 – $65 (plus fees) \nOfficial tickets are available through the Carolina Theatre box office. Resale tickets are available via VividSeats. \nOfficial TicketsResale Tickets \nThis post contains affiliate links. We may earn a commission at no extra cost to you.
URL:https://comedycalendar.com/event/kathleen-madigan-flying-cats-marching-armadillos-tour-live-at-carolina-theatre-durham-nov/
LOCATION:Carolina Theatre – Durham\, 309 W Morgan St\, Durham\, NC\, 27701\, United States Of America
ATTACH;FMTTYPE=image/jpeg:https://prod3.agileticketing.net/images/user/car_5558/26KathleenMadigan_CTD_Showare_1200x628.jpg
GEO:35.9977171;-78.9029223
X-APPLE-STRUCTURED-LOCATION;VALUE=URI;X-ADDRESS=Carolina Theatre – Durham 309 W Morgan St Durham NC 27701 United States Of America;X-APPLE-RADIUS=500;X-TITLE=309 W Morgan St:geo:-78.9029223,35.9977171
END:VEVENT
BEGIN:VEVENT
DTSTART;TZID=America/New_York:20261114T190000
DTEND;TZID=America/New_York:20261114T213000
DTSTAMP:20260423T051440
CREATED:20260322T020000Z
LAST-MODIFIED:20260408T184533Z
UID:10003787-1794682800-1794691800@comedycalendar.com
SUMMARY:Kathleen Madigan: Flying Cats & Marching Armadillos Tour LIVE at Carolina Theatre - Durham (Saturday)
DESCRIPTION:Official TicketsResale Tickets \nThis post contains affiliate links. We may earn a commission at no extra cost to you. \nAbout the Performer\nKathleen Madigan is one of the most successful and beloved stand-up comedians in America. Over three decades into her career\, she has built a touring empire without the benefit of a major TV show or movie role — just pure\, relentless dedication to the craft of stand-up comedy. Coming from a long line of Midwestern union workers\, Madigan has always approached comedy as a job\, and the results speak for themselves. \nShe has released six stand-up specials\, including Hunting Bigfoot on Amazon Prime (winner of the Interrobang’s 2023 Comedy Special of the Year)\, and Bothering Jesus on Netflix\, which became the highest-selling comedy album and most-played comedy special on streaming services since 2015. She has appeared on over 40 late-night and daytime talk shows and was featured on Comedians in Cars Getting Coffee with Jerry Seinfeld. \nJerry Seinfeld himself has said: “She’s small\, practical and fun. She makes a lot of sense but not too much sense. Just enough to be hilarious.” Ron White adds: “There’s nobody better than Maddy. She’s not just one of the best female comics\, she’s one of the best comics period.” \nEvent Details\nDate: Saturday\, November 14\, 2026 \nShow Time: 7:00 PM EST \nVenue: Fletcher Hall at Carolina Theatre of Durham \nAddress: 309 W Morgan St\, Durham\, NC 27701 \nNote: A Friday night show is also available on November 13 at 7:00 PM. \nAbout the Venue\nThe Carolina Theatre of Durham is a beautifully restored 1926 landmark in the heart of downtown Durham. Fletcher Hall seats approximately 1\,000 guests and is known for its warm acoustics\, classic proscenium stage\, and intimate atmosphere that makes every seat feel close to the action. \nThe venue is surrounded by Durham’s vibrant dining and nightlife scene. Parking is available on nearby streets and in downtown garages. The Carolina Theatre is easily accessible from I-85 and US-15/501\, and the historic building itself is part of the experience. \nWhat to Expect\nKathleen Madigan delivers the kind of stand-up that feels effortless — sharp\, perfectly timed\, and full of the kind of wisdom that sneaks up on you mid-laugh. Her material draws from everyday life\, family\, politics\, and the absurdity of modern existence\, all filtered through her uniquely Midwestern\, no-nonsense lens. \nThe Chicago Tribune wrote: “She has all but perfected the art of crafting and delivering a perfect joke.” Expect approximately 75–90 minutes of masterclass stand-up comedy from one of the most consistent performers in the business. \nTicket Information\nPrice Range: $35 – $65 (plus fees) \nOfficial tickets are available through the Carolina Theatre box office. Resale tickets are available via VividSeats. \nOfficial TicketsResale Tickets \nThis post contains affiliate links. We may earn a commission at no extra cost to you.
URL:https://comedycalendar.com/event/kathleen-madigan-flying-cats-marching-armadillos-tour-live-at-carolina-theatre-durham-sat/
LOCATION:Carolina Theatre – Durham\, 309 W Morgan St\, Durham\, NC\, 27701\, United States Of America
ATTACH;FMTTYPE=image/jpeg:https://prod3.agileticketing.net/images/user/car_5558/26KathleenMadigan_CTD_Showare_1200x628.jpg
GEO:35.9977171;-78.9029223
X-APPLE-STRUCTURED-LOCATION;VALUE=URI;X-ADDRESS=Carolina Theatre – Durham 309 W Morgan St Durham NC 27701 United States Of America;X-APPLE-RADIUS=500;X-TITLE=309 W Morgan St:geo:-78.9029223,35.9977171
END:VEVENT
END:VCALENDAR