BEGIN:VCALENDAR
VERSION:2.0
PRODID:-//Find Upcoming Comedy Shows Near You | Comedy Calendar - ECPv6.15.20//NONSGML v1.0//EN
CALSCALE:GREGORIAN
METHOD:PUBLISH
X-WR-CALNAME:Find Upcoming Comedy Shows Near You | Comedy Calendar
X-ORIGINAL-URL:https://comedycalendar.com
X-WR-CALDESC:Events for Find Upcoming Comedy Shows Near You | Comedy Calendar
REFRESH-INTERVAL;VALUE=DURATION:PT1H
X-Robots-Tag:noindex
X-PUBLISHED-TTL:PT1H
BEGIN:VTIMEZONE
TZID:America/Los_Angeles
BEGIN:DAYLIGHT
TZOFFSETFROM:-0800
TZOFFSETTO:-0700
TZNAME:PDT
DTSTART:20250309T100000
END:DAYLIGHT
BEGIN:STANDARD
TZOFFSETFROM:-0700
TZOFFSETTO:-0800
TZNAME:PST
DTSTART:20251102T090000
END:STANDARD
BEGIN:DAYLIGHT
TZOFFSETFROM:-0800
TZOFFSETTO:-0700
TZNAME:PDT
DTSTART:20260308T100000
END:DAYLIGHT
BEGIN:STANDARD
TZOFFSETFROM:-0700
TZOFFSETTO:-0800
TZNAME:PST
DTSTART:20261101T090000
END:STANDARD
BEGIN:DAYLIGHT
TZOFFSETFROM:-0800
TZOFFSETTO:-0700
TZNAME:PDT
DTSTART:20270314T100000
END:DAYLIGHT
BEGIN:STANDARD
TZOFFSETFROM:-0700
TZOFFSETTO:-0800
TZNAME:PST
DTSTART:20271107T090000
END:STANDARD
END:VTIMEZONE
BEGIN:VEVENT
DTSTART;TZID=America/Los_Angeles:20260521T193000
DTEND;TZID=America/Los_Angeles:20260521T213000
DTSTAMP:20260424T012224
CREATED:20260313T230000Z
LAST-MODIFIED:20260319T172617Z
UID:10002861-1779391800-1779399000@comedycalendar.com
SUMMARY:Shane Todd: Hold Me Back LIVE at Cobb's Comedy Club
DESCRIPTION:Official TicketsResale Tickets \nAbout the Performer\nShane Todd is a stand-up comedian known for his sharp wit\, clever storytelling\, and engaging stage presence. With a comedic style that blends relatable observations with personal humor\, Shane has built a devoted following through his live performances and his growing reputation as one of the most exciting voices in contemporary stand-up comedy. \nHold Me Back is Shane Todd’s latest stand-up show — a polished\, hilarious hour of comedy that showcases his best material and his ability to connect with audiences of all kinds. This multi-night run at Cobb’s Comedy Club is a must-see for comedy fans in San Francisco. \nEvent Details\n\nDate: Thursday\, May 21\, 2026\nTime: 7:30 PM\nVenue: Cobb’s Comedy Club\, 915 Columbus Avenue\, San Francisco\, CA 94133\nTicket Price Range: $35 – $70\n\nAbout the Venue\nCobb’s Comedy Club is one of San Francisco’s most iconic comedy venues\, located in the North Beach neighborhood at 915 Columbus Avenue. With a capacity of approximately 400 guests\, Cobb’s offers an intimate yet lively atmosphere that puts every seat close to the action. \nThe venue features a full bar and food service\, comfortable seating\, and excellent sightlines. Street parking is available nearby and the venue is easily accessible via public transit. \nWhat to Expect\nShane Todd’s Hold Me Back is a sharp\, engaging evening of stand-up comedy. Expect clever observations\, relatable storytelling\, and the kind of polished\, original performance that makes you an instant fan. Arrive early to grab a drink and get a great seat at this intimate North Beach comedy club. \nTicket Information\nPrice Range: $35 – $70 \nTickets are available now. Don’t miss Shane Todd live at Cobb’s Comedy Club! \nOfficial TicketsResale Tickets \nThis post contains affiliate links. We may earn a commission at no extra cost to you.
URL:https://comedycalendar.com/event/shane-todd-hold-me-back-live-at-cobbs-comedy-club/
LOCATION:Cobb’s Comedy Club\, 915 Columbus Avenue\, San Francisco\, California\, 94133\, United States Of America
CATEGORIES:Stand Up Comedy
ATTACH;FMTTYPE=image/jpeg:https://s1.ticketm.net/dam/a/7b7/99698715-752c-46b3-9de6-62006cb907b7_EVENT_DETAIL_PAGE_16_9.jpg
GEO:37.8029543;-122.4143041
X-APPLE-STRUCTURED-LOCATION;VALUE=URI;X-ADDRESS=Cobb’s Comedy Club 915 Columbus Avenue San Francisco California 94133 United States Of America;X-APPLE-RADIUS=500;X-TITLE=915 Columbus Avenue:geo:-122.4143041,37.8029543
END:VEVENT
BEGIN:VEVENT
DTSTART;TZID=America/Los_Angeles:20260522T193000
DTEND;TZID=America/Los_Angeles:20260522T220000
DTSTAMP:20260424T012224
CREATED:20260308T050000Z
LAST-MODIFIED:20260404T201938Z
UID:10002620-1779478200-1779487200@comedycalendar.com
SUMMARY:Shane Todd: Hold Me Back LIVE at Hollywood Improv (The Lab)
DESCRIPTION:Official TicketsResale Tickets \nIrish comedian Shane Todd brings his brand new show Hold Me Back to the Hollywood Improv (The Lab) on May 22\, 2026 — one night only in Los Angeles. \nHailing from Holywood\, Northern Ireland\, Shane Todd has completed three world tours\, sold out Belfast’s Grand Opera House for a record 24-night run\, and served as the resident opener for Kevin Hart’s 24-date European tour. He’s also performed alongside Bill Burr\, John Mulaney\, and Theo Von. His BBC sketch show Chancers and podcast Tea With Me have built him a massive international following. \nAbout Hollywood Improv (The Lab)\nThe Hollywood Improv (The Lab) is the intimate sister stage of the legendary Hollywood Improv\, located at 8162 Melrose Avenue in Hollywood\, CA. It’s the perfect setting for an up-close\, personal comedy experience with some of the best touring comedians in the world. \nDoors open at 7:00 PM — arrive early for the best seats in this cozy\, intimate room. \nWhat to Expect\n\nSharp\, high-energy stand-up from one of Ireland’s biggest comedy exports\nIntimate club setting — every seat is a great seat\n21+ event — valid ID required at the door\nTwo-item minimum purchase per person in the showroom\nDoors open at 7:00 PM\n\nEvent Details\n\nDate: Friday\, May 22\, 2026\nTime: 7:30 PM PDT (Doors: 7:00 PM)\nVenue: Hollywood Improv (The Lab)\, 8162 Melrose Ave\, Hollywood\, CA 90046\nAge Restriction: 21+\nTour: Hold Me Back\n\nTickets\nPrice: $20 + fees \nOfficial TicketsResale Tickets \nThis post contains affiliate links. We may earn a commission at no extra cost to you.
URL:https://comedycalendar.com/event/shane-todd-hold-me-back-live-at-hollywood-improv-the-lab/
LOCATION:Hollywood Improv (The Lab)\, 8162 Melrose Avenue\, Hollywood\, CA\, 90046\, United States
CATEGORIES:Stand Up Comedy
ATTACH;FMTTYPE=image/jpeg:https://i.ticketweb.com/i/00/13/35/20/63_Edp.jpg?v=4
GEO:34.0834521;-118.3673737
X-APPLE-STRUCTURED-LOCATION;VALUE=URI;X-ADDRESS=Hollywood Improv (The Lab) 8162 Melrose Avenue Hollywood CA 90046 United States;X-APPLE-RADIUS=500;X-TITLE=8162 Melrose Avenue:geo:-118.3673737,34.0834521
END:VEVENT
END:VCALENDAR