BEGIN:VCALENDAR
VERSION:2.0
PRODID:-//Find Upcoming Comedy Shows Near You | Comedy Calendar - ECPv6.15.20//NONSGML v1.0//EN
CALSCALE:GREGORIAN
METHOD:PUBLISH
X-ORIGINAL-URL:https://comedycalendar.com
X-WR-CALDESC:Events for Find Upcoming Comedy Shows Near You | Comedy Calendar
REFRESH-INTERVAL;VALUE=DURATION:PT1H
X-Robots-Tag:noindex
X-PUBLISHED-TTL:PT1H
BEGIN:VTIMEZONE
TZID:America/Los_Angeles
BEGIN:DAYLIGHT
TZOFFSETFROM:-0800
TZOFFSETTO:-0700
TZNAME:PDT
DTSTART:20250309T100000
END:DAYLIGHT
BEGIN:STANDARD
TZOFFSETFROM:-0700
TZOFFSETTO:-0800
TZNAME:PST
DTSTART:20251102T090000
END:STANDARD
BEGIN:DAYLIGHT
TZOFFSETFROM:-0800
TZOFFSETTO:-0700
TZNAME:PDT
DTSTART:20260308T100000
END:DAYLIGHT
BEGIN:STANDARD
TZOFFSETFROM:-0700
TZOFFSETTO:-0800
TZNAME:PST
DTSTART:20261101T090000
END:STANDARD
BEGIN:DAYLIGHT
TZOFFSETFROM:-0800
TZOFFSETTO:-0700
TZNAME:PDT
DTSTART:20270314T100000
END:DAYLIGHT
BEGIN:STANDARD
TZOFFSETFROM:-0700
TZOFFSETTO:-0800
TZNAME:PST
DTSTART:20271107T090000
END:STANDARD
END:VTIMEZONE
BEGIN:VTIMEZONE
TZID:America/New_York
BEGIN:DAYLIGHT
TZOFFSETFROM:-0500
TZOFFSETTO:-0400
TZNAME:EDT
DTSTART:20250309T070000
END:DAYLIGHT
BEGIN:STANDARD
TZOFFSETFROM:-0400
TZOFFSETTO:-0500
TZNAME:EST
DTSTART:20251102T060000
END:STANDARD
BEGIN:DAYLIGHT
TZOFFSETFROM:-0500
TZOFFSETTO:-0400
TZNAME:EDT
DTSTART:20260308T070000
END:DAYLIGHT
BEGIN:STANDARD
TZOFFSETFROM:-0400
TZOFFSETTO:-0500
TZNAME:EST
DTSTART:20261101T060000
END:STANDARD
BEGIN:DAYLIGHT
TZOFFSETFROM:-0500
TZOFFSETTO:-0400
TZNAME:EDT
DTSTART:20270314T070000
END:DAYLIGHT
BEGIN:STANDARD
TZOFFSETFROM:-0400
TZOFFSETTO:-0500
TZNAME:EST
DTSTART:20271107T060000
END:STANDARD
END:VTIMEZONE
BEGIN:VEVENT
DTSTART;TZID=America/Los_Angeles:20260501T200000
DTEND;TZID=America/Los_Angeles:20260501T220000
DTSTAMP:20260422T183651
CREATED:20260321T050000Z
LAST-MODIFIED:20260321T050000Z
UID:10003555-1777665600-1777672800@comedycalendar.com
SUMMARY:Atsuko Okatsuka: The Big Bowl Tour LIVE at Balboa Theatre
DESCRIPTION:Official TicketsResale Tickets \nThis post contains affiliate links. We may earn a commission at no extra cost to you. \nAbout Atsuko Okatsuka\nAtsuko Okatsuka is an award-winning comedian and actress making waves across the globe with her one-of-a-kind humor\, boundless energy\, and infectious charm. Her highly anticipated second stand-up special\, FATHER\, recently premiered on Hulu and internationally on Disney+\, quickly occupying the top ten on the streamer and generating multiple viral clips. \nHer previous special THE INTRUDER (HBO) won a Gracie Award for “Best Comedy Special\,” was called the “Best Debut Special of 2022” by The New York Times\, and was named one of the “Best Specials of 2022” by both Vulture and Variety. Atsuko’s unique style blends joy with vulnerability and unforgettable storytelling\, captivating audiences worldwide. \nHer 2024–2025 FULL GROWN tour was a massive success\, selling out over 200 shows in more than 100 cities across 20+ countries. Clips from THE INTRUDER have racked up over 100 million views online. Variety named her one of the “10 Comics to Watch” in 2022\, and she’s appeared in History of the World Pt. II (Hulu)\, Room 104 (HBO)\, and will make her Pixar debut in the upcoming film ELIO (Disney). \nEvent Details\n\nDate: Friday\, May 1\, 2026\nTime: 8:00 PM\nVenue: Balboa Theatre\, 868 Fourth Ave\, San Diego\, CA 92101\nAge Restrictions: All ages welcome (check venue for specifics)\n\nAbout the Venue\nThe Balboa Theatre is one of San Diego’s most beloved and historic performance venues\, located in the heart of downtown at 868 Fourth Avenue. Originally opened in 1924\, this stunning Spanish Renaissance-style theater has been beautifully restored and seats approximately 1\,300 guests. \nThe venue features excellent sightlines from every seat\, superb acoustics\, and an intimate atmosphere that makes it perfect for stand-up comedy. The ornate interior — complete with a stunning ceiling and elegant balcony — creates a truly special backdrop for live performances. Parking is available in nearby downtown garages\, and the venue is easily accessible via public transit. \nWhat to Expect\nAtsuko Okatsuka’s The Big Bowl Tour is a full-length stand-up comedy show featuring her signature blend of physical comedy\, heartfelt storytelling\, and laugh-out-loud observations about life\, family\, and identity. Fans can expect an energetic\, high-octane performance that has been selling out theaters across the country. \nKnown for her iconic bowl cut and infectious stage presence\, Atsuko delivers a show that is both hilarious and deeply personal. Whether you’re a longtime fan or discovering her for the first time\, this is a must-see comedy event in San Diego this spring. \nTicket Information\nTickets start from $72. Purchase official tickets through Ticketmaster or find resale tickets through VividSeats. \nOfficial TicketsResale Tickets
URL:https://comedycalendar.com/event/atsuko-okatsuka-the-big-bowl-tour-live-at-balboa-theatre-may-one/
LOCATION:Balboa Theatre\, 868 Fourth Avenue\, San Diego\, CA\, 92101\, USA
ATTACH;FMTTYPE=image/jpeg:https://comedycalendar.com/wp-content/uploads/2026/03/13e23705-c0de-4181-bcbe-4b6034377b13_RETINA_PORTRAIT_3_2-kjq8xd.jpg
GEO:32.7143416;-117.1613167
X-APPLE-STRUCTURED-LOCATION;VALUE=URI;X-ADDRESS=Balboa Theatre 868 Fourth Avenue San Diego CA 92101 USA;X-APPLE-RADIUS=500;X-TITLE=868 Fourth Avenue:geo:-117.1613167,32.7143416
END:VEVENT
BEGIN:VEVENT
DTSTART;TZID=America/Los_Angeles:20260502T190000
DTEND;TZID=America/Los_Angeles:20260502T210000
DTSTAMP:20260422T183651
CREATED:20260321T050000Z
LAST-MODIFIED:20260321T050000Z
UID:10003556-1777748400-1777755600@comedycalendar.com
SUMMARY:Atsuko Okatsuka: The Big Bowl Tour LIVE at Balboa Theatre
DESCRIPTION:Official TicketsResale Tickets \nThis post contains affiliate links. We may earn a commission at no extra cost to you. \nAbout Atsuko Okatsuka\nAtsuko Okatsuka is an award-winning comedian and actress making waves across the globe with her one-of-a-kind humor\, boundless energy\, and infectious charm. Her highly anticipated second stand-up special\, FATHER\, recently premiered on Hulu and internationally on Disney+\, quickly occupying the top ten on the streamer and generating multiple viral clips. \nHer previous special THE INTRUDER (HBO) won a Gracie Award for “Best Comedy Special\,” was called the “Best Debut Special of 2022” by The New York Times\, and was named one of the “Best Specials of 2022” by both Vulture and Variety. Atsuko’s unique style blends joy with vulnerability and unforgettable storytelling\, captivating audiences worldwide. \nHer 2024–2025 FULL GROWN tour was a massive success\, selling out over 200 shows in more than 100 cities across 20+ countries. Clips from THE INTRUDER have racked up over 100 million views online. Variety named her one of the “10 Comics to Watch” in 2022\, and she’s appeared in History of the World Pt. II (Hulu)\, Room 104 (HBO)\, and will make her Pixar debut in the upcoming film ELIO (Disney). \nEvent Details\n\nDate: Saturday\, May 2\, 2026\nTime: 7:00 PM (Early Show)\nVenue: Balboa Theatre\, 868 Fourth Ave\, San Diego\, CA 92101\nAge Restrictions: All ages welcome (check venue for specifics)\n\nAbout the Venue\nThe Balboa Theatre is one of San Diego’s most beloved and historic performance venues\, located in the heart of downtown at 868 Fourth Avenue. Originally opened in 1924\, this stunning Spanish Renaissance-style theater has been beautifully restored and seats approximately 1\,300 guests. \nThe venue features excellent sightlines from every seat\, superb acoustics\, and an intimate atmosphere that makes it perfect for stand-up comedy. The ornate interior — complete with a stunning ceiling and elegant balcony — creates a truly special backdrop for live performances. Parking is available in nearby downtown garages\, and the venue is easily accessible via public transit. \nWhat to Expect\nAtsuko Okatsuka’s The Big Bowl Tour is a full-length stand-up comedy show featuring her signature blend of physical comedy\, heartfelt storytelling\, and laugh-out-loud observations about life\, family\, and identity. Fans can expect an energetic\, high-octane performance that has been selling out theaters across the country. \nKnown for her iconic bowl cut and infectious stage presence\, Atsuko delivers a show that is both hilarious and deeply personal. Due to overwhelming demand\, a second show was added on May 2 — this is the early 7:00 PM performance. Whether you’re a longtime fan or discovering her for the first time\, this is a must-see comedy event in San Diego this spring. \nTicket Information\nTickets start from $72. Purchase official tickets through Ticketmaster or find resale tickets through VividSeats. \nOfficial TicketsResale Tickets
URL:https://comedycalendar.com/event/atsuko-okatsuka-the-big-bowl-tour-live-at-balboa-theatre-may-two-early/
LOCATION:Balboa Theatre\, 868 Fourth Avenue\, San Diego\, CA\, 92101\, USA
ATTACH;FMTTYPE=image/jpeg:https://comedycalendar.com/wp-content/uploads/2026/03/13e23705-c0de-4181-bcbe-4b6034377b13_RETINA_PORTRAIT_3_2-kjq8xd.jpg
GEO:32.7143416;-117.1613167
X-APPLE-STRUCTURED-LOCATION;VALUE=URI;X-ADDRESS=Balboa Theatre 868 Fourth Avenue San Diego CA 92101 USA;X-APPLE-RADIUS=500;X-TITLE=868 Fourth Avenue:geo:-117.1613167,32.7143416
END:VEVENT
BEGIN:VEVENT
DTSTART;TZID=America/New_York:20260515T200000
DTEND;TZID=America/New_York:20260515T220000
DTSTAMP:20260422T183651
CREATED:20260320T230000Z
LAST-MODIFIED:20260321T235804Z
UID:10003645-1778875200-1778882400@comedycalendar.com
SUMMARY:Mo Amer LIVE at The Colosseum at Caesars Windsor
DESCRIPTION:This post contains affiliate links. We earn a commission if you purchase tickets through our links at no extra cost to you. \nOfficial Tickets\nResale Tickets \nMo Amer LIVE at The Colosseum at Caesars Windsor\nNetflix sensation and acclaimed stand-up comedian Mo Amer brings his hilarious and heartfelt comedy to The Colosseum at Caesars Windsor\, just across the river from Detroit. Known for his unique perspective as a Palestinian-American comedian\, Mo Amer delivers comedy that is both deeply personal and universally funny. \nEvent Details\nDate: Friday\, May 15\, 2026\nTime: 8:00 PM\nVenue: The Colosseum at Caesars Windsor\nAddress: 377 Riverside Drive East\, Windsor\, ON\, Canada\nAge Requirement: All ages welcome\nNote: Valid passport or travel document required for border crossing \nAbout Mo Amer\nMo Amer is a critically acclaimed stand-up comedian and actor best known for his Netflix specials and the Netflix series “Mo\,” which he co-created and stars in. Born in Kuwait to Palestinian parents and raised in Houston\, Texas\, Mo Amer brings a unique multicultural perspective to his comedy that has earned him fans worldwide and critical acclaim from The New York Times and beyond. \nWhat to Expect\n\nAcclaimed stand-up comedy from a Netflix star\nHilarious and heartfelt storytelling\nUnique multicultural perspective and sharp wit\nAn intimate casino showroom experience\nCasino dining and entertainment before the show\nEasy access from Detroit via the Ambassador Bridge or tunnel\n\nVenue Information\nThe Colosseum at Caesars Windsor is a world-class entertainment venue located at 377 Riverside Drive East in Windsor\, Ontario\, Canada\, directly across the Detroit River from downtown Detroit. The venue offers excellent sightlines and top-tier production quality. \nTicket Information\nTickets from $59 CAD. Available via Ticketmaster (official) or VividSeats (resale). Valid travel documents required for border crossing. \nOfficial Tickets\nResale Tickets \nThis post contains affiliate links. We earn a commission if you purchase tickets through our links at no extra cost to you.\nAll sales are final. Show times subject to change. Valid photo ID may be required for entry.
URL:https://comedycalendar.com/event/mo-amer-live-at-the-colosseum-at-caesars-windsor/
LOCATION:The Colosseum at Caesars Windsor\, 377 Riverside Dr E\, Windsor\, ON\, N9A 7H7\, Canada
CATEGORIES:Stand Up Comedy
ATTACH;FMTTYPE=image/jpeg:https://comedycalendar.com/wp-content/uploads/2026/03/e2afafee-20b2-4067-b289-cb171ea40407_TABLET_LANDSCAPE_LARGE_16_9-0TaHQ3.jpg
GEO:42.3200781;-83.0336202
X-APPLE-STRUCTURED-LOCATION;VALUE=URI;X-ADDRESS=The Colosseum at Caesars Windsor 377 Riverside Dr E Windsor ON N9A 7H7 Canada;X-APPLE-RADIUS=500;X-TITLE=377 Riverside Dr E:geo:-83.0336202,42.3200781
END:VEVENT
BEGIN:VEVENT
DTSTART;TZID=America/New_York:20260619T190000
DTEND;TZID=America/New_York:20260619T210000
DTSTAMP:20260422T183651
CREATED:20260305T010000Z
LAST-MODIFIED:20260305T010000Z
UID:10002528-1781895600-1781902800@comedycalendar.com
SUMMARY:Chris Gethard LIVE at The Vogel at Count Basie Center for the Arts
DESCRIPTION:This post contains affiliate links. We may earn a commission at no extra cost to you. \nOfficial Tickets \nChris Gethard Live at The Vogel\nChris Gethard brings his stand-up comedy to The Vogel at Count Basie Center for the Arts in Red Bank\, NJ. Known for his deeply personal\, confessional style of comedy\, Chris delivers a night of honest\, hilarious\, and heartfelt storytelling. \nEvent Details\n\nDate: Friday\, June 19\, 2026\nShow: 7:00 PM\nVenue: The Vogel at Count Basie Center for the Arts\nAddress: 99 Monmouth Street\, Red Bank\, NJ 07701\n\nAbout Chris Gethard\nChris Gethard is a comedian\, actor\, and writer best known for The Chris Gethard Show\, his one-man Broadway show Career Suicide (which became an HBO special)\, and his appearances on Broad City\, The Office\, and Louie. His comedy is known for its raw honesty\, vulnerability\, and unique perspective on mental health and everyday life. \nWhat to Expect\nExpect an intimate\, personal\, and laugh-out-loud funny evening of stand-up comedy. Chris Gethard’s shows are known for their authenticity and the deep connection he builds with his audience. \nVenue Information\nThe Vogel is an intimate 350-seat theater at the Count Basie Center for the Arts in Red Bank\, NJ. It’s the perfect setting for an up-close comedy experience. Tickets can be picked up at Will Call with a valid ID beginning 2 hours prior to show time. \nTicket Information\nTickets available via Ticketmaster. Ticket limit: 8 per person. \nOfficial Tickets \nDisclaimer: Ticket prices and availability are subject to change. This post contains affiliate links.
URL:https://comedycalendar.com/event/chris-gethard-live-at-the-vogel-at-count-basie-center-for-the-arts/
LOCATION:The Vogel at Count Basie Center for the Arts\, 99 Monmouth Street\, Red Bank\, NJ\, 7701\, USA
ATTACH;FMTTYPE=image/jpeg:https://comedycalendar.com/wp-content/uploads/2026/03/49aabcf0-2147-483b-a542-8950925b9eec_1355961_TABLET_LANDSCAPE_LARGE_16_9-WTcbkP.jpg
GEO:40.348875;-74.0701484
X-APPLE-STRUCTURED-LOCATION;VALUE=URI;X-ADDRESS=The Vogel at Count Basie Center for the Arts 99 Monmouth Street Red Bank NJ 7701 USA;X-APPLE-RADIUS=500;X-TITLE=99 Monmouth Street:geo:-74.0701484,40.348875
END:VEVENT
END:VCALENDAR