BEGIN:VCALENDAR
VERSION:2.0
PRODID:-//Find Upcoming Comedy Shows Near You | Comedy Calendar - ECPv6.15.20//NONSGML v1.0//EN
CALSCALE:GREGORIAN
METHOD:PUBLISH
X-ORIGINAL-URL:https://comedycalendar.com
X-WR-CALDESC:Events for Find Upcoming Comedy Shows Near You | Comedy Calendar
REFRESH-INTERVAL;VALUE=DURATION:PT1H
X-Robots-Tag:noindex
X-PUBLISHED-TTL:PT1H
BEGIN:VTIMEZONE
TZID:America/Indiana/Indianapolis
BEGIN:DAYLIGHT
TZOFFSETFROM:-0500
TZOFFSETTO:-0400
TZNAME:EDT
DTSTART:20250309T070000
END:DAYLIGHT
BEGIN:STANDARD
TZOFFSETFROM:-0400
TZOFFSETTO:-0500
TZNAME:EST
DTSTART:20251102T060000
END:STANDARD
BEGIN:DAYLIGHT
TZOFFSETFROM:-0500
TZOFFSETTO:-0400
TZNAME:EDT
DTSTART:20260308T070000
END:DAYLIGHT
BEGIN:STANDARD
TZOFFSETFROM:-0400
TZOFFSETTO:-0500
TZNAME:EST
DTSTART:20261101T060000
END:STANDARD
BEGIN:DAYLIGHT
TZOFFSETFROM:-0500
TZOFFSETTO:-0400
TZNAME:EDT
DTSTART:20270314T070000
END:DAYLIGHT
BEGIN:STANDARD
TZOFFSETFROM:-0400
TZOFFSETTO:-0500
TZNAME:EST
DTSTART:20271107T060000
END:STANDARD
END:VTIMEZONE
BEGIN:VEVENT
DTSTART;TZID=America/Indiana/Indianapolis:20260328T190000
DTEND;TZID=America/Indiana/Indianapolis:20260328T220000
DTSTAMP:20260421T162425
CREATED:20260322T040000Z
LAST-MODIFIED:20260327T011052Z
UID:10004095-1774724400-1774735200@comedycalendar.com
SUMMARY:Jim Breuer: Find The Funny LIVE at Old National Centre
DESCRIPTION:Official TicketsResale Tickets \nAbout the Performer\nJim Breuer is a veteran stand-up comedian and actor best known for his iconic role as Goat Boy on Saturday Night Live and his breakout performance in the cult classic film Half Baked. With over three decades in comedy\, Breuer has built a devoted fanbase through his high-energy performances\, spot-on celebrity impressions\, and hilarious family-based storytelling. \nKnown for his infectious laugh and relatable humor\, Jim Breuer has toured extensively across North America\, releasing multiple stand-up specials and albums. His comedy draws from real-life experiences — raising three daughters\, navigating faith\, and finding the funny in everyday chaos. \nOn the Find The Funny tour\, Breuer is joined by opener Bryan McKenna for a night of non-stop laughs at the Egyptian Room at Old National Centre. \nEvent Details\n\nDate: Saturday\, March 28\, 2026\nTime: 7:00 PM ET\nVenue: Egyptian Room at Old National Centre\, 502 N. New Jersey St.\, Indianapolis\, IN 46204\nOpener: Bryan McKenna\nDoors Open: Approximately 6:00 PM\n\nAbout the Venue\nOld National Centre is a premier entertainment complex in downtown Indianapolis\, home to the Egyptian Room — an ornately decorated\, intimate venue with a capacity of approximately 1\,700. The space offers excellent sightlines\, a full bar\, and a vibrant atmosphere perfect for live comedy. \nThe venue offers VIP club access\, coat check\, fast lane entry\, and reserved parking add-ons. Located at 502 N. New Jersey Street\, it is easily accessible from downtown hotels and restaurants\, with street parking and nearby garages available. \nWhat to Expect\nJim Breuer delivers a high-energy\, laugh-filled evening that blends storytelling\, impressions\, and crowd interaction. Expect a full stand-up set from Breuer preceded by an opening set from Bryan McKenna. The show runs approximately 90 minutes. \nArrive early to enjoy the venue’s bar and find your seats. This is a general admission standing floor show with reserved seating options available. \nTicket Information\nTickets range from approximately $39 – $99 (plus fees). Purchase official tickets through Ticketmaster or find resale tickets through VividSeats. \nOfficial TicketsResale Tickets \nThis post contains affiliate links. We may earn a commission at no extra cost to you.
URL:https://comedycalendar.com/event/jim-breuer-find-the-funny-live-at-old-national-centre/
LOCATION:Old National Centre\, 502 N. New Jersey\, Indianapolis\, IN\, 46204\, United States Of America
CATEGORIES:Stand Up Comedy
ATTACH;FMTTYPE=image/jpeg:https://comedycalendar.com/wp-content/uploads/2026/03/9d7ff4a2-2fb3-4b70-9ad6-b5b9a2518e0e_1392761_CUSTOM-jjRA5t.jpg
GEO:39.7743232;-86.1512778
X-APPLE-STRUCTURED-LOCATION;VALUE=URI;X-ADDRESS=Old National Centre 502 N. New Jersey Indianapolis IN 46204 United States Of America;X-APPLE-RADIUS=500;X-TITLE=502 N. New Jersey:geo:-86.1512778,39.7743232
END:VEVENT
END:VCALENDAR