BEGIN:VCALENDAR
VERSION:2.0
PRODID:-//Find Upcoming Comedy Shows Near You | Comedy Calendar - ECPv6.15.20//NONSGML v1.0//EN
CALSCALE:GREGORIAN
METHOD:PUBLISH
X-ORIGINAL-URL:https://comedycalendar.com
X-WR-CALDESC:Events for Find Upcoming Comedy Shows Near You | Comedy Calendar
REFRESH-INTERVAL;VALUE=DURATION:PT1H
X-Robots-Tag:noindex
X-PUBLISHED-TTL:PT1H
BEGIN:VTIMEZONE
TZID:America/New_York
BEGIN:DAYLIGHT
TZOFFSETFROM:-0500
TZOFFSETTO:-0400
TZNAME:EDT
DTSTART:20250309T070000
END:DAYLIGHT
BEGIN:STANDARD
TZOFFSETFROM:-0400
TZOFFSETTO:-0500
TZNAME:EST
DTSTART:20251102T060000
END:STANDARD
BEGIN:DAYLIGHT
TZOFFSETFROM:-0500
TZOFFSETTO:-0400
TZNAME:EDT
DTSTART:20260308T070000
END:DAYLIGHT
BEGIN:STANDARD
TZOFFSETFROM:-0400
TZOFFSETTO:-0500
TZNAME:EST
DTSTART:20261101T060000
END:STANDARD
BEGIN:DAYLIGHT
TZOFFSETFROM:-0500
TZOFFSETTO:-0400
TZNAME:EDT
DTSTART:20270314T070000
END:DAYLIGHT
BEGIN:STANDARD
TZOFFSETFROM:-0400
TZOFFSETTO:-0500
TZNAME:EST
DTSTART:20271107T060000
END:STANDARD
END:VTIMEZONE
BEGIN:VEVENT
DTSTART;TZID=America/New_York:20260529T190000
DTEND;TZID=America/New_York:20260529T204500
DTSTAMP:20260423T222426
CREATED:20260316T190000Z
LAST-MODIFIED:20260316T190000Z
UID:10003131-1780081200-1780087500@comedycalendar.com
SUMMARY:Marcella Arguello LIVE at Punch Line Irving
DESCRIPTION:Official TicketsResale Tickets \nThis post contains affiliate links. We may earn a commission at no extra cost to you. \nAbout the Performer\nMarcella Arguello is a stand-up comedian\, writer\, and actress known for her sharp\, feminist humor and unapologetic comedic voice. She has written for shows including The Unicorn and has performed on stages across the country\, building a devoted fanbase through her bold and hilarious stand-up. \nHer Friday night show at Punch Line Irving is a must-see for comedy fans in the DFW area looking for smart\, fearless comedy. \nEvent Details\nDate: Friday\, May 29\, 2026 \nTime: 7:00 PM \nVenue: Punch Line Irving\, 310 W Las Colinas Blvd.\, Suite 130\, Irving\, TX 75039 \nTicket Price Range: $25 – $55 \nAge Restriction: 18+ with valid ID \nAbout the Venue\nPunch Line Irving is the DFW area’s premier comedy club in the Las Colinas entertainment district. Full bar\, table service\, and an intimate layout. Friday nights here are always electric. Located at 310 W Las Colinas Blvd.\, Suite 130\, with parking available nearby. \nWhat to Expect\nMarcella Arguello delivers a full headlining stand-up set with sharp wit and fearless humor. An opening act warms up the crowd before Marcella takes the stage. Doors open one hour before showtime. \nTicket Information\nTickets range from $25 to $55. Buy official tickets on Ticketmaster or find resale options on VividSeats. \nOfficial TicketsResale Tickets
URL:https://comedycalendar.com/event/marcella-arguello-live-at-punch-line-irving-fri/
LOCATION:Punch Line Irving\, 310 W Las Colinas Blvd.\, Suite 130\, Irving\, TX\, 75039\, United States Of America
ATTACH;FMTTYPE=image/jpeg:https://media.ticketmaster.com/en-us/dam/a/ae3/0128e61b-d431-4b86-bab4-8fa62aaf9ae3_CUSTOM.jpg
GEO:32.8734455;-96.9445654
X-APPLE-STRUCTURED-LOCATION;VALUE=URI;X-ADDRESS=Punch Line Irving 310 W Las Colinas Blvd. Suite 130 Irving TX 75039 United States Of America;X-APPLE-RADIUS=500;X-TITLE=310 W Las Colinas Blvd.\, Suite 130:geo:-96.9445654,32.8734455
END:VEVENT
END:VCALENDAR