BEGIN:VCALENDAR
VERSION:2.0
PRODID:-//Find Upcoming Comedy Shows Near You | Comedy Calendar - ECPv6.15.20//NONSGML v1.0//EN
CALSCALE:GREGORIAN
METHOD:PUBLISH
X-ORIGINAL-URL:https://comedycalendar.com
X-WR-CALDESC:Events for Find Upcoming Comedy Shows Near You | Comedy Calendar
REFRESH-INTERVAL;VALUE=DURATION:PT1H
X-Robots-Tag:noindex
X-PUBLISHED-TTL:PT1H
BEGIN:VTIMEZONE
TZID:America/Chicago
BEGIN:DAYLIGHT
TZOFFSETFROM:-0600
TZOFFSETTO:-0500
TZNAME:CDT
DTSTART:20250309T080000
END:DAYLIGHT
BEGIN:STANDARD
TZOFFSETFROM:-0500
TZOFFSETTO:-0600
TZNAME:CST
DTSTART:20251102T070000
END:STANDARD
BEGIN:DAYLIGHT
TZOFFSETFROM:-0600
TZOFFSETTO:-0500
TZNAME:CDT
DTSTART:20260308T080000
END:DAYLIGHT
BEGIN:STANDARD
TZOFFSETFROM:-0500
TZOFFSETTO:-0600
TZNAME:CST
DTSTART:20261101T070000
END:STANDARD
BEGIN:DAYLIGHT
TZOFFSETFROM:-0600
TZOFFSETTO:-0500
TZNAME:CDT
DTSTART:20270314T080000
END:DAYLIGHT
BEGIN:STANDARD
TZOFFSETFROM:-0500
TZOFFSETTO:-0600
TZNAME:CST
DTSTART:20271107T070000
END:STANDARD
END:VTIMEZONE
BEGIN:VEVENT
DTSTART;TZID=America/Chicago:20260423T203000
DTEND;TZID=America/Chicago:20260423T230000
DTSTAMP:20260423T194004
CREATED:20260322T180000Z
LAST-MODIFIED:20260327T201806Z
UID:10004007-1776976200-1776985200@comedycalendar.com
SUMMARY:Iliza Shlesinger LIVE at Ameristar Casino Resort Spa St. Charles
DESCRIPTION:This post contains affiliate links. We earn a commission if you purchase tickets through our links at no extra cost to you. \nOfficial Tickets\nResale Tickets \nIliza Shlesinger LIVE at Ameristar Casino Resort Spa St. Charles\nAward-winning comedian Iliza Shlesinger brings her electrifying stand-up to the Ameristar Casino Resort Spa in St. Charles for a night of sharp\, hilarious comedy. The only female comedian to win Last Comic Standing\, Iliza is known for her high-energy performances\, razor-sharp wit\, and fearless humor that connects with audiences everywhere. \nEvent Details\nDate: Thursday\, April 23\, 2026\nTime: Show 8:30 PM\nVenue: Ameristar Casino Resort Spa St. Charles\nAddress: 1 Ameristar Blvd\, Saint Charles\, MO 63301\nAge Requirement: 21+ (Casino property)\nParking: Casino parking available \nAbout Iliza Shlesinger\nIliza Shlesinger is a comedian\, actress\, and author who won Last Comic Standing in 2008 and has since released six Netflix specials. Known for her bold\, unapologetic humor and her ability to connect deeply with female audiences\, Iliza is one of the most successful stand-up comedians working today. \nWhat to Expect\n\nHigh-energy stand-up from one of comedy’s biggest female stars\nSharp observations about relationships\, society\, and modern life\nFearless\, unapologetic humor that pushes boundaries\nAn intimate casino showroom experience in St. Charles\nA night of non-stop laughter you won’t forget\n\nVenue Information\nAmeristar Casino Resort Spa St. Charles is a premier entertainment destination located just outside St. Louis. The casino’s showroom offers an intimate and upscale setting for world-class live performances. \nTicket Information\nTickets start from $86. Available through Ticketmaster (official) or VividSeats (resale marketplace). Grab your seats before they’re gone! \nOfficial Tickets\nResale Tickets \nThis post contains affiliate links. We earn a commission if you purchase tickets through our links at no extra cost to you.\nAll sales are final. Show times subject to change. Valid photo ID may be required for entry.
URL:https://comedycalendar.com/event/iliza-shlesinger-live-at-ameristar-casino-resort-spa-st-charles/
LOCATION:Ameristar Casino Resort Spa St. Charles\, 1 Ameristar Blvd\, Saint Charles\, MO\, 63301\, United States
CATEGORIES:Headliner,Stand Up Comedy
ATTACH;FMTTYPE=image/jpeg:https://s1.ticketm.net/dam/a/a48/9049e0cd-cb62-45ad-82ad-7d8e22617a48_EVENT_DETAIL_PAGE_16_9.jpg
GEO:38.7678808;-90.4850407
X-APPLE-STRUCTURED-LOCATION;VALUE=URI;X-ADDRESS=Ameristar Casino Resort Spa St. Charles 1 Ameristar Blvd Saint Charles MO 63301 United States;X-APPLE-RADIUS=500;X-TITLE=1 Ameristar Blvd:geo:-90.4850407,38.7678808
END:VEVENT
END:VCALENDAR