BEGIN:VCALENDAR
VERSION:2.0
PRODID:-//Find Upcoming Comedy Shows Near You | Comedy Calendar - ECPv6.15.20//NONSGML v1.0//EN
CALSCALE:GREGORIAN
METHOD:PUBLISH
X-ORIGINAL-URL:https://comedycalendar.com
X-WR-CALDESC:Events for Find Upcoming Comedy Shows Near You | Comedy Calendar
REFRESH-INTERVAL;VALUE=DURATION:PT1H
X-Robots-Tag:noindex
X-PUBLISHED-TTL:PT1H
BEGIN:VTIMEZONE
TZID:America/Chicago
BEGIN:DAYLIGHT
TZOFFSETFROM:-0600
TZOFFSETTO:-0500
TZNAME:CDT
DTSTART:20250309T080000
END:DAYLIGHT
BEGIN:STANDARD
TZOFFSETFROM:-0500
TZOFFSETTO:-0600
TZNAME:CST
DTSTART:20251102T070000
END:STANDARD
BEGIN:DAYLIGHT
TZOFFSETFROM:-0600
TZOFFSETTO:-0500
TZNAME:CDT
DTSTART:20260308T080000
END:DAYLIGHT
BEGIN:STANDARD
TZOFFSETFROM:-0500
TZOFFSETTO:-0600
TZNAME:CST
DTSTART:20261101T070000
END:STANDARD
BEGIN:DAYLIGHT
TZOFFSETFROM:-0600
TZOFFSETTO:-0500
TZNAME:CDT
DTSTART:20270314T080000
END:DAYLIGHT
BEGIN:STANDARD
TZOFFSETFROM:-0500
TZOFFSETTO:-0600
TZNAME:CST
DTSTART:20271107T070000
END:STANDARD
END:VTIMEZONE
BEGIN:VTIMEZONE
TZID:America/Los_Angeles
BEGIN:DAYLIGHT
TZOFFSETFROM:-0800
TZOFFSETTO:-0700
TZNAME:PDT
DTSTART:20250309T100000
END:DAYLIGHT
BEGIN:STANDARD
TZOFFSETFROM:-0700
TZOFFSETTO:-0800
TZNAME:PST
DTSTART:20251102T090000
END:STANDARD
BEGIN:DAYLIGHT
TZOFFSETFROM:-0800
TZOFFSETTO:-0700
TZNAME:PDT
DTSTART:20260308T100000
END:DAYLIGHT
BEGIN:STANDARD
TZOFFSETFROM:-0700
TZOFFSETTO:-0800
TZNAME:PST
DTSTART:20261101T090000
END:STANDARD
BEGIN:DAYLIGHT
TZOFFSETFROM:-0800
TZOFFSETTO:-0700
TZNAME:PDT
DTSTART:20270314T100000
END:DAYLIGHT
BEGIN:STANDARD
TZOFFSETFROM:-0700
TZOFFSETTO:-0800
TZNAME:PST
DTSTART:20271107T090000
END:STANDARD
END:VTIMEZONE
BEGIN:VEVENT
DTSTART;TZID=America/Chicago:20260619T190000
DTEND;TZID=America/Chicago:20260619T213000
DTSTAMP:20260424T112843
CREATED:20260423T230000Z
LAST-MODIFIED:20260423T230000Z
UID:10004744-1781895600-1781904600@comedycalendar.com
SUMMARY:Pablo Francisco LIVE at Laugh Out Loud Comedy Club
DESCRIPTION:Official TicketsResale Tickets\n\nAbout the Performer\nPablo Francisco is one of the most popular touring comedians worldwide\, known for his unbelievable ability to physically morph himself into movie stars\, singers\, friends\, family\, and a multitude of nationalities. His off-the-wall performances deliver the laughs and point out the wild absurdities in an illogical\, pop-culture-obsessed world. \nHis two Comedy Central one-hour comedy specials — They Put It Out There and Ouch! — continue to stay on the network’s most requested list. Gene Lavanchy of FOX-TV Boston calls Pablo “the most talented comedian in the business today.” He has appeared on The Tonight Show with Jay Leno\, Late Night with Jimmy Fallon\, Comedy Central’s The Show Biz Show with David Spade\, Mind of Mencia\, and was a cast member on Fox’s Mad TV and TBS’s Frank TV. \nPablo’s shows are fast-paced and incredibly entertaining. His one-of-a-kind arsenal of characters\, spontaneous outbursts\, spot-on impressions\, and clever insights create a stand-up show of hilarious proportions that leaves audiences struggling to catch their breath. \nEvent Details\n\nDate: Friday\, June 19\, 2026\nShow Time: 7:00 PM CDT\nDoors Open: 6:00 PM CDT\nVenue: Laugh Out Loud Comedy Club\nAddress: 618 NW Loop 410\, San Antonio\, TX 78216\nAge Restriction: 18+ Event — Valid photo ID required\n\nAbout the Venue\nLaugh Out Loud Comedy Club is San Antonio’s premier stand-up comedy destination\, conveniently located in Park North Plaza at Loop 410 and Blanco — just inside the loop and only a few miles from the airport. \nThe club features a full bar lounge where guests can grab a drink before the show\, and a comfortable showroom with first-come\, first-served seating. Preferred Tables are located center stage for the best views\, while General Admission tables are positioned on the sides and wings. \nThere is a 2-item food or beverage minimum per person once seated\, and an 18% service charge applies to all checks in the showroom. Early arrival is strongly recommended to secure your preferred seating. \nWhat to Expect\nPablo Francisco delivers one of the most high-energy\, laugh-a-minute comedy shows you’ll ever experience. His impressions are jaw-droppingly accurate — from Hollywood celebrities to everyday characters — and his ability to seamlessly transition between them is nothing short of remarkable. \nFans who experience Pablo’s show for the first time find themselves captivated by his hilarious\, dead-on impressions. His universal charm and ability to connect with audiences of all backgrounds makes every show feel personal and electric. \nThis is a Friday night show at Laugh Out Loud Comedy Club — the perfect way to kick off your weekend with world-class comedy. Grab your tickets now before they sell out! \nTicket Information\n\nGeneral Admission: $25 (+ fees)\nPreferred Seating: $35 (+ fees)\nOrder Limit: 10 tickets per order\n\n\nOfficial TicketsResale Tickets\n\nThis post contains affiliate links. We earn a commission if you purchase tickets through our links at no extra cost to you. \nAll sales are final. Show times subject to change. Valid photo ID may be required for entry.
URL:https://comedycalendar.com/event/pablo-francisco-live-at-laugh-out-loud-comedy-club/
LOCATION:Laugh Out Loud Comedy Club\, 618 Northwest Loop 410\, San Antonio\, TX\, 78216\, USA
CATEGORIES:Comedy Special,up Comedy
ATTACH;FMTTYPE=image/png:https://comedycalendar.com/wp-content/uploads/2026/04/53_Edp-GInyWj.png
GEO:29.5193054;-98.5060363
X-APPLE-STRUCTURED-LOCATION;VALUE=URI;X-ADDRESS=Laugh Out Loud Comedy Club 618 Northwest Loop 410 San Antonio TX 78216 USA;X-APPLE-RADIUS=500;X-TITLE=618 Northwest Loop 410:geo:-98.5060363,29.5193054
END:VEVENT
BEGIN:VEVENT
DTSTART;TZID=America/Los_Angeles:20261029T200000
DTEND;TZID=America/Los_Angeles:20261029T223000
DTSTAMP:20260424T112843
CREATED:20260314T190000Z
LAST-MODIFIED:20260315T150442Z
UID:10002894-1793304000-1793313000@comedycalendar.com
SUMMARY:A Twink and A Redhead LIVE at August Hall
DESCRIPTION:Official TicketsResale Tickets \nAbout the Performers\nA Twink and A Redhead is the wildly popular comedy duo taking the internet and live comedy world by storm. Known for their sharp\, irreverent\, and laugh-out-loud funny content\, this duo has built a massive following through their viral videos and sold-out live shows across North America. \nTheir live show is a high-energy\, fast-paced comedy experience that blends stand-up\, sketches\, and audience interaction into an unforgettable evening of laughs. If you’ve followed them online\, seeing them live takes the experience to a whole new level. \nThis San Francisco stop at August Hall is part of their 2026 North American tour — don’t miss your chance to see one of the most exciting comedy acts of the moment perform live in the city. \nEvent Details\nDate: Thursday\, October 29\, 2026\nTime: 8:00 PM PDT (Doors: 7:00 PM)\nVenue: August Hall\, 420 Mason Street\, San Francisco\, CA 94102\nAge Restriction: 5 and Over\nTicket Price Range: $44 – $87 \nAbout the Venue\nAugust Hall is one of San Francisco’s premier mid-size live entertainment venues\, located at 420 Mason Street in the heart of Union Square. With a capacity of approximately 1\,000 guests\, August Hall offers a modern\, intimate concert and comedy experience with excellent sightlines and a vibrant atmosphere. \nThe venue features a full bar\, a spacious standing floor\, and a balcony level for those who prefer a more elevated view. The sound system and lighting are top-notch\, making every show feel like a premium production. August Hall is easily accessible by BART\, Muni\, and cable car\, with parking available in nearby Union Square garages. \nThe venue’s central location makes it easy to combine your evening with dinner or drinks at one of the many restaurants and bars in the surrounding Union Square neighborhood. \nWhat to Expect\nA Twink and A Redhead deliver a full evening of their signature comedy — fast\, funny\, and completely unpredictable. Expect big laughs\, crowd interaction\, and the kind of electric energy that only comes from seeing a duo with incredible chemistry perform live. \nDoors open at 7:00 PM. This is a 5+ event\, making it accessible to a wide range of comedy fans. Arrive early to grab a great spot and enjoy the venue before the show kicks off. \nTicket Information\nPrice Range: $44 – $87 (before taxes and fees)\nTickets are available through Ticketmaster (official) and VividSeats (resale). \nOfficial TicketsResale Tickets \nThis post contains affiliate links. We may earn a commission at no extra cost to you.
URL:https://comedycalendar.com/event/a-twink-and-a-redhead-live-at-august-hall/
LOCATION:August Hall\, 420 Mason Street\, San Francisco\, CA\, 94102\, United States
CATEGORIES:Stand Up Comedy
ATTACH;FMTTYPE=image/jpeg:https://media.ticketmaster.com/en-us/dam/a/fd6/8b989a18-079c-48b7-b1c4-9d3175268fd6_CUSTOM.jpg
GEO:37.7875748;-122.4098403
X-APPLE-STRUCTURED-LOCATION;VALUE=URI;X-ADDRESS=August Hall 420 Mason Street San Francisco CA 94102 United States;X-APPLE-RADIUS=500;X-TITLE=420 Mason Street:geo:-122.4098403,37.7875748
END:VEVENT
END:VCALENDAR