BEGIN:VCALENDAR
VERSION:2.0
PRODID:-//Find Upcoming Comedy Shows Near You | Comedy Calendar - ECPv6.15.20//NONSGML v1.0//EN
CALSCALE:GREGORIAN
METHOD:PUBLISH
X-WR-CALNAME:Find Upcoming Comedy Shows Near You | Comedy Calendar
X-ORIGINAL-URL:https://comedycalendar.com
X-WR-CALDESC:Events for Find Upcoming Comedy Shows Near You | Comedy Calendar
REFRESH-INTERVAL;VALUE=DURATION:PT1H
X-Robots-Tag:noindex
X-PUBLISHED-TTL:PT1H
BEGIN:VTIMEZONE
TZID:America/New_York
BEGIN:DAYLIGHT
TZOFFSETFROM:-0500
TZOFFSETTO:-0400
TZNAME:EDT
DTSTART:20250309T070000
END:DAYLIGHT
BEGIN:STANDARD
TZOFFSETFROM:-0400
TZOFFSETTO:-0500
TZNAME:EST
DTSTART:20251102T060000
END:STANDARD
BEGIN:DAYLIGHT
TZOFFSETFROM:-0500
TZOFFSETTO:-0400
TZNAME:EDT
DTSTART:20260308T070000
END:DAYLIGHT
BEGIN:STANDARD
TZOFFSETFROM:-0400
TZOFFSETTO:-0500
TZNAME:EST
DTSTART:20261101T060000
END:STANDARD
BEGIN:DAYLIGHT
TZOFFSETFROM:-0500
TZOFFSETTO:-0400
TZNAME:EDT
DTSTART:20270314T070000
END:DAYLIGHT
BEGIN:STANDARD
TZOFFSETFROM:-0400
TZOFFSETTO:-0500
TZNAME:EST
DTSTART:20271107T060000
END:STANDARD
END:VTIMEZONE
BEGIN:VEVENT
DTSTART;TZID=America/New_York:20261205T193000
DTEND;TZID=America/New_York:20261205T213000
DTSTAMP:20260424T040124
CREATED:20260322T020000Z
LAST-MODIFIED:20260323T030810Z
UID:10003797-1796499000-1796506200@comedycalendar.com
SUMMARY:Maria Bamford LIVE at Carolina Theatre - Durham
DESCRIPTION:This post contains affiliate links. We earn a commission if you purchase tickets through our links at no extra cost to you. \nOfficial Tickets\nResale Tickets \nMaria Bamford LIVE at Carolina Theatre – Durham\nGroundbreaking comedian Maria Bamford brings her deeply personal and experimental comedy to the Carolina Theatre of Durham on December 5\, 2026. Known for her fearless exploration of mental illness\, family dynamics\, and the absurdity of modern life\, Maria delivers a one-of-a-kind comedy experience unlike anything else on tour. \nEvent Details\nDate: Saturday\, December 5\, 2026\nTime: 7:30 PM EST\nVenue: Carolina Theatre – Fletcher Hall\nAddress: 309 W Morgan St\, Durham\, NC 27701\nAge Requirement: All ages welcome\nParking: Durham Centre garage across Morgan St; street parking available after 6 PM free \nAbout Maria Bamford\nMaria Bamford is one of the most original and celebrated comedians working today. She starred in the Netflix series Lady Dynamite\, which was based on her own life\, and has released multiple acclaimed stand-up specials. Her comedy fearlessly tackles mental illness\, family\, and the human condition with warmth\, honesty\, and brilliant absurdist humor. \nWhat to Expect\n\nDeeply personal and experimental stand-up comedy\nFearless\, honest exploration of mental health and family life\nUnique character work and storytelling unlike any other comedian\nAn intimate evening at Durham’s beloved Carolina Theatre\nA truly one-of-a-kind comedy experience\n\nVenue Information\nThe Carolina Theatre of Durham is one of the Triangle’s most beloved historic venues\, featuring the intimate Fletcher Hall. Located in downtown Durham\, it offers easy access\, great acoustics\, and a warm atmosphere perfect for live comedy. \nTicket Information\nTickets range from approximately $35 to $102. Purchase official tickets or find resale options below. \nOfficial Tickets\nResale Tickets \nThis post contains affiliate links. We earn a commission if you purchase tickets through our links at no extra cost to you. \nAll sales are final. Show times subject to change. Valid photo ID may be required for entry.
URL:https://comedycalendar.com/event/maria-bamford-live-at-carolina-theatre-durham-2/
LOCATION:Carolina Theatre – Durham\, 309 W Morgan St\, Durham\, NC\, 27701\, United States Of America
CATEGORIES:Stand Up Comedy
ATTACH;FMTTYPE=image/jpeg:https://comedycalendar.com/wp-content/uploads/2026/03/27e1dbf1-1e21-42f3-b3c3-0ff8dddcd1bb_TABLET_LANDSCAPE_LARGE_16_9-QlMRRm.jpg
GEO:35.9977171;-78.9029223
X-APPLE-STRUCTURED-LOCATION;VALUE=URI;X-ADDRESS=Carolina Theatre – Durham 309 W Morgan St Durham NC 27701 United States Of America;X-APPLE-RADIUS=500;X-TITLE=309 W Morgan St:geo:-78.9029223,35.9977171
END:VEVENT
END:VCALENDAR