BEGIN:VCALENDAR
VERSION:2.0
PRODID:-//Find Upcoming Comedy Shows Near You | Comedy Calendar - ECPv6.15.20//NONSGML v1.0//EN
CALSCALE:GREGORIAN
METHOD:PUBLISH
X-WR-CALNAME:Find Upcoming Comedy Shows Near You | Comedy Calendar
X-ORIGINAL-URL:https://comedycalendar.com
X-WR-CALDESC:Events for Find Upcoming Comedy Shows Near You | Comedy Calendar
REFRESH-INTERVAL;VALUE=DURATION:PT1H
X-Robots-Tag:noindex
X-PUBLISHED-TTL:PT1H
BEGIN:VTIMEZONE
TZID:America/New_York
BEGIN:DAYLIGHT
TZOFFSETFROM:-0500
TZOFFSETTO:-0400
TZNAME:EDT
DTSTART:20250309T070000
END:DAYLIGHT
BEGIN:STANDARD
TZOFFSETFROM:-0400
TZOFFSETTO:-0500
TZNAME:EST
DTSTART:20251102T060000
END:STANDARD
BEGIN:DAYLIGHT
TZOFFSETFROM:-0500
TZOFFSETTO:-0400
TZNAME:EDT
DTSTART:20260308T070000
END:DAYLIGHT
BEGIN:STANDARD
TZOFFSETFROM:-0400
TZOFFSETTO:-0500
TZNAME:EST
DTSTART:20261101T060000
END:STANDARD
BEGIN:DAYLIGHT
TZOFFSETFROM:-0500
TZOFFSETTO:-0400
TZNAME:EDT
DTSTART:20270314T070000
END:DAYLIGHT
BEGIN:STANDARD
TZOFFSETFROM:-0400
TZOFFSETTO:-0500
TZNAME:EST
DTSTART:20271107T060000
END:STANDARD
END:VTIMEZONE
BEGIN:VEVENT
DTSTART;TZID=America/New_York:20260220T190000
DTEND;TZID=America/New_York:20260220T203000
DTSTAMP:20260421T231916
CREATED:20260220T221707Z
LAST-MODIFIED:20260220T231430Z
UID:10002289-1771614000-1771619400@comedycalendar.com
SUMMARY:Des Bishop LIVE at West Nyack Levity Live
DESCRIPTION:This post contains affiliate links. We earn a commission if you purchase tickets through our links at no extra cost to you. \nOfficial Tickets (Ticketmaster) \nResale Tickets (VividSeats) \nDes Bishop LIVE at West Nyack Levity Live\nDes Bishop brings his comedy tour to West Nyack Levity Live for an unforgettable night of stand-up comedy. A native New Yorker who has become a massive star in Ireland\, Des delivers sharp\, engaging comedy that resonates with audiences worldwide. \nEvent Details\nDate: Friday\, February 20\, 2026 \nTime: 7:00 PM \nVenue: West Nyack Levity Live \nAddress: 4210 Palisades Center Dr A – 401\, West Nyack\, NY \nAbout Des Bishop\nDes Bishop is an accomplished stand-up comedian and native New Yorker who has achieved massive success in Ireland and beyond. Known for his intelligent humor and engaging stage presence\, Des delivers comedy that connects with audiences of all backgrounds. \nWhat to Expect\n\nHigh-energy stand-up comedy performance\nSharp observational humor\nEngaging audience interaction\nApproximately 60-90 minutes of comedy\nA night of laughter and entertainment\n\nVenue Information\nWest Nyack Levity Live is a premier comedy venue offering an intimate setting with excellent sightlines and a full bar. The venue is known for hosting top-tier comedians and providing an exceptional comedy experience. \nTicket Information\nTickets are available through Ticketmaster and VividSeats. Prices range from $37-$108 depending on seating and availability. Purchase early for the best selection. \nOfficial Tickets (Ticketmaster) \nResale Tickets (VividSeats) \nThis post contains affiliate links. We earn a commission if you purchase tickets through our links at no extra cost to you. \nAll sales are final. Show times subject to change. Valid photo ID may be required for entry.
URL:https://comedycalendar.com/event/des-bishop-live-at-west-nyack-levity-live/
LOCATION:West Nyack Levity Live\, 4210 Palisades Center Dr A - 401\, West Nyack\, NY\, 10994\, USA
CATEGORIES:Stand Up Comedy
GEO:41.0981032;-73.9579798
X-APPLE-STRUCTURED-LOCATION;VALUE=URI;X-ADDRESS=West Nyack Levity Live 4210 Palisades Center Dr A - 401 West Nyack NY 10994 USA;X-APPLE-RADIUS=500;X-TITLE=4210 Palisades Center Dr A - 401:geo:-73.9579798,41.0981032
END:VEVENT
BEGIN:VEVENT
DTSTART;TZID=America/New_York:20260226T190000
DTEND;TZID=America/New_York:20260226T210000
DTSTAMP:20260421T231916
CREATED:20260218T154424Z
LAST-MODIFIED:20260220T012149Z
UID:10002325-1772132400-1772139600@comedycalendar.com
SUMMARY:Kathy Griffin LIVE at The Paramount in concert with Northwell
DESCRIPTION:This post contains affiliate links. We earn a commission if you purchase tickets through our links at no extra cost to you. \nOfficial Tickets (Ticketmaster) \nKathy Griffin LIVE at The Paramount in concert with Northwell\nKathy Griffin brings her New Face\, New Tour to The Paramount in Huntington\, NY. This legendary comedian is known for her sharp wit and fearless comedy style. Don’t miss this opportunity to see her live in the NYC area. \nEvent Details\nDate: February 26\, 2026\nTime: 7:00 PM EST\nVenue: The Paramount in concert with Northwell\nAddress: Huntington\, NY \nAbout Kathy Griffin\nKathy Griffin is an Emmy-winning comedian and actress known for her bold\, irreverent comedy. With decades of experience in stand-up\, she continues to deliver hilarious and thought-provoking performances. \nWhat to Expect\n\nHigh-energy stand-up comedy\nSharp social commentary\nInteractive audience engagement\nUnforgettable one-liners\nA night of laughter and entertainment\n\nVenue Information\nThe Paramount in concert with Northwell is a premier entertainment venue in Huntington\, NY\, known for hosting top-tier comedy and music acts. \nTicket Information\nTickets are available through Ticketmaster. Get your seats now for this must-see comedy show. \nOfficial Tickets (Ticketmaster) \nThis post contains affiliate links. We earn a commission if you purchase tickets through our links at no extra cost to you. \nAll sales are final. Show times subject to change. Valid photo ID may be required for entry.
URL:https://comedycalendar.com/event/kathy-griffin-live-paramount/
LOCATION:The Paramount New York\, 370 New York Ave\, Huntington\, NY\, 11743\, United States
CATEGORIES:Stand Up Comedy
ATTACH;FMTTYPE=image/jpeg:https://s1.ticketm.net/dam/a/6be/19ef47ba-549a-4cc7-8100-0a52656e06be_RETINA_PORTRAIT_3_2.jpg
GEO:40.8697344;-73.4257185
X-APPLE-STRUCTURED-LOCATION;VALUE=URI;X-ADDRESS=The Paramount New York 370 New York Ave Huntington NY 11743 United States;X-APPLE-RADIUS=500;X-TITLE=370 New York Ave:geo:-73.4257185,40.8697344
END:VEVENT
BEGIN:VEVENT
DTSTART;TZID=America/New_York:20260301T190000
DTEND;TZID=America/New_York:20260301T210000
DTSTAMP:20260421T231916
CREATED:20260218T170000Z
LAST-MODIFIED:20260219T174738Z
UID:10002344-1772391600-1772398800@comedycalendar.com
SUMMARY:John Crist LIVE at Town Hall
DESCRIPTION:This post contains affiliate links. We earn a commission if you purchase tickets through our links at no extra cost to you. \nOfficial Tickets (Ticketmaster) \nResale Tickets (VividSeats) \nJohn Crist LIVE at Town Hall\nJohn Crist is one of today’s fastest-rising stand-up comedians. He brings his high-energy comedy and engaging storytelling to Town Hall for an unforgettable night of laughter. \nEvent Details\nDate: Sunday\, March 1\, 2026 \nTime: 7:00 PM \nVenue: Town Hall \nAddress: 123 West 43rd Street\, New York\, NY \nAbout John Crist\nJohn Crist is a rising star in the comedy world known for his clean\, relatable humor and high-energy performances. He’s performed at major comedy festivals and venues across the country. \nWhat to Expect\n\nHigh-energy stand-up comedy performance\nRelatable and engaging storytelling\nInteractive audience engagement\nUnforgettable night of laughter\nProfessional theater atmosphere\nFull bar and concessions available\n\nVenue Information\nTown Hall is a historic theater located in Midtown Manhattan. The venue offers excellent acoustics and comfortable seating for an optimal entertainment experience. \nTicket Information\nTickets are available through Ticketmaster and VividSeats. Purchase your tickets now to secure your spot for this amazing comedy show. \nOfficial Tickets (Ticketmaster) \nResale Tickets (VividSeats) \nThis post contains affiliate links. We earn a commission if you purchase tickets through our links at no extra cost to you. \nAll sales are final. Show times subject to change. Valid photo ID may be required for entry.
URL:https://comedycalendar.com/event/john-crist-live-at-town-hall/
LOCATION:The Town Hall\, 123 W 43rd St\, New York\, NY\, 10036\, United States
CATEGORIES:Stand Up Comedy
ATTACH;FMTTYPE=image/jpeg:https://s1.ticketm.net/dam/a/544/33c53e82-16ab-4677-8ab9-d88c8529a544_RETINA_PORTRAIT_3_2.jpg
GEO:40.7561203;-73.9844558
X-APPLE-STRUCTURED-LOCATION;VALUE=URI;X-ADDRESS=The Town Hall 123 W 43rd St New York NY 10036 United States;X-APPLE-RADIUS=500;X-TITLE=123 W 43rd St:geo:-73.9844558,40.7561203
END:VEVENT
BEGIN:VEVENT
DTSTART;TZID=America/New_York:20260302T193000
DTEND;TZID=America/New_York:20260302T213000
DTSTAMP:20260421T231916
CREATED:20260218T170000Z
LAST-MODIFIED:20260219T180739Z
UID:10002345-1772479800-1772487000@comedycalendar.com
SUMMARY:Miss Mississippi Comedy LIVE at The Bell House
DESCRIPTION:This post contains affiliate links. We earn a commission if you purchase tickets through our links at no extra cost to you. \nOfficial Tickets (Ticketmaster) \nResale Tickets (VividSeats) \nMiss Mississippi Comedy LIVE at The Bell House\nMiss Mississippi Comedy brings an unforgettable night of stand-up comedy to The Bell House in Brooklyn. Featuring Ariel Elias and other talented comedians\, this show promises laughter and entertainment. \nEvent Details\nDate: Monday\, March 2\, 2026 \nTime: 7:30 PM \nVenue: The Bell House \nAddress: 149 7th Street\, Brooklyn\, NY \nPrice Range: $34+ \nAbout Miss Mississippi Comedy\nMiss Mississippi Comedy is a showcase featuring talented stand-up comedians. The show features Ariel Elias and other rising stars in the comedy world. \nWhat to Expect\n\nHigh-energy stand-up comedy performances\nMultiple talented comedians\nEngaging storytelling and humor\nUnforgettable night of laughter\nIntimate comedy club atmosphere\nFull bar and food service available\n\nVenue Information\nThe Bell House is a premier comedy club located in Brooklyn. The venue offers an intimate setting perfect for enjoying stand-up comedy with a full bar and food service. \nTicket Information\nTickets are available through Ticketmaster and VividSeats. Prices start at $34. Purchase your tickets now to secure your spot for this amazing comedy show. \nOfficial Tickets (Ticketmaster) \nResale Tickets (VividSeats) \nThis post contains affiliate links. We earn a commission if you purchase tickets through our links at no extra cost to you. \nAll sales are final. Show times subject to change. Valid photo ID may be required for entry.
URL:https://comedycalendar.com/event/miss-mississippi-comedy-live-at-the-bell-house/
LOCATION:The Bell House\, 149 7th Street\, Brooklyn\, NY\, 11215\, USA
CATEGORIES:Stand Up Comedy
ATTACH;FMTTYPE=image/jpeg:https://media.ticketmaster.com/en-us/dam/a/102/383a84e7-397d-46e6-a4e4-149e98a38102_CUSTOM.jpg
GEO:40.6737398;-73.9916854
X-APPLE-STRUCTURED-LOCATION;VALUE=URI;X-ADDRESS=The Bell House 149 7th Street Brooklyn NY 11215 USA;X-APPLE-RADIUS=500;X-TITLE=149 7th Street:geo:-73.9916854,40.6737398
END:VEVENT
BEGIN:VEVENT
DTSTART;TZID=America/New_York:20260322T193000
DTEND;TZID=America/New_York:20260322T210000
DTSTAMP:20260421T231916
CREATED:20260218T170000Z
LAST-MODIFIED:20260310T154922Z
UID:10002348-1774207800-1774213200@comedycalendar.com
SUMMARY:Desi Comedy Fest LIVE at The Bell House
DESCRIPTION:This post contains affiliate links. We earn a commission if you purchase tickets through our links at no extra cost to you. \nOfficial Tickets (Ticketmaster) \nResale Tickets (VividSeats) \nDesi Comedy Fest LIVE at The Bell House\nDesi Comedy Fest brings together the best South Asian stand-up comedians for an unforgettable night of laughter at The Bell House in Brooklyn. This festival celebrates diverse voices and perspectives in comedy. \nEvent Details\nDate: Sunday\, March 22\, 2026 \nTime: 7:30 PM \nVenue: The Bell House \nAddress: 149 7th Street\, Brooklyn\, NY \nAbout Desi Comedy Fest\nDesi Comedy Fest is a celebration of South Asian comedy talent\, featuring some of the funniest comedians from the community. The festival showcases diverse perspectives\, cultural humor\, and sharp comedic timing from established and emerging performers. \nWhat to Expect\n\nMultiple stand-up comedy performances\nSouth Asian comedians and cultural perspectives\nHigh-energy entertainment\nDiverse humor and comedy styles\nAn evening of laughter and celebration\n\nVenue Information\nThe Bell House is a premier comedy venue in Brooklyn\, known for hosting top-quality entertainment and comedy shows. The intimate setting provides an excellent experience for comedy performances. \nTicket Information\nTickets are available through both Ticketmaster and VividSeats. Prices vary based on seat selection and availability. \nOfficial Tickets (Ticketmaster) \nResale Tickets (VividSeats) \nThis post contains affiliate links. We earn a commission if you purchase tickets through our links at no extra cost to you. \nAll sales are final. Show times subject to change. Valid photo ID may be required for entry.
URL:https://comedycalendar.com/event/desi-comedy-fest-live-at-the-bell-house/
LOCATION:The Bell House\, 149 7th Street\, Brooklyn\, NY\, 11215\, USA
CATEGORIES:Stand Up Comedy
ATTACH;FMTTYPE=image/jpeg:https://s1.ticketm.net/dam/a/dd0/6249797d-9753-46d0-9f7a-97a273a5bdd0_RETINA_PORTRAIT_3_2.jpg
GEO:40.6737398;-73.9916854
X-APPLE-STRUCTURED-LOCATION;VALUE=URI;X-ADDRESS=The Bell House 149 7th Street Brooklyn NY 11215 USA;X-APPLE-RADIUS=500;X-TITLE=149 7th Street:geo:-73.9916854,40.6737398
END:VEVENT
BEGIN:VEVENT
DTSTART;TZID=America/New_York:20260327T190000
DTEND;TZID=America/New_York:20260327T210000
DTSTAMP:20260421T231916
CREATED:20260221T003000Z
LAST-MODIFIED:20260310T155215Z
UID:10002382-1774638000-1774645200@comedycalendar.com
SUMMARY:Anthony Rodia: Laugh Till It Hurts Tour LIVE at The Paramount
DESCRIPTION:This post contains affiliate links. We earn a commission if you purchase tickets through our links at no extra cost to you. \nOfficial Tickets (Ticketmaster) \nResale Tickets (VividSeats) \nAnthony Rodia: Laugh Till It Hurts Tour LIVE at The Paramount\nAnthony Rodia is a rising star in stand-up comedy known for his high-energy performances and relatable humor. His Laugh Till It Hurts Tour is bringing laughs to audiences across the country. \nEvent Details\nDate: March 27\, 2026 \nTime: 7:00 PM \nVenue: The Paramount in concert with Northwell \nAddress: 370 New York Ave\, Huntington\, NY 11743 \nAge Requirement: All Ages \nAbout Anthony Rodia\nAnthony Rodia is an accomplished stand-up comedian with a talent for connecting with audiences through his authentic and hilarious storytelling. His comedy touches on everyday life experiences that resonate with everyone. \nWhat to Expect\n\nHigh-energy stand-up comedy\nRelatable and authentic humor\nAn unforgettable night of laughter\nInteractive audience engagement\n\nVenue Information\nThe Paramount in concert with Northwell is a state-of-the-art venue in Huntington\, Long Island. It features excellent acoustics\, comfortable seating\, and a full-service bar. \nTicket Information\nTickets are available now. Prices range from $50 to $100 depending on seating location. Everyone needs a ticket to enter. \nOfficial Tickets (Ticketmaster) \nResale Tickets (VividSeats) \nThis post contains affiliate links. We earn a commission if you purchase tickets through our links at no extra cost to you. \nAll sales are final. Show times subject to change. Valid photo ID may be required for entry.
URL:https://comedycalendar.com/event/anthony-rodia-laugh-till-it-hurts-tour-paramount/
LOCATION:The Paramount in concert with Northwell\, 370 New York Ave\, Huntington\, NY\, 11743\, USA
CATEGORIES:Stand Up Comedy
ATTACH;FMTTYPE=image/jpeg:https://s1.ticketm.net/dam/a/751/3438dd47-d6ec-4176-a49d-8319d125a751_RETINA_PORTRAIT_3_2.jpg
GEO:40.8697344;-73.4257185
X-APPLE-STRUCTURED-LOCATION;VALUE=URI;X-ADDRESS=The Paramount in concert with Northwell 370 New York Ave Huntington NY 11743 USA;X-APPLE-RADIUS=500;X-TITLE=370 New York Ave:geo:-73.4257185,40.8697344
END:VEVENT
BEGIN:VEVENT
DTSTART;TZID=America/New_York:20260328T190000
DTEND;TZID=America/New_York:20260328T203000
DTSTAMP:20260421T231916
CREATED:20260218T170000Z
LAST-MODIFIED:20260219T182115Z
UID:10002352-1774724400-1774729800@comedycalendar.com
SUMMARY:Hassan Phills presents Eidiot Mubarak LIVE at Gramercy Theatre
DESCRIPTION:This post contains affiliate links. We earn a commission if you purchase tickets through our links at no extra cost to you. \nOfficial Tickets (Ticketmaster) \nResale Tickets (VividSeats) \nHassan Phills presents Eidiot Mubarak LIVE at Gramercy Theatre\nHassan Phills presents Eidiot Mubarak\, a hilarious comedy show at Gramercy Theatre in New York. This comedy performance delivers laughs and entertainment for an unforgettable evening. \nEvent Details\nDate: Saturday\, March 28\, 2026 \nTime: 7:00 PM \nVenue: Gramercy Theatre \nAddress: 127 East 23rd Street\, New York\, NY \nAbout Hassan Phills\nHassan Phills is a talented stand-up comedian known for his sharp wit and engaging stage presence. His comedy explores cultural perspectives and delivers hilarious observations about everyday life. \nWhat to Expect\n\nHigh-energy stand-up comedy performance\nSharp\, witty observations about modern life\nEngaging audience interaction\nApproximately 60-90 minutes of comedy\nAn evening of laughter and entertainment\n\nVenue Information\nGramercy Theatre is a premier entertainment venue in Manhattan\, known for hosting top-quality comedy and theatrical shows. The intimate setting provides an excellent experience for comedy performances. \nTicket Information\nTickets are available through both Ticketmaster and VividSeats. Prices vary based on seat selection and availability. \nOfficial Tickets (Ticketmaster) \nResale Tickets (VividSeats) \nThis post contains affiliate links. We earn a commission if you purchase tickets through our links at no extra cost to you. \nAll sales are final. Show times subject to change. Valid photo ID may be required for entry.
URL:https://comedycalendar.com/event/hassan-phills-eidiot-mubarak-live-at-gramercy-theatre/
LOCATION:Gramercy Theatre\, 127 East 23rd Street\, New York\, NY\, 10010\, USA
CATEGORIES:Stand Up Comedy
ATTACH;FMTTYPE=image/jpeg:https://s1.ticketm.net/dam/a/793/0343bcca-445b-4859-a795-5ce75356d793_TABLET_LANDSCAPE_3_2.jpg
GEO:40.7398304;-73.984981
X-APPLE-STRUCTURED-LOCATION;VALUE=URI;X-ADDRESS=Gramercy Theatre 127 East 23rd Street New York NY 10010 USA;X-APPLE-RADIUS=500;X-TITLE=127 East 23rd Street:geo:-73.984981,40.7398304
END:VEVENT
BEGIN:VEVENT
DTSTART;TZID=America/New_York:20260329T190000
DTEND;TZID=America/New_York:20260329T210000
DTSTAMP:20260421T231916
CREATED:20260222T070000Z
LAST-MODIFIED:20260310T161808Z
UID:10002385-1774810800-1774818000@comedycalendar.com
SUMMARY:Joel Kim Booster: Chose This Way LIVE at The Bell House
DESCRIPTION:This post contains affiliate links. We earn a commission if you purchase tickets through our links at no extra cost to you. \nOfficial Tickets (Ticketmaster) \nResale Tickets (VividSeats) \nJoel Kim Booster LIVE at The Bell House\nJoel Kim Booster brings his “Chose This Way” tour to The Bell House in Brooklyn. This is a must-see comedy show featuring one of the most talented stand-up comedians performing today. \nEvent Details\nDate: Sunday\, March 29\, 2026 \nTime: 7:00 PM \nVenue: The Bell House \nAddress: 149 7th Street\, Brooklyn\, NY \nAge Requirement: 21+ \nAbout Joel Kim Booster\nJoel Kim Booster is an acclaimed stand-up comedian known for his sharp wit and engaging storytelling. He has performed on major comedy platforms and continues to tour extensively across the country. \nWhat to Expect\n\nHigh-energy stand-up comedy performance\nEngaging storytelling and observational humor\nInteractive audience engagement\nProfessional comedy show experience\nIntimate venue setting\nFull bar and beverage service available\n\nVenue Information\nThe Bell House is a premier comedy venue in Brooklyn\, known for hosting top-tier stand-up comedians and comedy shows. The intimate setting provides an excellent experience for comedy fans. \nTicket Information\nTickets are available starting at $38. Limited availability\, so purchase early to secure your spot. \nOfficial Tickets (Ticketmaster) \nResale Tickets (VividSeats) \nThis post contains affiliate links. We earn a commission if you purchase tickets through our links at no extra cost to you. \nAll sales are final. Show times subject to change. Valid photo ID may be required for entry.
URL:https://comedycalendar.com/event/joel-kim-booster-chose-this-way-live-at-the-bell-house/
LOCATION:The Bell House\, 149 7th Street\, Brooklyn\, NY\, 11215\, USA
ATTACH;FMTTYPE=image/jpeg:https://s1.ticketm.net/dam/a/8dc/8dc028fe-86e3-406d-888b-f0213de3b8dc_TABLET_LANDSCAPE_3_2.jpg
GEO:40.6737398;-73.9916854
X-APPLE-STRUCTURED-LOCATION;VALUE=URI;X-ADDRESS=The Bell House 149 7th Street Brooklyn NY 11215 USA;X-APPLE-RADIUS=500;X-TITLE=149 7th Street:geo:-73.9916854,40.6737398
END:VEVENT
END:VCALENDAR