BEGIN:VCALENDAR
VERSION:2.0
PRODID:-//Find Upcoming Comedy Shows Near You | Comedy Calendar - ECPv6.15.20//NONSGML v1.0//EN
CALSCALE:GREGORIAN
METHOD:PUBLISH
X-ORIGINAL-URL:https://comedycalendar.com
X-WR-CALDESC:Events for Find Upcoming Comedy Shows Near You | Comedy Calendar
REFRESH-INTERVAL;VALUE=DURATION:PT1H
X-Robots-Tag:noindex
X-PUBLISHED-TTL:PT1H
BEGIN:VTIMEZONE
TZID:America/New_York
BEGIN:DAYLIGHT
TZOFFSETFROM:-0500
TZOFFSETTO:-0400
TZNAME:EDT
DTSTART:20250309T070000
END:DAYLIGHT
BEGIN:STANDARD
TZOFFSETFROM:-0400
TZOFFSETTO:-0500
TZNAME:EST
DTSTART:20251102T060000
END:STANDARD
BEGIN:DAYLIGHT
TZOFFSETFROM:-0500
TZOFFSETTO:-0400
TZNAME:EDT
DTSTART:20260308T070000
END:DAYLIGHT
BEGIN:STANDARD
TZOFFSETFROM:-0400
TZOFFSETTO:-0500
TZNAME:EST
DTSTART:20261101T060000
END:STANDARD
BEGIN:DAYLIGHT
TZOFFSETFROM:-0500
TZOFFSETTO:-0400
TZNAME:EDT
DTSTART:20270314T070000
END:DAYLIGHT
BEGIN:STANDARD
TZOFFSETFROM:-0400
TZOFFSETTO:-0500
TZNAME:EST
DTSTART:20271107T060000
END:STANDARD
END:VTIMEZONE
BEGIN:VEVENT
DTSTART;TZID=America/New_York:20260424T193000
DTEND;TZID=America/New_York:20260424T220000
DTSTAMP:20260424T021324
CREATED:20260321T230000Z
LAST-MODIFIED:20260327T201616Z
UID:10003642-1777059000-1777068000@comedycalendar.com
SUMMARY:Spring Into Summer Comedy Jam LIVE at The Crofoot Ballroom
DESCRIPTION:This post contains affiliate links. We earn a commission if you purchase tickets through our links at no extra cost to you. \nOfficial Tickets\nResale Tickets \nSpring Into Summer Comedy Jam LIVE at The Crofoot Ballroom\nGet ready to laugh the night away as the Spring Into Summer Comedy Jam comes to The Crofoot Ballroom in Pontiac\, Michigan. This high-energy comedy showcase features a lineup of hilarious performers ready to kick off the summer season with non-stop laughs. Two shows available: Early Show at 7:30 PM and Late Show at 10:00 PM. \nEvent Details\nDate: Friday\, April 24\, 2026\nTime: 7:30 PM (Early Show) / 10:00 PM (Late Show)\nVenue: The Crofoot Ballroom\nAddress: 1 S. Saginaw St.\, Pontiac\, MI 48342\nAge Requirement: 18+\nParking: Street parking and lots available in downtown Pontiac \nAbout the Comedy Jam\nThe Spring Into Summer Comedy Jam is a beloved comedy showcase format that brings together some of the funniest comedians performing today. Held at the iconic Crofoot Ballroom in Pontiac\, this event promises an unforgettable night of stand-up comedy to kick off the summer season. \nWhat to Expect\n\nMultiple comedians performing back-to-back sets\nHigh-energy comedy showcase format\nTwo show options: early and late\nIntimate venue atmosphere at The Crofoot Ballroom\nA perfect spring night out in Pontiac\n\nVenue Information\nThe Crofoot Ballroom is one of Metro Detroit’s most beloved live entertainment venues\, located at 1 S. Saginaw St. in downtown Pontiac. Known for its intimate atmosphere and excellent sound\, it’s the perfect setting for a comedy night. \nTicket Information\nTickets range from $50 to $70. Available via Ticketmaster (official) or VividSeats (resale). \nOfficial Tickets\nResale Tickets \nThis post contains affiliate links. We earn a commission if you purchase tickets through our links at no extra cost to you.\nAll sales are final. Show times subject to change. Valid photo ID may be required for entry.
URL:https://comedycalendar.com/event/spring-into-summer-comedy-jam-live-at-the-crofoot-ballroom/
LOCATION:The Crofoot Ballroom\, 1 S. Saginaw St\, Pontiac\, MI\, 48342\, United States
CATEGORIES:Comedy Showcase,Showcase,Stand Up Comedy
ATTACH;FMTTYPE=image/jpeg:https://s1.ticketm.net/dam/c/50a/fa9caa1f-73a1-411e-b507-ec56fa59650a_106061_TABLET_LANDSCAPE_LARGE_16_9.jpg
GEO:42.6366253;-83.2914602
X-APPLE-STRUCTURED-LOCATION;VALUE=URI;X-ADDRESS=The Crofoot Ballroom 1 S. Saginaw St Pontiac MI 48342 United States;X-APPLE-RADIUS=500;X-TITLE=1 S. Saginaw St:geo:-83.2914602,42.6366253
END:VEVENT
END:VCALENDAR