BEGIN:VCALENDAR
VERSION:2.0
PRODID:-//Find Upcoming Comedy Shows Near You | Comedy Calendar - ECPv6.15.20//NONSGML v1.0//EN
CALSCALE:GREGORIAN
METHOD:PUBLISH
X-ORIGINAL-URL:https://comedycalendar.com
X-WR-CALDESC:Events for Find Upcoming Comedy Shows Near You | Comedy Calendar
REFRESH-INTERVAL;VALUE=DURATION:PT1H
X-Robots-Tag:noindex
X-PUBLISHED-TTL:PT1H
BEGIN:VTIMEZONE
TZID:America/New_York
BEGIN:DAYLIGHT
TZOFFSETFROM:-0500
TZOFFSETTO:-0400
TZNAME:EDT
DTSTART:20250309T070000
END:DAYLIGHT
BEGIN:STANDARD
TZOFFSETFROM:-0400
TZOFFSETTO:-0500
TZNAME:EST
DTSTART:20251102T060000
END:STANDARD
BEGIN:DAYLIGHT
TZOFFSETFROM:-0500
TZOFFSETTO:-0400
TZNAME:EDT
DTSTART:20260308T070000
END:DAYLIGHT
BEGIN:STANDARD
TZOFFSETFROM:-0400
TZOFFSETTO:-0500
TZNAME:EST
DTSTART:20261101T060000
END:STANDARD
BEGIN:DAYLIGHT
TZOFFSETFROM:-0500
TZOFFSETTO:-0400
TZNAME:EDT
DTSTART:20270314T070000
END:DAYLIGHT
BEGIN:STANDARD
TZOFFSETFROM:-0400
TZOFFSETTO:-0500
TZNAME:EST
DTSTART:20271107T060000
END:STANDARD
END:VTIMEZONE
BEGIN:VTIMEZONE
TZID:America/Los_Angeles
BEGIN:DAYLIGHT
TZOFFSETFROM:-0800
TZOFFSETTO:-0700
TZNAME:PDT
DTSTART:20250309T100000
END:DAYLIGHT
BEGIN:STANDARD
TZOFFSETFROM:-0700
TZOFFSETTO:-0800
TZNAME:PST
DTSTART:20251102T090000
END:STANDARD
BEGIN:DAYLIGHT
TZOFFSETFROM:-0800
TZOFFSETTO:-0700
TZNAME:PDT
DTSTART:20260308T100000
END:DAYLIGHT
BEGIN:STANDARD
TZOFFSETFROM:-0700
TZOFFSETTO:-0800
TZNAME:PST
DTSTART:20261101T090000
END:STANDARD
BEGIN:DAYLIGHT
TZOFFSETFROM:-0800
TZOFFSETTO:-0700
TZNAME:PDT
DTSTART:20270314T100000
END:DAYLIGHT
BEGIN:STANDARD
TZOFFSETFROM:-0700
TZOFFSETTO:-0800
TZNAME:PST
DTSTART:20271107T090000
END:STANDARD
END:VTIMEZONE
BEGIN:VTIMEZONE
TZID:America/Chicago
BEGIN:DAYLIGHT
TZOFFSETFROM:-0600
TZOFFSETTO:-0500
TZNAME:CDT
DTSTART:20250309T080000
END:DAYLIGHT
BEGIN:STANDARD
TZOFFSETFROM:-0500
TZOFFSETTO:-0600
TZNAME:CST
DTSTART:20251102T070000
END:STANDARD
BEGIN:DAYLIGHT
TZOFFSETFROM:-0600
TZOFFSETTO:-0500
TZNAME:CDT
DTSTART:20260308T080000
END:DAYLIGHT
BEGIN:STANDARD
TZOFFSETFROM:-0500
TZOFFSETTO:-0600
TZNAME:CST
DTSTART:20261101T070000
END:STANDARD
BEGIN:DAYLIGHT
TZOFFSETFROM:-0600
TZOFFSETTO:-0500
TZNAME:CDT
DTSTART:20270314T080000
END:DAYLIGHT
BEGIN:STANDARD
TZOFFSETFROM:-0500
TZOFFSETTO:-0600
TZNAME:CST
DTSTART:20271107T070000
END:STANDARD
END:VTIMEZONE
BEGIN:VEVENT
DTSTART;TZID=America/New_York:20260424T193000
DTEND;TZID=America/New_York:20260424T220000
DTSTAMP:20260424T001231
CREATED:20260321T230000Z
LAST-MODIFIED:20260327T201616Z
UID:10003642-1777059000-1777068000@comedycalendar.com
SUMMARY:Spring Into Summer Comedy Jam LIVE at The Crofoot Ballroom
DESCRIPTION:This post contains affiliate links. We earn a commission if you purchase tickets through our links at no extra cost to you. \nOfficial Tickets\nResale Tickets \nSpring Into Summer Comedy Jam LIVE at The Crofoot Ballroom\nGet ready to laugh the night away as the Spring Into Summer Comedy Jam comes to The Crofoot Ballroom in Pontiac\, Michigan. This high-energy comedy showcase features a lineup of hilarious performers ready to kick off the summer season with non-stop laughs. Two shows available: Early Show at 7:30 PM and Late Show at 10:00 PM. \nEvent Details\nDate: Friday\, April 24\, 2026\nTime: 7:30 PM (Early Show) / 10:00 PM (Late Show)\nVenue: The Crofoot Ballroom\nAddress: 1 S. Saginaw St.\, Pontiac\, MI 48342\nAge Requirement: 18+\nParking: Street parking and lots available in downtown Pontiac \nAbout the Comedy Jam\nThe Spring Into Summer Comedy Jam is a beloved comedy showcase format that brings together some of the funniest comedians performing today. Held at the iconic Crofoot Ballroom in Pontiac\, this event promises an unforgettable night of stand-up comedy to kick off the summer season. \nWhat to Expect\n\nMultiple comedians performing back-to-back sets\nHigh-energy comedy showcase format\nTwo show options: early and late\nIntimate venue atmosphere at The Crofoot Ballroom\nA perfect spring night out in Pontiac\n\nVenue Information\nThe Crofoot Ballroom is one of Metro Detroit’s most beloved live entertainment venues\, located at 1 S. Saginaw St. in downtown Pontiac. Known for its intimate atmosphere and excellent sound\, it’s the perfect setting for a comedy night. \nTicket Information\nTickets range from $50 to $70. Available via Ticketmaster (official) or VividSeats (resale). \nOfficial Tickets\nResale Tickets \nThis post contains affiliate links. We earn a commission if you purchase tickets through our links at no extra cost to you.\nAll sales are final. Show times subject to change. Valid photo ID may be required for entry.
URL:https://comedycalendar.com/event/spring-into-summer-comedy-jam-live-at-the-crofoot-ballroom/
LOCATION:The Crofoot Ballroom\, 1 S. Saginaw St\, Pontiac\, MI\, 48342\, United States
CATEGORIES:Comedy Showcase,Showcase,Stand Up Comedy
ATTACH;FMTTYPE=image/jpeg:https://s1.ticketm.net/dam/c/50a/fa9caa1f-73a1-411e-b507-ec56fa59650a_106061_TABLET_LANDSCAPE_LARGE_16_9.jpg
GEO:42.6366253;-83.2914602
X-APPLE-STRUCTURED-LOCATION;VALUE=URI;X-ADDRESS=The Crofoot Ballroom 1 S. Saginaw St Pontiac MI 48342 United States;X-APPLE-RADIUS=500;X-TITLE=1 S. Saginaw St:geo:-83.2914602,42.6366253
END:VEVENT
BEGIN:VEVENT
DTSTART;TZID=America/Los_Angeles:20260522T193000
DTEND;TZID=America/Los_Angeles:20260522T213000
DTSTAMP:20260424T001231
CREATED:20260323T060000Z
LAST-MODIFIED:20260323T060000Z
UID:10003839-1779478200-1779485400@comedycalendar.com
SUMMARY:Chris D'Elia LIVE at San Jose Improv (Friday Early Show)
DESCRIPTION:Official TicketsResale Tickets \nAbout the Performer\nChris D’Elia is one of the most in-demand stand-up comedians working today. Known for his high-energy delivery\, sharp wit\, and ability to riff effortlessly on stage\, D’Elia has built a massive following through his stand-up specials\, podcast\, and social media presence. \nHe has three Netflix comedy specials to his name: Man on Fire (2017)\, Incorrigible (2015)\, and was selected as one of four comedians to represent the United States in Netflix’s 2019 global series Comedians of the World. His first special\, White Male\, Black Comic\, debuted on Comedy Central in 2013. \nD’Elia’s podcast Congratulations with Chris D’Elia has been a consistent top performer on iTunes’ comedy podcast charts since its debut in 2017. He is also a co-host on The Golden Hour with Brendan Schaub. His comedy style blends observational humor\, physical comedy\, and unfiltered storytelling that keeps audiences laughing from start to finish. \nEvent Details\nDate: Friday\, May 22\, 2026\nShow Time: 7:30 PM PDT (Doors open at 6:30 PM)\nVenue: San Jose Improv\, 62 S Second St\, San Jose\, CA 95113\nAge Restriction: 21+ Event — Valid ID required\nContent Warning: Adult language and themes \nThis is the Friday Early Show. A mandatory two-item minimum purchase (food or drinks) applies to all guests in the showroom. No cell phones\, photography\, or video recording permitted during the performance. All sales are final. \nAbout the Venue\nThe San Jose Improv is one of the Bay Area’s premier comedy clubs\, located in the heart of downtown San Jose at 62 S Second St. Part of the nationally renowned Improv comedy club chain\, this intimate venue offers an up-close and personal comedy experience unlike any arena show. \nThe club features a full bar and dining menu\, with seating ranging from general admission to premium tables and VIP banquette booths. General admission seating is first-come\, first-served (host-escorted)\, while premium and VIP options offer reserved placement with food and beverage credits included. \nThe atmosphere is lively and social — expect a buzzing pre-show crowd\, attentive staff\, and a room that feels perfectly sized for comedy. Parking is available in nearby downtown San Jose garages and street parking. The venue is easily accessible via VTA light rail and bus routes. \nWhat to Expect\nChris D’Elia is known for his explosive stage presence and ability to improvise on the fly. His shows are unpredictable\, hilarious\, and deeply personal — drawing from his experiences as a comedian\, father\, and pop culture observer. \nFriday nights at the Improv are always a great time. This early show is perfect for those who want a full evening out — arrive for dinner\, enjoy the show\, and still have time to explore downtown San Jose afterward. \nExpect approximately 60–75 minutes of stand-up comedy. The show is 21+ and the club enforces a two-drink/food minimum. \nTicket Information\nPrice Range: $35 – $100 (plus fees)\nTicket Options: GA ($35)\, VIP ($50)\, Premium Table for 4 ($85/ticket)\, VIP Banquette for 4 ($100/ticket) \nPurchase official tickets directly through Ticketmaster/TicketWeb\, or find resale tickets through VividSeats. \nOfficial TicketsResale Tickets \nThis post contains affiliate links. We may earn a commission at no extra cost to you.
URL:https://comedycalendar.com/event/chris-delia-live-at-san-jose-improv-friday-early-show/
LOCATION:San Jose Improv\, 62 S Second St\, San Jose\, California\, 95113\, United States
ATTACH;FMTTYPE=image/png:https://comedycalendar.com/wp-content/uploads/2026/03/54_Edp-hksl0C.png
GEO:37.3356413;-121.8883224
X-APPLE-STRUCTURED-LOCATION;VALUE=URI;X-ADDRESS=San Jose Improv 62 S Second St San Jose California 95113 United States;X-APPLE-RADIUS=500;X-TITLE=62 S Second St:geo:-121.8883224,37.3356413
END:VEVENT
BEGIN:VEVENT
DTSTART;TZID=America/Los_Angeles:20260628T170000
DTEND;TZID=America/Los_Angeles:20260628T190000
DTSTAMP:20260424T001231
CREATED:20260321T050000Z
LAST-MODIFIED:20260321T050000Z
UID:10003566-1782666000-1782673200@comedycalendar.com
SUMMARY:Trae Crowder LIVE at Belly Up - Early Show
DESCRIPTION:Official TicketsResale Tickets \nAbout the Performer\nTrae Crowder is a stand-up comedian\, writer\, and internet personality who first gained international attention in 2016 with his wildly viral “Liberal Redneck” comedic porch rant videos. Hailing from rural Celina\, Tennessee\, Trae brings a sharp\, Southern-fried perspective to progressive politics and everyday life that has resonated with millions of fans across the country. \nSince his viral breakthrough\, Trae has co-authored the best-selling book The Liberal Redneck Manifesto: Draggin Dixie Outta The Dark\, toured the country multiple times under the WellRED Comedy Tour banner\, and appeared on Real Time with Bill Maher (HBO)\, The View\, Nightline (ABC)\, NPR\, and WTF with Marc Maron. He also appeared in the Veronica Mars reboot as “Chattanooga Charlie.” \nTrae has developed and sold five scripted pilots for Warner Bros TV\, ABC\, and FOX\, and co-hosts the popular podcasts “WellRED\,” “Evening Skews\,” and “Puttin’ On Airs.” His latest full-length stand-up special Trash Daddy is available now on YouTube. \nEvent Details\n\nDate: Sunday\, June 28\, 2026\nShow Time: 5:00 PM PDT (Early Show)\nDoors Open: 4:00 PM PDT\nVenue: Belly Up\, 143 S. Cedros Ave\, Solana Beach\, CA 92075\nAge Restriction: 21+ (valid ID required)\nTicket Delivery: eTickets delivered 48 hours before show\n\nAbout the Venue\nThe Belly Up is one of San Diego’s most beloved and iconic live music and comedy venues\, nestled in the charming coastal community of Solana Beach. With a capacity of approximately 600\, it offers an intimate yet electric atmosphere that puts fans close to the action. \nThe venue features a main floor general admission area\, Gold Circle seats in the first four rows\, and a reserved loft seating section with its own dedicated seating chart. The Belly Up is known for its warm\, welcoming vibe\, excellent sightlines\, and top-notch sound system that makes every performance feel personal. \nParking is available in the surrounding Solana Beach area\, and the venue is conveniently located near local restaurants and shops on Cedros Avenue. The box office can be reached at 858-481-8140. \nWhat to Expect\nThis is a seated comedy show — all ticket holders are guaranteed a seat. General Admission seating is first-come\, first-served within the GA section\, while Gold Circle and Loft seats offer reserved placement. Note that this is the early show at 5:00 PM; a second show at 8:00 PM is also available. \nExpect a hilarious\, politically charged evening of stand-up comedy from one of the internet’s most beloved comedians. Trae Crowder’s unique blend of Southern charm\, sharp wit\, and unapologetic progressive humor makes for a show that’s as thought-provoking as it is laugh-out-loud funny. Fans of his viral videos and podcasts will love seeing him live in this intimate setting. \nTicket Information\n\nGeneral Admission: $35 advance / $35 day of show\nGold Circle Seat (1st 4 rows): $62\nReserved Loft: $53\n\nOfficial TicketsResale Tickets \nThis post contains affiliate links. We may earn a commission at no extra cost to you.
URL:https://comedycalendar.com/event/trae-crowder-live-at-belly-up-early-show/
LOCATION:Belly Up\, 143 S. Cedros Ave\, Solana Beach\, CA\, 92075\, USA
ATTACH;FMTTYPE=image/jpeg:https://i.ticketweb.com/i/00/12/89/20/44_Edp.jpg?v=6
GEO:32.9905242;-117.2704994
X-APPLE-STRUCTURED-LOCATION;VALUE=URI;X-ADDRESS=Belly Up 143 S. Cedros Ave Solana Beach CA 92075 USA;X-APPLE-RADIUS=500;X-TITLE=143 S. Cedros Ave:geo:-117.2704994,32.9905242
END:VEVENT
BEGIN:VEVENT
DTSTART;TZID=America/Chicago:20260801T170000
DTEND;TZID=America/Chicago:20260801T190000
DTSTAMP:20260424T001231
CREATED:20260401T040000Z
LAST-MODIFIED:20260401T040000Z
UID:10004554-1785603600-1785610800@comedycalendar.com
SUMMARY:Josh Johnson's Comedy Band Camp LIVE at Taft Theatre (Early Show)
DESCRIPTION:This post contains affiliate links. We may earn a commission at no extra cost to you. \n\nOfficial TicketsResale Tickets\n \nAbout the Performer\nJosh Johnson is a rising star in the stand-up comedy world\, best known for his sharp wit\, absurdist observations\, and uniquely cerebral comedic style. He has appeared on The Tonight Show Starring Jimmy Fallon\, The Daily Show\, and his own Netflix special\, earning him a devoted fanbase across the country. \nJohnson’s comedy blends intellectual humor with relatable everyday experiences\, often exploring the quirks of modern life\, social dynamics\, and the human condition — all delivered with impeccable timing and a laid-back confidence that keeps audiences laughing from start to finish. \nHis Comedy Band Camp concept is a unique live experience that combines stand-up performance with a musical\, camp-style atmosphere — making it one of the most talked-about touring shows of 2026. \nEvent Details\n\nDate: Saturday\, August 1\, 2026\nShow Time: 5:00 PM (Early Show)\nVenue: Taft Theatre\, 317 East 5th Street\, Cincinnati\, OH 45202\nDoors Open: Approximately 4:00 PM\nAge Restrictions: All ages welcome; some content may be intended for mature audiences\nNote: A second show (Late Show) is also available at 8:30 PM on the same date\n\nAbout the Venue\nThe Taft Theatre is one of Cincinnati’s most beloved and historic entertainment venues\, located in the heart of downtown at 317 East 5th Street. Built in 1928\, the Taft Theatre is a stunning example of Art Deco architecture and has hosted some of the biggest names in comedy\, music\, and the performing arts for nearly a century. \nWith a seating capacity of approximately 2\,500\, the Taft offers an intimate yet grand atmosphere that makes every seat feel close to the action. The venue features excellent sightlines\, superior acoustics\, and a warm\, classic ambiance that enhances any live performance experience. \nAmenities include a full-service bar\, concessions\, and accessible seating options. Parking is available in several nearby garages and surface lots throughout downtown Cincinnati. The venue is also conveniently accessible via public transit. \nWhat to Expect\nJosh Johnson’s Comedy Band Camp is not your average stand-up show. This unique live experience brings together comedy\, music\, and an immersive camp-style atmosphere that has been wowing audiences on tour across the country. \nExpect a high-energy evening filled with Josh Johnson’s signature brand of smart\, observational humor\, along with special musical elements that make this show a one-of-a-kind event. Whether you’re a longtime fan or discovering Josh Johnson for the first time\, this show promises to be an unforgettable night of laughter and entertainment. \nThe Early Show at 5:00 PM is perfect for those who want to enjoy the full experience and still have the rest of the evening free. Arrive early to grab a drink\, find your seat\, and soak in the incredible atmosphere of the historic Taft Theatre. \nTicket Information\nTickets for Josh Johnson’s Comedy Band Camp (Early Show) at Taft Theatre start from approximately $89\, with premium options available at higher price points. Tickets are available through Ticketmaster (official) and VividSeats (resale marketplace). \n\nOfficial TicketsResale Tickets\n \nThis post contains affiliate links. We may earn a commission at no extra cost to you.
URL:https://comedycalendar.com/event/josh-johnsons-comedy-band-camp-live-at-taft-theatre-early-show/
LOCATION:Taft Theatre\, 317 East 5th Street\, Cincinnati\, Ohio\, 45202\, United States
ATTACH;FMTTYPE=image/jpeg:https://media.ticketmaster.com/en-us/dam/a/a1f/6aec4b02-7063-4485-bcc9-242f0eef6a1f_CUSTOM.jpg
GEO:39.1015516;-84.5077172
X-APPLE-STRUCTURED-LOCATION;VALUE=URI;X-ADDRESS=Taft Theatre 317 East 5th Street Cincinnati Ohio 45202 United States;X-APPLE-RADIUS=500;X-TITLE=317 East 5th Street:geo:-84.5077172,39.1015516
END:VEVENT
BEGIN:VEVENT
DTSTART;TZID=America/New_York:20260906T170000
DTEND;TZID=America/New_York:20260906T190000
DTSTAMP:20260424T001232
CREATED:20260328T210000Z
LAST-MODIFIED:20260328T210000Z
UID:10004344-1788714000-1788721200@comedycalendar.com
SUMMARY:Gabriel Fluffy Iglesias Live LIVE at Premier Theater at Foxwoods Resort Casino
DESCRIPTION:This post contains affiliate links. We earn a commission if you purchase tickets through our links at no extra cost to you. \nOfficial Tickets\nResale Tickets \nGabriel Fluffy Iglesias Live LIVE at Premier Theater at Foxwoods Resort Casino\nThe beloved comedian Gabriel “Fluffy” Iglesias brings his live show to the Premier Theater at Foxwoods Resort Casino in Mashantucket\, CT on Sunday\, September 6\, 2026. One of the most popular stand-up comedians in the world\, Fluffy is known for his high-energy performances\, hilarious storytelling\, and universal appeal. \nEvent Details\nDate: Sunday\, September 6\, 2026\nTime: 5:00 PM ET (Early Show)\nVenue: Premier Theater at Foxwoods Resort Casino\nAddress: 39 Norwich Westerly Road\, Mashantucket\, CT 06339\nAge Requirement: All Ages (Under 14 must be accompanied by an adult)\nParking: On-site parking available \nAbout Gabriel Iglesias\nGabriel “Fluffy” Iglesias is one of America’s most beloved comedians\, known for his animated storytelling\, sound effects\, and characters. He has starred in multiple Netflix specials and the hit TV show Mr. Iglesias. His comedy transcends age and background\, making him a fan favorite worldwide. \nWhat to Expect\n\nGabriel Iglesias’s signature high-energy live performance\nHilarious storytelling and crowd interaction\nFamily-friendly comedy for all ages\nA world-class venue inside Foxwoods Resort Casino\nTwo shows available — early show at 5:00 PM\n\nVenue Information\nThe Premier Theater at Foxwoods Resort Casino is one of New England’s premier entertainment venues\, located inside the world-famous Foxwoods Resort Casino in Mashantucket\, CT. The theater offers excellent sightlines\, top-notch sound\, and easy access to dining and gaming. \nTicket Information\nTickets are available now. Two shows on September 6 — early show at 5:00 PM and late show at 8:30 PM. Grab your seats before they sell out! \nOfficial Tickets\nResale Tickets \nThis post contains affiliate links. We earn a commission if you purchase tickets through our links at no extra cost to you.\nAll sales are final. Show times subject to change. Valid photo ID may be required for entry.
URL:https://comedycalendar.com/event/gabriel-fluffy-iglesias-live-at-premier-theater-at-foxwoods-resort-casino/
LOCATION:Premier Theater at Foxwoods Resort Casino\, 39 Norwich Westerly Road\, Mashantucket\, CT\, 6339\, United States Of America
ATTACH;FMTTYPE=image/jpeg:https://comedycalendar.com/wp-content/uploads/2026/03/33a32096-d2fb-45cf-9d95-b71260f94f02_TABLET_LANDSCAPE_LARGE_16_9-pSNYVa.jpg
GEO:41.4758112;-71.9626466
X-APPLE-STRUCTURED-LOCATION;VALUE=URI;X-ADDRESS=Premier Theater at Foxwoods Resort Casino 39 Norwich Westerly Road Mashantucket CT 6339 United States Of America;X-APPLE-RADIUS=500;X-TITLE=39 Norwich Westerly Road:geo:-71.9626466,41.4758112
END:VEVENT
BEGIN:VEVENT
DTSTART;TZID=America/New_York:20261003T170000
DTEND;TZID=America/New_York:20261003T190000
DTSTAMP:20260424T001232
CREATED:20260315T130000Z
LAST-MODIFIED:20260319T183532Z
UID:10003002-1791046800-1791054000@comedycalendar.com
SUMMARY:Josh Johnson's Comedy Band Camp LIVE at DAR Constitution Hall (Oct 3 Early)
DESCRIPTION:Official TicketsResale Tickets \nAbout the Performer\nJosh Johnson is a Daily Show writer and correspondent whose Comedy Band Camp tour uniquely blends stand-up comedy with live music. His sharp wit and musical talent make this one of the most original live comedy experiences touring today. \nEvent Details\nDate: Saturday\, October 3\, 2026\nTime: 5:00 PM EDT (Early Show)\nDoors Open: 4:00 PM\nVenue: DAR Constitution Hall\, 1776 D Street NW\, Washington\, DC 20006\nNote: A late show at 8:30 PM is also available on the same night. \nAbout the Venue\nDAR Constitution Hall is one of Washington\, DC’s most prestigious venues\, seating approximately 3\,702 guests in a magnificent neoclassical setting near the National Mall. Accessible via the Farragut West Metro station. \nWhat to Expect\nExpect approximately 90 minutes of Josh Johnson’s unique blend of stand-up comedy and live music. This early show is perfect for those who want to enjoy a world-class comedy experience and still have the rest of their Saturday evening free. \nTicket Information\nPrice Range: $55 – $120 (plus fees) \nOfficial TicketsResale Tickets \nThis post contains affiliate links. We may earn a commission at no extra cost to you.
URL:https://comedycalendar.com/event/josh-johnsons-comedy-band-camp-live-at-dar-constitution-hall-early/
LOCATION:DAR Constitution Hall\, 1776 D Street NW\, Washington\, DC\, 20006\, United States
CATEGORIES:Stand Up Comedy
ATTACH;FMTTYPE=image/jpeg:https://s1.ticketm.net/dam/a/a1f/6aec4b02-7063-4485-bcc9-242f0eef6a1f_EVENT_DETAIL_PAGE_16_9.jpg
GEO:38.8941743;-77.0408523
X-APPLE-STRUCTURED-LOCATION;VALUE=URI;X-ADDRESS=DAR Constitution Hall 1776 D Street NW Washington DC 20006 United States;X-APPLE-RADIUS=500;X-TITLE=1776 D Street NW:geo:-77.0408523,38.8941743
END:VEVENT
END:VCALENDAR