BEGIN:VCALENDAR
VERSION:2.0
PRODID:-//Find Upcoming Comedy Shows Near You | Comedy Calendar - ECPv6.15.20//NONSGML v1.0//EN
CALSCALE:GREGORIAN
METHOD:PUBLISH
X-ORIGINAL-URL:https://comedycalendar.com
X-WR-CALDESC:Events for Find Upcoming Comedy Shows Near You | Comedy Calendar
REFRESH-INTERVAL;VALUE=DURATION:PT1H
X-Robots-Tag:noindex
X-PUBLISHED-TTL:PT1H
BEGIN:VTIMEZONE
TZID:America/New_York
BEGIN:DAYLIGHT
TZOFFSETFROM:-0500
TZOFFSETTO:-0400
TZNAME:EDT
DTSTART:20250309T070000
END:DAYLIGHT
BEGIN:STANDARD
TZOFFSETFROM:-0400
TZOFFSETTO:-0500
TZNAME:EST
DTSTART:20251102T060000
END:STANDARD
BEGIN:DAYLIGHT
TZOFFSETFROM:-0500
TZOFFSETTO:-0400
TZNAME:EDT
DTSTART:20260308T070000
END:DAYLIGHT
BEGIN:STANDARD
TZOFFSETFROM:-0400
TZOFFSETTO:-0500
TZNAME:EST
DTSTART:20261101T060000
END:STANDARD
BEGIN:DAYLIGHT
TZOFFSETFROM:-0500
TZOFFSETTO:-0400
TZNAME:EDT
DTSTART:20270314T070000
END:DAYLIGHT
BEGIN:STANDARD
TZOFFSETFROM:-0400
TZOFFSETTO:-0500
TZNAME:EST
DTSTART:20271107T060000
END:STANDARD
END:VTIMEZONE
BEGIN:VEVENT
DTSTART;TZID=America/New_York:20261118T193000
DTEND;TZID=America/New_York:20261118T220000
DTSTAMP:20260422T222640
CREATED:20260304T230000Z
LAST-MODIFIED:20260304T230000Z
UID:10002514-1795030200-1795039200@comedycalendar.com
SUMMARY:Duncan Trussell LIVE at The Bell House
DESCRIPTION:This post contains affiliate links. We may earn a commission at no extra cost to you. \nOfficial TicketsResale Tickets \nDuncan Trussell LIVE at The Bell House\nDuncan Trussell\, the wildly creative comedian\, podcaster\, and voice actor\, brings his one-of-a-kind stand-up to The Bell House in Brooklyn on Wednesday\, November 18\, 2026. Known for his psychedelic\, philosophical humor and his beloved podcast The Duncan Trussell Family Hour\, Duncan delivers comedy that is as thought-provoking as it is hilarious. Note: This show was rescheduled from February 1\, 2026. \nEvent Details\n\nDate: Wednesday\, November 18\, 2026\nTime: 7:30 PM (Doors open at 6:30 PM)\nVenue: The Bell House\nAddress: 149 7th Street\, Brooklyn\, NY 11215\nAge Restriction: 21+ with valid government-issued photo ID\n\nAbout Duncan Trussell\nDuncan Trussell is a Los Angeles-based stand-up comedian\, writer\, and podcaster best known for The Duncan Trussell Family Hour\, one of the most beloved comedy and philosophy podcasts in the world. He has appeared on The Joe Rogan Experience\, created the Netflix animated series The Midnight Gospel\, and is known for his deeply original\, spiritually infused comedic perspective. His stand-up blends absurdist humor\, existential musings\, and genuine warmth. \nWhat to Expect\nAn intimate\, unforgettable evening of stand-up comedy unlike anything else. Duncan’s shows are known for being spontaneous\, deeply funny\, and occasionally mind-expanding. General admission seating — arrive early for the best spots. 21+ event. \nVenue Information\nThe Bell House is located at 149 7th Street\, Brooklyn\, NY 11215. Accessible via the F\, G\, or R train to Smith-9th Streets. The venue is wheelchair accessible. No outside food or drink permitted. \nTicket Information\nTickets start at $38. Get your official tickets through Ticketmaster or find resale tickets on VividSeats: \nOfficial TicketsResale Tickets \nThis post contains affiliate links. We may earn a commission at no extra cost to you.
URL:https://comedycalendar.com/event/duncan-trussell-live-at-the-bell-house/
LOCATION:The Bell House\, 149 7th Street\, Brooklyn\, NY\, 11215\, USA
ATTACH;FMTTYPE=image/jpeg:https://comedycalendar.com/wp-content/uploads/2026/03/b0d4f0b0-b534-436d-93f7-cd616b6c2033_1641561_RETINA_LANDSCAPE_16_9-1JaK4k.jpg
GEO:40.6737398;-73.9916854
X-APPLE-STRUCTURED-LOCATION;VALUE=URI;X-ADDRESS=The Bell House 149 7th Street Brooklyn NY 11215 USA;X-APPLE-RADIUS=500;X-TITLE=149 7th Street:geo:-73.9916854,40.6737398
END:VEVENT
END:VCALENDAR