BEGIN:VCALENDAR
VERSION:2.0
PRODID:-//Find Upcoming Comedy Shows Near You | Comedy Calendar - ECPv6.15.20//NONSGML v1.0//EN
CALSCALE:GREGORIAN
METHOD:PUBLISH
X-WR-CALNAME:Find Upcoming Comedy Shows Near You | Comedy Calendar
X-ORIGINAL-URL:https://comedycalendar.com
X-WR-CALDESC:Events for Find Upcoming Comedy Shows Near You | Comedy Calendar
REFRESH-INTERVAL;VALUE=DURATION:PT1H
X-Robots-Tag:noindex
X-PUBLISHED-TTL:PT1H
BEGIN:VTIMEZONE
TZID:America/Los_Angeles
BEGIN:DAYLIGHT
TZOFFSETFROM:-0800
TZOFFSETTO:-0700
TZNAME:PDT
DTSTART:20250309T100000
END:DAYLIGHT
BEGIN:STANDARD
TZOFFSETFROM:-0700
TZOFFSETTO:-0800
TZNAME:PST
DTSTART:20251102T090000
END:STANDARD
BEGIN:DAYLIGHT
TZOFFSETFROM:-0800
TZOFFSETTO:-0700
TZNAME:PDT
DTSTART:20260308T100000
END:DAYLIGHT
BEGIN:STANDARD
TZOFFSETFROM:-0700
TZOFFSETTO:-0800
TZNAME:PST
DTSTART:20261101T090000
END:STANDARD
BEGIN:DAYLIGHT
TZOFFSETFROM:-0800
TZOFFSETTO:-0700
TZNAME:PDT
DTSTART:20270314T100000
END:DAYLIGHT
BEGIN:STANDARD
TZOFFSETFROM:-0700
TZOFFSETTO:-0800
TZNAME:PST
DTSTART:20271107T090000
END:STANDARD
END:VTIMEZONE
BEGIN:VEVENT
DTSTART;TZID=America/Los_Angeles:20260515T193000
DTEND;TZID=America/Los_Angeles:20260515T213000
DTSTAMP:20260421T221329
CREATED:20260312T051000Z
LAST-MODIFIED:20260404T210739Z
UID:10002787-1778873400-1778880600@comedycalendar.com
SUMMARY:Dov Davidoff LIVE at Jimmy Kimmel's Comedy Club
DESCRIPTION:This post contains affiliate links. We earn a commission if you purchase tickets through our links at no extra cost to you. \nOfficial Tickets\nResale Tickets \nDov Davidoff LIVE at Jimmy Kimmel’s Comedy Club\nComedian and actor Dov Davidoff brings his sharp\, incisive stand-up comedy to Jimmy Kimmel’s Comedy Club on the Las Vegas Strip. Known for his appearances on HBO’s Crashing\, NBC’s Shades of Blue\, and a lead role alongside Mark Wahlberg in Invincible\, Davidoff delivers powerful\, thought-provoking comedy that vacillates between the relevant and the absurd. \nEvent Details\nDate: Friday\, May 15\, 2026\nTime: 7:30 PM\nVenue: Jimmy Kimmel’s Comedy Club\nAddress: 3545 S Las Vegas Blvd\, Las Vegas\, NV 89109\nAge Requirement: 18+ (valid photo ID required) \nAbout Dov Davidoff\nDov Davidoff is a stand-up comedian\, actor\, and author who has appeared on HBO’s Crashing\, NBC’s Shades of Blue with Jennifer Lopez and Ray Liotta\, and had a lead role alongside Mark Wahlberg in the film Invincible. He has performed on The Tonight Show and Late Night with Jimmy Kimmel\, released comedy specials on Comedy Central and Showtime\, and published a memoir entitled Road Dog. His comedy is brutally honest\, satirical\, and ceaselessly energetic. \nWhat to Expect\n\nPowerful\, incisive stand-up comedy from a seasoned performer\nSharp wit that vacillates between the relevant and the absurd\nBrutally honest\, satirical\, and energetic delivery\nAn intimate comedy club experience on the Las Vegas Strip\nNon-stop laughs from a comedian you’ve seen on HBO and NBC\n\nVenue Information\nJimmy Kimmel’s Comedy Club is located on the LINQ Promenade at 3545 S Las Vegas Blvd\, offering a world-class comedy club experience in the heart of the Las Vegas Strip. \nTicket Information\nTickets start from $49. Don’t miss Dov Davidoff live in Las Vegas! \nOfficial Tickets\nResale Tickets \nThis post contains affiliate links. We earn a commission if you purchase tickets through our links at no extra cost to you.\nAll sales are final. Show times subject to change. Valid photo ID may be required for entry.
URL:https://comedycalendar.com/event/dov-davidoff-live-at-jimmy-kimmels-comedy-club/
LOCATION:Jimmy Kimmel’s Comedy Club\, 3545 S Las Vegas Blvd\, Las Vegas\, NV\, 89109\, USA
ATTACH;FMTTYPE=image/jpeg:https://s1.ticketm.net/dam/a/02c/8b1f8e3a-effc-4f78-982a-b17df9c3102c_1251921_TABLET_LANDSCAPE_LARGE_16_9.jpg
GEO:36.11759;-115.168698
X-APPLE-STRUCTURED-LOCATION;VALUE=URI;X-ADDRESS=Jimmy Kimmel’s Comedy Club 3545 S Las Vegas Blvd Las Vegas NV 89109 USA;X-APPLE-RADIUS=500;X-TITLE=3545 S Las Vegas Blvd:geo:-115.168698,36.11759
END:VEVENT
END:VCALENDAR