BEGIN:VCALENDAR
VERSION:2.0
PRODID:-//Find Upcoming Comedy Shows Near You | Comedy Calendar - ECPv6.15.20//NONSGML v1.0//EN
CALSCALE:GREGORIAN
METHOD:PUBLISH
X-WR-CALNAME:Find Upcoming Comedy Shows Near You | Comedy Calendar
X-ORIGINAL-URL:https://comedycalendar.com
X-WR-CALDESC:Events for Find Upcoming Comedy Shows Near You | Comedy Calendar
REFRESH-INTERVAL;VALUE=DURATION:PT1H
X-Robots-Tag:noindex
X-PUBLISHED-TTL:PT1H
BEGIN:VTIMEZONE
TZID:America/New_York
BEGIN:DAYLIGHT
TZOFFSETFROM:-0500
TZOFFSETTO:-0400
TZNAME:EDT
DTSTART:20250309T070000
END:DAYLIGHT
BEGIN:STANDARD
TZOFFSETFROM:-0400
TZOFFSETTO:-0500
TZNAME:EST
DTSTART:20251102T060000
END:STANDARD
BEGIN:DAYLIGHT
TZOFFSETFROM:-0500
TZOFFSETTO:-0400
TZNAME:EDT
DTSTART:20260308T070000
END:DAYLIGHT
BEGIN:STANDARD
TZOFFSETFROM:-0400
TZOFFSETTO:-0500
TZNAME:EST
DTSTART:20261101T060000
END:STANDARD
BEGIN:DAYLIGHT
TZOFFSETFROM:-0500
TZOFFSETTO:-0400
TZNAME:EDT
DTSTART:20270314T070000
END:DAYLIGHT
BEGIN:STANDARD
TZOFFSETFROM:-0400
TZOFFSETTO:-0500
TZNAME:EST
DTSTART:20271107T060000
END:STANDARD
END:VTIMEZONE
BEGIN:VEVENT
DTSTART;TZID=America/New_York:20260508T193000
DTEND;TZID=America/New_York:20260508T220000
DTSTAMP:20260424T121634
CREATED:20260315T070000Z
LAST-MODIFIED:20260319T170305Z
UID:10002941-1778268600-1778277600@comedycalendar.com
SUMMARY:Donnell Rawlings LIVE at The Wilbur
DESCRIPTION:Official Tickets Resale Tickets \nThis post contains affiliate links. We may earn a commission at no extra cost to you. \nAbout the Performer\nDonnell Rawlings is one of the most beloved comedians in America\, best known for his iconic role as “Ashy Larry” on Chappelle’s Show. With decades of stand-up experience and a reputation as one of the funniest men alive\, Donnell has built a devoted fanbase through his hilarious live performances and countless TV appearances. \nHis stand-up is high-energy\, sharp\, and packed with the kind of real-talk humor that has audiences howling from start to finish. Donnell brings an infectious energy to the stage that makes every show feel like a party. \nWhether you know him from Chappelle’s Show\, his podcast\, or his stand-up specials\, seeing Donnell Rawlings live is an experience you will never forget. \nEvent Details\n\nDate: Friday\, May 8\, 2026\nTime: 7:30 PM ET\nVenue: The Wilbur\, 246 Tremont St\, Boston\, MA 02116\nTickets from: $51\n\nAbout the Venue\nThe Wilbur is one of Boston’s most beloved and intimate comedy venues\, located in the heart of the Theater District at 246 Tremont Street. With a capacity of approximately 1\,000 guests\, The Wilbur offers an up-close and personal experience that is perfect for Donnell’s high-energy performance style. \nThe venue features excellent sightlines from every seat\, a full bar\, and a warm\, historic atmosphere that makes every show feel special. Originally built in 1914\, The Wilbur has been lovingly restored and is now one of the premier comedy destinations on the East Coast. \nParking is available at nearby garages in the Theater District\, and the venue is easily accessible via the MBTA Green and Orange Lines at Boylston and Back Bay stations. \nWhat to Expect\nExpect a high-energy\, laugh-packed evening of stand-up comedy as Donnell Rawlings brings his signature humor to The Wilbur. This is a solo performance featuring Donnell’s blend of personal stories\, sharp observations\, and the kind of infectious comedic energy that has made him a fan favorite for decades. \nThis show is recommended for audiences 18 and older due to mature content. \nTicket Information\nTickets from $51. Purchase official tickets through Ticketmaster or find resale tickets via VividSeats. \nOfficial Tickets Resale Tickets
URL:https://comedycalendar.com/event/donnell-rawlings-live-at-the-wilbur/
LOCATION:The Wilbur\, 246 Tremont St.\, Boston\, MA\, 2116\, United States Of America
CATEGORIES:Stand Up Comedy,up Comedy
ATTACH;FMTTYPE=image/jpeg:https://s1.ticketm.net/dam/a/730/9618c87e-c032-4331-9f09-53464b3a0730_EVENT_DETAIL_PAGE_16_9.jpg
GEO:42.3507311;-71.0647252
X-APPLE-STRUCTURED-LOCATION;VALUE=URI;X-ADDRESS=The Wilbur 246 Tremont St. Boston MA 2116 United States Of America;X-APPLE-RADIUS=500;X-TITLE=246 Tremont St.:geo:-71.0647252,42.3507311
END:VEVENT
END:VCALENDAR