BEGIN:VCALENDAR
VERSION:2.0
PRODID:-//Find Upcoming Comedy Shows Near You | Comedy Calendar - ECPv6.15.20//NONSGML v1.0//EN
CALSCALE:GREGORIAN
METHOD:PUBLISH
X-ORIGINAL-URL:https://comedycalendar.com
X-WR-CALDESC:Events for Find Upcoming Comedy Shows Near You | Comedy Calendar
REFRESH-INTERVAL;VALUE=DURATION:PT1H
X-Robots-Tag:noindex
X-PUBLISHED-TTL:PT1H
BEGIN:VTIMEZONE
TZID:America/New_York
BEGIN:DAYLIGHT
TZOFFSETFROM:-0500
TZOFFSETTO:-0400
TZNAME:EDT
DTSTART:20250309T070000
END:DAYLIGHT
BEGIN:STANDARD
TZOFFSETFROM:-0400
TZOFFSETTO:-0500
TZNAME:EST
DTSTART:20251102T060000
END:STANDARD
BEGIN:DAYLIGHT
TZOFFSETFROM:-0500
TZOFFSETTO:-0400
TZNAME:EDT
DTSTART:20260308T070000
END:DAYLIGHT
BEGIN:STANDARD
TZOFFSETFROM:-0400
TZOFFSETTO:-0500
TZNAME:EST
DTSTART:20261101T060000
END:STANDARD
BEGIN:DAYLIGHT
TZOFFSETFROM:-0500
TZOFFSETTO:-0400
TZNAME:EDT
DTSTART:20270314T070000
END:DAYLIGHT
BEGIN:STANDARD
TZOFFSETFROM:-0400
TZOFFSETTO:-0500
TZNAME:EST
DTSTART:20271107T060000
END:STANDARD
END:VTIMEZONE
BEGIN:VTIMEZONE
TZID:America/Chicago
BEGIN:DAYLIGHT
TZOFFSETFROM:-0600
TZOFFSETTO:-0500
TZNAME:CDT
DTSTART:20250309T080000
END:DAYLIGHT
BEGIN:STANDARD
TZOFFSETFROM:-0500
TZOFFSETTO:-0600
TZNAME:CST
DTSTART:20251102T070000
END:STANDARD
BEGIN:DAYLIGHT
TZOFFSETFROM:-0600
TZOFFSETTO:-0500
TZNAME:CDT
DTSTART:20260308T080000
END:DAYLIGHT
BEGIN:STANDARD
TZOFFSETFROM:-0500
TZOFFSETTO:-0600
TZNAME:CST
DTSTART:20261101T070000
END:STANDARD
BEGIN:DAYLIGHT
TZOFFSETFROM:-0600
TZOFFSETTO:-0500
TZNAME:CDT
DTSTART:20270314T080000
END:DAYLIGHT
BEGIN:STANDARD
TZOFFSETFROM:-0500
TZOFFSETTO:-0600
TZNAME:CST
DTSTART:20271107T070000
END:STANDARD
END:VTIMEZONE
BEGIN:VEVENT
DTSTART;TZID=America/New_York:20260502T190000
DTEND;TZID=America/New_York:20260502T210000
DTSTAMP:20260421T140652
CREATED:20260223T123000Z
LAST-MODIFIED:20260223T180904Z
UID:10002442-1777748400-1777755600@comedycalendar.com
SUMMARY:Desi Banks: Your Favorite Cousin LIVE at Town Hall
DESCRIPTION:This post contains affiliate links. We earn a commission if you purchase tickets through our links at no extra cost to you. \nOfficial Tickets (Ticketmaster) \nResale Tickets (VividSeats) \nDesi Banks: Your Favorite Cousin LIVE at Town Hall\nDesi Banks brings his hilarious stand-up comedy tour Your Favorite Cousin to the iconic Town Hall in New York City. Known for his engaging storytelling and relatable humor\, Banks delivers an unforgettable evening of comedy that keeps audiences laughing throughout the show. \nEvent Details\nDate: Saturday\, May 2\, 2026 \nTime: 7:00 PM \nVenue: Town Hall \nAddress: 123 W 43rd St\, New York\, NY 10036 \nAbout Desi Banks\nDesi Banks is a stand-up comedian known for his engaging performances and relatable humor. With a distinctive voice and engaging stage presence\, Banks has built a dedicated following through his unique blend of comedy and storytelling. His performances are known for being interactive\, energetic\, and deeply entertaining. \nWhat to Expect\n\nHigh-energy stand-up comedy performance\nEngaging storytelling and relatable humor\nInteractive audience engagement\nMix of new and classic material\nApproximately 90 minutes of comedy\nAn intimate venue setting perfect for comedy\n\nVenue Information\nTown Hall is a legendary New York City venue located in the heart of Midtown Manhattan. Known for hosting world-class entertainment and comedy performances\, the historic theater features excellent acoustics and an intimate atmosphere perfect for stand-up comedy shows. \nTicket Information\nTickets for Desi Banks’ Your Favorite Cousin tour are available starting at $25 and up to $96 depending on seating location and availability. Tickets include all fees and are available through both Ticketmaster and VividSeats resale platform. \nOfficial Tickets (Ticketmaster) \nResale Tickets (VividSeats) \nThis post contains affiliate links. We earn a commission if you purchase tickets through our links at no extra cost to you. \nAll sales are final. Show times subject to change. Valid photo ID may be required for entry.
URL:https://comedycalendar.com/event/desi-banks-your-favorite-cousin-live-at-town-hall/
LOCATION:The Town Hall\, 123 W 43rd St\, New York\, NY\, 10036\, United States
ATTACH;FMTTYPE=image/jpeg:https://s1.ticketm.net/dam/a/dd0/6249797d-9753-46d0-9f7a-97a273a5bdd0_RETINA_PORTRAIT_3_2.jpg
GEO:40.7561203;-73.9844558
X-APPLE-STRUCTURED-LOCATION;VALUE=URI;X-ADDRESS=The Town Hall 123 W 43rd St New York NY 10036 United States;X-APPLE-RADIUS=500;X-TITLE=123 W 43rd St:geo:-73.9844558,40.7561203
END:VEVENT
BEGIN:VEVENT
DTSTART;TZID=America/New_York:20260724T190000
DTEND;TZID=America/New_York:20260724T210000
DTSTAMP:20260421T140652
CREATED:20260322T010000Z
LAST-MODIFIED:20260404T201857Z
UID:10003781-1784919600-1784926800@comedycalendar.com
SUMMARY:Desi Banks: Your Favorite Cousin Tour LIVE at Raleigh Improv
DESCRIPTION:Official TicketsResale Tickets \nAbout the Performer\nDesi Banks is the ultimate triple threat — actor\, stand-up comedian\, content creator\, and entrepreneur who is taking the entertainment world by storm. With over 19 million fans across social media platforms\, Desi has built one of the most loyal and engaged audiences in comedy today\, and his live shows are a direct reflection of that energy. \nIn 2024\, Desi embarked on his own 50-city headline tour\, selling nearly 52\,000 tickets. He has toured alongside heavyweights like Mike Epps\, Deray Davis\, Kountry Wayne\, Gary Owen\, and Lavell Crawford\, and joined Martin Lawrence on the “Y’all Know What It Is!” tour in Las Vegas\, Los Angeles\, and Oakland. Kevin Hart has publicly praised Desi as the “next great” talent in comedy. \nAs an actor\, Desi has appeared in major motion pictures including Lawrence Lamont’s One of Them Days (produced by Issa Rae\, starring Keke Palmer and SZA)\, Will Packer’s Little\, and the indie-horror film Haunted Trail on BET+. He is also the CEO and founder of Desi Banks Productions\, a creative powerhouse that has produced over 3\,500 original videos and partnered with brands including Meta\, Apple\, Beats by Dre\, and PrizePicks. \nEvent Details\nDate: Friday\, July 24\, 2026\nTime: 7:00 PM EDT (Doors open at 5:30 PM)\nVenue: Raleigh Improv\nAddress: 1224 Parkside Main St\, Cary\, NC 27519\nAge Restriction: 21+ (valid ID required)\nNote: Two-item minimum purchase required in the showroom for all guests. \nAbout the Venue\nThe Raleigh Improv is the Triangle area’s premier comedy club\, located in the heart of Cary’s Parkside Town Commons. Part of the nationally recognized Improv comedy club chain\, the Raleigh Improv offers an intimate\, club-style atmosphere where every seat feels close to the stage. \nThe venue features general admission seating (first-come\, first-served) as well as premium booth options that include a $200 food and beverage credit. The full-service bar and kitchen menu make it easy to enjoy dinner and drinks before and during the show. \nParking is available in the surrounding Parkside Town Commons shopping center lots. The venue is easily accessible from I-40 and US-1\, making it convenient for guests coming from Raleigh\, Durham\, Chapel Hill\, and surrounding areas. \nWhat to Expect\nDesi Banks delivers a high-energy\, crowd-pleasing stand-up performance packed with razor-sharp wit\, hilarious personal stories\, and the kind of infectious comedic timing that has made him one of the fastest-rising stars in the game. His Your Favorite Cousin Tour is a celebration of the relatable\, real-life humor that his millions of fans have come to love. \nThis is a 21+ event with a lively Friday night crowd. Arrive early to secure your preferred seats\, order from the full menu\, and get ready for an unforgettable night of live comedy. VIP ticket options are available for a premium viewing experience. \nNo cell phone use\, photography\, or video recording is permitted during the performance. All sales are final. \nTicket Information\nPrice Range: $30 – $95 (plus fees)\nTickets are available through Ticketmaster (official) and VividSeats (resale). \nOfficial TicketsResale Tickets \nThis post contains affiliate links. We may earn a commission at no extra cost to you.
URL:https://comedycalendar.com/event/desi-banks-your-favorite-cousin-tour-live-at-raleigh-improv/
LOCATION:Raleigh Improv\, 1224 Parkside Main St\, Cary\, NC\, 27519\, United States Of America
CATEGORIES:Stand Up Comedy
ATTACH;FMTTYPE=image/jpeg:https://i.ticketweb.com/i/00/12/76/30/84_Edp.jpg?v=5
GEO:35.8490976;-78.8909556
X-APPLE-STRUCTURED-LOCATION;VALUE=URI;X-ADDRESS=Raleigh Improv 1224 Parkside Main St Cary NC 27519 United States Of America;X-APPLE-RADIUS=500;X-TITLE=1224 Parkside Main St:geo:-78.8909556,35.8490976
END:VEVENT
BEGIN:VEVENT
DTSTART;TZID=America/Chicago:20261106T193000
DTEND;TZID=America/Chicago:20261106T213000
DTSTAMP:20260421T140652
CREATED:20260318T220000Z
LAST-MODIFIED:20260318T220000Z
UID:10003337-1793993400-1794000600@comedycalendar.com
SUMMARY:Desi Banks LIVE at Houston Improv
DESCRIPTION:Official TicketsResale Tickets \nAbout Desi Banks\nDesi Banks is the ultimate triple threat — actor\, stand-up comedian\, podcaster\, and entrepreneur who has taken the entertainment world by storm. With over 19 million fans across social platforms\, he is swiftly becoming a household name known for his razor-sharp wit and hilarious comedic timing. Kevin Hart has publicly praised him as the “next great” talent in comedy. \nIn 2024\, Desi embarked on a 50-city tour selling nearly 52\,000 tickets. He has toured with Mike Epps\, Kountry Wayne\, and joined Martin Lawrence on the “Y’all Know What It Is!” tour. As an actor\, he appeared in “One of Them Days” produced by Issa Rae and starring Keke Palmer. He has partnered with Meta\, Apple\, Beats by Dre\, and DraftKings. His Houston Improv run is one of the hottest comedy bookings of the fall season. \nEvent Details\nDate: Friday\, November 6\, 2026\nShow Time: 7:30 PM (Late show at 9:45 PM also available)\nVenue: Houston Improv\nAddress: 7620 Katy Freeway #455\, Houston\, TX 77024\nAge Restriction: 18+\nTicket Price: From $89 \nAbout Houston Improv\nHouston Improv is one of Houston’s most beloved comedy clubs\, located at 7620 Katy Freeway inside City Centre. Part of the legendary Improv Comedy Club chain\, it has hosted some of the biggest names in stand-up comedy for decades. The club features a full-service bar\, dinner menu\, and an intimate stage setup that puts every seat close to the action. \nThe venue has a lively\, welcoming atmosphere with table seating\, great sightlines\, and a two-drink minimum. Parking is available in the City Centre complex. \nWhat to Expect\nDesi Banks delivers a high-energy\, non-stop laugh fest from the moment he hits the stage. His shows are known for incredible crowd energy\, relatable storytelling\, and the kind of natural charisma that makes every person in the room feel like they’re part of the show. Fans consistently describe his live performances as some of the funniest nights of their lives. \nDesi performs a full weekend run at Houston Improv — Friday Nov 6 at 7:30 PM and 9:45 PM\, Saturday Nov 7 at 7:00 PM and 9:30 PM\, and Sunday Nov 8 at 7:00 PM. This is an 18+ event. \nTicket Information\nPrice: From $89\nTickets available via Ticketmaster/TicketWeb (official) or VividSeats (resale). \nOfficial TicketsResale Tickets \nThis post contains affiliate links. We may earn a commission at no extra cost to you.
URL:https://comedycalendar.com/event/desi-banks-live-at-houston-improv/
LOCATION:Houston Improv\, 7620 Katy Freeway\, Houston\, TX\, 77024\, United States
ATTACH;FMTTYPE=image/jpeg:https://comedycalendar.com/wp-content/uploads/2026/03/6249797d-9753-46d0-9f7a-97a273a5bdd0_RETINA_PORTRAIT_3_2-6rNNqV.jpg
GEO:29.785526;-95.4640201
X-APPLE-STRUCTURED-LOCATION;VALUE=URI;X-ADDRESS=Houston Improv 7620 Katy Freeway Houston TX 77024 United States;X-APPLE-RADIUS=500;X-TITLE=7620 Katy Freeway:geo:-95.4640201,29.785526
END:VEVENT
END:VCALENDAR