BEGIN:VCALENDAR
VERSION:2.0
PRODID:-//Find Upcoming Comedy Shows Near You | Comedy Calendar - ECPv6.15.20//NONSGML v1.0//EN
CALSCALE:GREGORIAN
METHOD:PUBLISH
X-WR-CALNAME:Find Upcoming Comedy Shows Near You | Comedy Calendar
X-ORIGINAL-URL:https://comedycalendar.com
X-WR-CALDESC:Events for Find Upcoming Comedy Shows Near You | Comedy Calendar
REFRESH-INTERVAL;VALUE=DURATION:PT1H
X-Robots-Tag:noindex
X-PUBLISHED-TTL:PT1H
BEGIN:VTIMEZONE
TZID:America/Denver
BEGIN:DAYLIGHT
TZOFFSETFROM:-0700
TZOFFSETTO:-0600
TZNAME:MDT
DTSTART:20250309T090000
END:DAYLIGHT
BEGIN:STANDARD
TZOFFSETFROM:-0600
TZOFFSETTO:-0700
TZNAME:MST
DTSTART:20251102T080000
END:STANDARD
BEGIN:DAYLIGHT
TZOFFSETFROM:-0700
TZOFFSETTO:-0600
TZNAME:MDT
DTSTART:20260308T090000
END:DAYLIGHT
BEGIN:STANDARD
TZOFFSETFROM:-0600
TZOFFSETTO:-0700
TZNAME:MST
DTSTART:20261101T080000
END:STANDARD
BEGIN:DAYLIGHT
TZOFFSETFROM:-0700
TZOFFSETTO:-0600
TZNAME:MDT
DTSTART:20270314T090000
END:DAYLIGHT
BEGIN:STANDARD
TZOFFSETFROM:-0600
TZOFFSETTO:-0700
TZNAME:MST
DTSTART:20271107T080000
END:STANDARD
END:VTIMEZONE
BEGIN:VEVENT
DTSTART;TZID=America/Denver:20260529T193000
DTEND;TZID=America/Denver:20260529T213000
DTSTAMP:20260422T173822
CREATED:20260319T170000Z
LAST-MODIFIED:20260320T190647Z
UID:10003462-1780083000-1780090200@comedycalendar.com
SUMMARY:Steve Byrne LIVE at Denver Improv
DESCRIPTION:Official TicketsResale Tickets \nAbout the Performer\nSteve Byrne is a seasoned stand-up comedian with over two decades of experience on the road\, known for his high-energy performances and sharp\, self-aware humor. He has appeared on The Tonight Show\, Late Night with Conan O’Brien\, and Comedy Central\, and has released multiple stand-up specials. \nByrne’s comedy blends his Irish-Korean heritage with universal themes of family\, relationships\, and the absurdities of everyday life. His style is fast-paced\, clever\, and consistently funny — the kind of comedian who leaves audiences wanting more. \nHe also wrote\, directed\, and starred in the feature film The Byrdes\, showcasing his versatility as a creative talent beyond stand-up. \nEvent Details\n\nDate: Friday\, May 29\, 2026\nShow Time: 7:30 PM MDT (Doors open at 6:15 PM)\nVenue: Denver Improv\, 8246 E 49th Ave #1400\, Denver\, CO 80238\nAge Restriction: 21+ event — valid ID required\nTwo-item minimum purchase required per guest in the showroom\nAdditional shows: May 29 (9:45 PM)\, May 30 (6:30 PM & 9:15 PM)\, May 31 (6:00 PM)\n\nAbout the Venue\nDenver Improv is Colorado’s premier comedy club\, located in the Northfield Stapleton shopping district. The club features a full-service restaurant and bar alongside its intimate showroom\, seating approximately 300 guests in a general admission format. \nThe close-quarters layout ensures every seat has a great view of the stage. Parking is available in the surrounding Northfield shopping center lots\, and the venue is easily accessible from I-70. \nWhat to Expect\nThis is a headline stand-up comedy show featuring Steve Byrne. The performance runs approximately 90 minutes and includes an opening act. Seating is general admission — arrive early for the best seats. \nCell phones\, photography\, and video recording are strictly prohibited during the show. Late arrivals will not be admitted more than 30 minutes after showtime. Multiple shows are available across the Memorial Day weekend. \nTicket Information\nTickets start at $47\, plus fees. \nOfficial TicketsResale Tickets \nThis post contains affiliate links. We may earn a commission at no extra cost to you.
URL:https://comedycalendar.com/event/steve-byrne-live-at-denver-improv/
LOCATION:Denver Improv\, 8246 Northfield Blvd\, Denver\, CO\, 80238\, United States
CATEGORIES:Improv,Stand Up Comedy
ATTACH;FMTTYPE=image/jpeg:https://i.ticketweb.com/i/00/12/81/50/44_Edp.jpg?v=5
GEO:39.7818719;-104.8922808
X-APPLE-STRUCTURED-LOCATION;VALUE=URI;X-ADDRESS=Denver Improv 8246 Northfield Blvd Denver CO 80238 United States;X-APPLE-RADIUS=500;X-TITLE=8246 Northfield Blvd:geo:-104.8922808,39.7818719
END:VEVENT
BEGIN:VEVENT
DTSTART;TZID=America/Denver:20260612T193000
DTEND;TZID=America/Denver:20260612T213000
DTSTAMP:20260422T173822
CREATED:20260319T170000Z
LAST-MODIFIED:20260320T190643Z
UID:10003464-1781292600-1781299800@comedycalendar.com
SUMMARY:Chris Porter LIVE at Denver Improv
DESCRIPTION:Official TicketsResale Tickets \nAbout the Performer\nChris Porter is a stand-up comedian from Joplin\, Missouri\, known for his raw\, honest\, and deeply personal comedy that draws from a life of hardship\, resilience\, and hard-won wisdom. \nHe gained national attention as a finalist on Last Comic Standing and has since built a reputation as one of the most authentic voices in stand-up comedy. His specials Ugly and Angry and Screaming from the Void have earned critical acclaim for their unflinching honesty and emotional depth. \nPorter’s comedy is not for the faint of heart — it’s raw\, real\, and relentlessly funny. Expect a performance that will make you laugh\, think\, and feel all at once. \nEvent Details\n\nDate: Friday\, June 12\, 2026\nShow Time: 7:30 PM MDT (Doors open at 6:15 PM)\nVenue: Denver Improv\, 8246 E 49th Ave #1400\, Denver\, CO 80238\nAge Restriction: 21+ event — valid ID required\nTwo-item minimum purchase required per guest in the showroom\nAdditional shows: June 12 (9:45 PM)\, June 13 (6:30 PM & 9:15 PM)\n\nAbout the Venue\nDenver Improv is Colorado’s premier comedy club\, located in the Northfield Stapleton shopping district. The club features a full-service restaurant and bar alongside its intimate showroom\, seating approximately 300 guests in a general admission format. \nThe close-quarters layout ensures every seat has a great view of the stage. Parking is available in the surrounding Northfield shopping center lots\, and the venue is easily accessible from I-70. \nWhat to Expect\nThis is a headline stand-up comedy show featuring Chris Porter. The performance runs approximately 90 minutes and includes an opening act. Seating is general admission — arrive early for the best seats. \nCell phones\, photography\, and video recording are strictly prohibited during the show. Late arrivals will not be admitted more than 30 minutes after showtime. \nTicket Information\nTickets start at $58\, plus fees. \nOfficial TicketsResale Tickets \nThis post contains affiliate links. We may earn a commission at no extra cost to you.
URL:https://comedycalendar.com/event/chris-porter-live-at-denver-improv/
LOCATION:Denver Improv\, 8246 Northfield Blvd\, Denver\, CO\, 80238\, United States
CATEGORIES:Improv,Stand Up Comedy
ATTACH;FMTTYPE=image/jpeg:https://i.ticketweb.com/i/00/12/81/55/64_Edp.jpg?v=4
GEO:39.7818719;-104.8922808
X-APPLE-STRUCTURED-LOCATION;VALUE=URI;X-ADDRESS=Denver Improv 8246 Northfield Blvd Denver CO 80238 United States;X-APPLE-RADIUS=500;X-TITLE=8246 Northfield Blvd:geo:-104.8922808,39.7818719
END:VEVENT
BEGIN:VEVENT
DTSTART;TZID=America/Denver:20260626T193000
DTEND;TZID=America/Denver:20260626T213000
DTSTAMP:20260422T173822
CREATED:20260319T170000Z
LAST-MODIFIED:20260320T190620Z
UID:10003467-1782502200-1782509400@comedycalendar.com
SUMMARY:Corey Holcomb LIVE at Denver Improv
DESCRIPTION:Official TicketsResale Tickets \nAbout the Performer\nCorey Holcomb is a veteran stand-up comedian and actor known for his brutally honest\, no-filter comedy that tackles relationships\, gender dynamics\, and the realities of Black American life with fearless candor. \nHe has appeared on The Tonight Show with Jay Leno\, Comedy Central\, and BET’s Comic View\, and has released multiple stand-up specials. He is also known for his recurring role on the TV series The Carmichael Show. \nHolcomb’s comedy is sharp\, provocative\, and unapologetically real. Expect a high-energy performance that will have the audience in stitches from start to finish. \nEvent Details\n\nDate: Friday\, June 26\, 2026\nShow Time: 7:30 PM MDT (Doors open at 6:15 PM)\nVenue: Denver Improv\, 8246 E 49th Ave #1400\, Denver\, CO 80238\nAge Restriction: 21+ event — valid ID required\nTwo-item minimum purchase required per guest in the showroom\nAdditional shows: June 26 (9:45 PM)\, June 27 (6:30 PM & 9:15 PM)\n\nAbout the Venue\nDenver Improv is Colorado’s premier comedy club\, located in the Northfield Stapleton shopping district. The club features a full-service restaurant and bar alongside its intimate showroom\, seating approximately 300 guests in a general admission format. \nThe close-quarters layout ensures every seat has a great view of the stage. Parking is available in the surrounding Northfield shopping center lots\, and the venue is easily accessible from I-70. \nWhat to Expect\nThis is a headline stand-up comedy show featuring Corey Holcomb. The performance runs approximately 90 minutes and includes an opening act. Seating is general admission — arrive early for the best seats. \nCell phones\, photography\, and video recording are strictly prohibited during the show. Late arrivals will not be admitted more than 30 minutes after showtime. \nTicket Information\nTickets start at $43\, plus fees. \nOfficial TicketsResale Tickets \nThis post contains affiliate links. We may earn a commission at no extra cost to you.
URL:https://comedycalendar.com/event/corey-holcomb-live-at-denver-improv/
LOCATION:Denver Improv\, 8246 Northfield Blvd\, Denver\, CO\, 80238\, United States
CATEGORIES:Improv,Stand Up Comedy
ATTACH;FMTTYPE=image/jpeg:https://i.ticketweb.com/i/00/12/80/13/74_Edp.jpg?v=3
GEO:39.7818719;-104.8922808
X-APPLE-STRUCTURED-LOCATION;VALUE=URI;X-ADDRESS=Denver Improv 8246 Northfield Blvd Denver CO 80238 United States;X-APPLE-RADIUS=500;X-TITLE=8246 Northfield Blvd:geo:-104.8922808,39.7818719
END:VEVENT
BEGIN:VEVENT
DTSTART;TZID=America/Denver:20260814T193000
DTEND;TZID=America/Denver:20260814T213000
DTSTAMP:20260422T173822
CREATED:20260319T170000Z
LAST-MODIFIED:20260320T190604Z
UID:10003469-1786735800-1786743000@comedycalendar.com
SUMMARY:David Koechner LIVE at Denver Improv
DESCRIPTION:Official TicketsResale Tickets \nAbout the Performer\nDavid Koechner is a beloved comedian and actor best known for his iconic role as Champ Kind in the Anchorman franchise alongside Will Ferrell. He is also widely recognized for his years as a cast member on Saturday Night Live and his recurring role as Todd Packer on The Office. \nBeyond his acting career\, Koechner is a seasoned stand-up comedian who has been performing live comedy for decades. His stand-up is warm\, energetic\, and full of the kind of big\, physical humor that has made him a fan favorite. \nExpect a hilarious evening with one of Hollywood’s most recognizable comedic talents — a performer who brings the same infectious energy to the stage that he brings to the screen. \nEvent Details\n\nDate: Friday\, August 14\, 2026\nShow Time: 7:30 PM MDT (Doors open at 6:15 PM)\nVenue: Denver Improv\, 8246 E 49th Ave #1400\, Denver\, CO 80238\nAge Restriction: 21+ event — valid ID required\nTwo-item minimum purchase required per guest in the showroom\nAdditional shows: August 15 (6:30 PM & 9:15 PM)\n\nAbout the Venue\nDenver Improv is Colorado’s premier comedy club\, located in the Northfield Stapleton shopping district. The club features a full-service restaurant and bar alongside its intimate showroom\, seating approximately 300 guests in a general admission format. \nThe close-quarters layout ensures every seat has a great view of the stage. Parking is available in the surrounding Northfield shopping center lots\, and the venue is easily accessible from I-70. \nWhat to Expect\nThis is a headline stand-up comedy show featuring David Koechner. The performance runs approximately 90 minutes and includes an opening act. Seating is general admission — arrive early for the best seats. \nCell phones\, photography\, and video recording are strictly prohibited during the show. Late arrivals will not be admitted more than 30 minutes after showtime. \nTicket Information\nTickets start at $78\, plus fees. \nOfficial TicketsResale Tickets \nThis post contains affiliate links. We may earn a commission at no extra cost to you.
URL:https://comedycalendar.com/event/david-koechner-live-at-denver-improv/
LOCATION:Denver Improv\, 8246 Northfield Blvd\, Denver\, CO\, 80238\, United States
CATEGORIES:Improv,Stand Up Comedy
ATTACH;FMTTYPE=image/jpeg:https://i.ticketweb.com/i/00/12/88/78/94_Edp.jpg?v=3
GEO:39.7818719;-104.8922808
X-APPLE-STRUCTURED-LOCATION;VALUE=URI;X-ADDRESS=Denver Improv 8246 Northfield Blvd Denver CO 80238 United States;X-APPLE-RADIUS=500;X-TITLE=8246 Northfield Blvd:geo:-104.8922808,39.7818719
END:VEVENT
END:VCALENDAR