BEGIN:VCALENDAR
VERSION:2.0
PRODID:-//Find Upcoming Comedy Shows Near You | Comedy Calendar - ECPv6.15.20//NONSGML v1.0//EN
CALSCALE:GREGORIAN
METHOD:PUBLISH
X-WR-CALNAME:Find Upcoming Comedy Shows Near You | Comedy Calendar
X-ORIGINAL-URL:https://comedycalendar.com
X-WR-CALDESC:Events for Find Upcoming Comedy Shows Near You | Comedy Calendar
REFRESH-INTERVAL;VALUE=DURATION:PT1H
X-Robots-Tag:noindex
X-PUBLISHED-TTL:PT1H
BEGIN:VTIMEZONE
TZID:America/New_York
BEGIN:DAYLIGHT
TZOFFSETFROM:-0500
TZOFFSETTO:-0400
TZNAME:EDT
DTSTART:20250309T070000
END:DAYLIGHT
BEGIN:STANDARD
TZOFFSETFROM:-0400
TZOFFSETTO:-0500
TZNAME:EST
DTSTART:20251102T060000
END:STANDARD
BEGIN:DAYLIGHT
TZOFFSETFROM:-0500
TZOFFSETTO:-0400
TZNAME:EDT
DTSTART:20260308T070000
END:DAYLIGHT
BEGIN:STANDARD
TZOFFSETFROM:-0400
TZOFFSETTO:-0500
TZNAME:EST
DTSTART:20261101T060000
END:STANDARD
BEGIN:DAYLIGHT
TZOFFSETFROM:-0500
TZOFFSETTO:-0400
TZNAME:EDT
DTSTART:20270314T070000
END:DAYLIGHT
BEGIN:STANDARD
TZOFFSETFROM:-0400
TZOFFSETTO:-0500
TZNAME:EST
DTSTART:20271107T060000
END:STANDARD
END:VTIMEZONE
BEGIN:VTIMEZONE
TZID:America/Chicago
BEGIN:DAYLIGHT
TZOFFSETFROM:-0600
TZOFFSETTO:-0500
TZNAME:CDT
DTSTART:20250309T080000
END:DAYLIGHT
BEGIN:STANDARD
TZOFFSETFROM:-0500
TZOFFSETTO:-0600
TZNAME:CST
DTSTART:20251102T070000
END:STANDARD
BEGIN:DAYLIGHT
TZOFFSETFROM:-0600
TZOFFSETTO:-0500
TZNAME:CDT
DTSTART:20260308T080000
END:DAYLIGHT
BEGIN:STANDARD
TZOFFSETFROM:-0500
TZOFFSETTO:-0600
TZNAME:CST
DTSTART:20261101T070000
END:STANDARD
BEGIN:DAYLIGHT
TZOFFSETFROM:-0600
TZOFFSETTO:-0500
TZNAME:CDT
DTSTART:20270314T080000
END:DAYLIGHT
BEGIN:STANDARD
TZOFFSETFROM:-0500
TZOFFSETTO:-0600
TZNAME:CST
DTSTART:20271107T070000
END:STANDARD
END:VTIMEZONE
BEGIN:VEVENT
DTSTART;TZID=America/New_York:20260430T200000
DTEND;TZID=America/New_York:20260430T223000
DTSTAMP:20260423T031608
CREATED:20260322T230000Z
LAST-MODIFIED:20260322T230000Z
UID:10003757-1777579200-1777588200@comedycalendar.com
SUMMARY:Danae Hays: The BUCKWILD Tour LIVE at Martin Marietta Center
DESCRIPTION:Official TicketsResale Tickets \nThis post contains affiliate links. We may earn a commission at no extra cost to you. \nAbout Danae Hays\nDanae Hays is an Alabama-born\, Nashville-based comedian\, musician\, actress\, and content creator who has taken the comedy and music worlds by storm. Her cast of larger-than-life Southern characters and parody country music songs have pushed her to the top of the Spotify and Apple Music charts\, earning her a cumulative following of nearly 5 million followers and over a billion views. \nIn 2024\, Danae was recognized by The Hollywood Reporter’s inaugural Next Gen Creators list\, highlighting 15 rising content creators taking social media by storm. Her debut country-comedy single “Rode Hard” peaked at No. 5 on the Country Global iTunes Charts and No. 8 on Billboard’s Country Digital Song Sales. \nAfter a sold-out debut comedy tour\, Danae has sold over 50\,000 tickets in her first year of touring and has expanded internationally to Australia\, New Zealand\, and Canada. She also made her Grand Ole Opry comedy debut in March 2025\, invited by country music legend Lainey Wilson. The BUCKWILD Tour is her most ambitious live show yet. \nEvent Details\nDate: Thursday\, April 30\, 2026\nTime: 8:00 PM EDT\nVenue: Martin Marietta Center for the Performing Arts (Fletcher Opera Theater)\nAddress: 2 E. South St.\, Raleigh\, NC 27601\nTicket Prices: $35 – $85 \nAbout the Venue\nThe Martin Marietta Center for the Performing Arts is Raleigh’s premier performing arts complex\, located in the heart of downtown. The Fletcher Opera Theater offers an intimate\, elegant setting with exceptional acoustics and a close\, personal connection between performer and audience. \nThe venue is easily accessible from downtown Raleigh\, with multiple parking decks and street parking nearby. The surrounding area features excellent restaurants and bars\, perfect for a pre-show dinner or post-show drinks. The center is known for its welcoming staff\, beautiful architecture\, and exceptional audience experience. \nWith a capacity of approximately 600 in the Fletcher Opera Theater\, this intimate setting is perfect for Danae Hays’ character-driven\, music-infused comedy show. \nWhat to Expect\nThe BUCKWILD Tour is a wild\, hilarious\, and uniquely entertaining evening that blends stand-up comedy\, original music\, and Danae’s beloved Southern characters. Expect laugh-out-loud moments\, catchy parody songs\, and the kind of authentic\, heartfelt humor that has made Danae one of the fastest-rising stars in comedy. \nThe show runs approximately 90 minutes and is perfect for fans of country music\, Southern culture\, and anyone who loves genuinely funny\, creative comedy. Danae’s natural charisma and connection with her audience make every show feel like a special\, one-of-a-kind experience. \nDoors typically open 30–45 minutes before showtime. Arrive early to find your seats and enjoy the venue atmosphere before the show begins. VIP Meet & Greet packages may be available — check the Ticketmaster listing for details. \nTicket Information\nTickets range from $35 to $85 depending on seat location. Purchase official tickets through Ticketmaster or find resale tickets through VividSeats. \nOfficial TicketsResale Tickets \nThis post contains affiliate links. We may earn a commission at no extra cost to you.
URL:https://comedycalendar.com/event/danae-hays-the-buckwild-tour-live-at-martin-marietta-center/
LOCATION:Martin Marietta Center for the Performing Arts\, 2 E. South St.\, Raleigh\, NC\, 27601\, United States Of America
ATTACH;FMTTYPE=image/jpeg:https://comedycalendar.com/wp-content/uploads/2026/03/bd1f8884-7d0b-4157-8ccb-22d5b7c3db65_RETINA_PORTRAIT_3_2-ZMCLbW.jpg
GEO:35.7712601;-78.6396078
X-APPLE-STRUCTURED-LOCATION;VALUE=URI;X-ADDRESS=Martin Marietta Center for the Performing Arts 2 E. South St. Raleigh NC 27601 United States Of America;X-APPLE-RADIUS=500;X-TITLE=2 E. South St.:geo:-78.6396078,35.7712601
END:VEVENT
BEGIN:VEVENT
DTSTART;TZID=America/New_York:20260501T200000
DTEND;TZID=America/New_York:20260501T220000
DTSTAMP:20260423T031608
CREATED:20260314T200000Z
LAST-MODIFIED:20260315T234052Z
UID:10003046-1777665600-1777672800@comedycalendar.com
SUMMARY:Danae Hays: The Buckwild Tour LIVE at Center Stage Theater
DESCRIPTION:Official TicketsResale Tickets \nAbout the Performer\nDanae Hays is a rising star in stand-up comedy known for her bold\, unapologetic humor and fearless storytelling. Her comedy draws from real-life experiences growing up in the South\, navigating relationships\, and finding the funny in everyday chaos. With a sharp wit and magnetic stage presence\, Danae has been building a devoted fanbase through relentless touring and viral social media content. \nThe Buckwild Tour is her biggest headline run yet\, bringing her signature brand of Southern-fried comedy to major venues across the country. Her Atlanta stop at Center Stage Theater is presented by Icon Concerts and is open to ages 12 and up. \nEvent Details\nDate: Friday\, May 1\, 2026\nDoors: 7:00 PM\nShow: 8:00 PM\nVenue: Center Stage Theater\, 1374 West Peachtree Street NW\, Atlanta\, GA 30309\nTour: The Buckwild Tour\nPresented by: Icon Concerts\nAges: 12+ \nAbout the Venue\nCenter Stage Theater is one of Atlanta’s premier mid-size entertainment venues\, located at 1374 West Peachtree Street NW in Midtown Atlanta. With a capacity of approximately 1\,000\, it offers an intimate concert and comedy experience with excellent sightlines and a vibrant atmosphere. \nThe venue features a full bar\, reserved seating\, and easy access from I-75/85 and MARTA. Parking is available in nearby garages and street parking throughout the Midtown area. \nWhat to Expect\nDanae Hays delivers a high-energy\, laugh-out-loud stand-up performance packed with relatable stories and sharp observations. Her shows are known for their warmth\, authenticity\, and the kind of comedy that feels like hanging out with your funniest friend. \nThis is a great show for comedy fans of all backgrounds. Come early\, grab a drink\, and get ready for a wild night of laughs. \nTicket Information\nPrice Range: From $60\nOfficial Tickets: Available via Ticketmaster\nResale Tickets: Available via VividSeats \nOfficial TicketsResale Tickets \nThis post contains affiliate links. We may earn a commission at no extra cost to you.
URL:https://comedycalendar.com/event/danae-hays-the-buckwild-tour-live-at-center-stage-theater/
LOCATION:Center Stage Theater\, 1374 West Peachtree Street\, Atlanta\, Georgia\, 30309\, United States
CATEGORIES:Stand Up Comedy
ATTACH;FMTTYPE=image/jpeg:https://comedycalendar.com/wp-content/uploads/2026/03/bd1f8884-7d0b-4157-8ccb-22d5b7c3db65_CUSTOM-ZsX5Fm.jpg
GEO:33.7921622;-84.3882896
X-APPLE-STRUCTURED-LOCATION;VALUE=URI;X-ADDRESS=Center Stage Theater 1374 West Peachtree Street Atlanta Georgia 30309 United States;X-APPLE-RADIUS=500;X-TITLE=1374 West Peachtree Street:geo:-84.3882896,33.7921622
END:VEVENT
BEGIN:VEVENT
DTSTART;TZID=America/New_York:20260502T200000
DTEND;TZID=America/New_York:20260502T220000
DTSTAMP:20260423T031608
CREATED:20260322T040930Z
LAST-MODIFIED:20260327T044539Z
UID:10004178-1777752000-1777759200@comedycalendar.com
SUMMARY:Danae Hays: The BUCKWILD Tour LIVE at Jacksonville Center for the Performing Arts - Terry Theater
DESCRIPTION:Official TicketsResale Tickets \nThis post contains affiliate links. We may earn a commission at no extra cost to you. \nAbout the Performer\nDanae Hays is an Alabama-born\, Nashville-based comedian\, musician\, actress\, and content creator who has taken the comedy world by storm with her hilarious\, relatable\, and unapologetically Southern humor. Known for her viral social media presence and her ability to blend country charm with sharp comedic wit\, Danae has built a massive following of fans who love her authentic\, down-to-earth style. \nHer comedy draws from real life — growing up in the South\, navigating relationships\, and finding the humor in everyday situations that her audience instantly recognizes. In March 2025\, Danae made her Grand Ole Opry comedy debut\, where she was personally invited to perform by country music legend Lainey Wilson\, cementing her status as a rising star in both comedy and entertainment. \nThe BUCKWILD Tour promises an evening of high-energy\, laugh-out-loud comedy that will leave you in stitches. Minimum age of 12 years old is recommended for this show. \nEvent Details\n\nDate: Saturday\, May 2\, 2026\nTime: 8:00 PM (Doors open approximately 7:00 PM)\nVenue: Jacksonville Center for the Performing Arts – Terry Theater\nAddress: 300 Water Street\, Jacksonville\, FL 32202\nShow Duration: Approximately 90 minutes\nAge Restriction: Minimum age of 12 years old recommended\n\nAbout the Venue\nThe Terry Theater at the Jacksonville Center for the Performing Arts is an intimate and versatile performance space located within the larger JCPA complex at 300 Water Street in downtown Jacksonville. The Terry Theater seats approximately 600 guests\, creating an up-close and personal atmosphere that is ideal for stand-up comedy performances. \nThe venue offers excellent sightlines\, comfortable seating\, and a warm\, inviting atmosphere that makes every seat feel like a great seat. The smaller capacity compared to the Moran Theater means you’ll feel much closer to the performer\, enhancing the overall comedy experience. \nThe JCPA complex is located in the heart of downtown Jacksonville near the St. Johns River waterfront. Parking is available in nearby downtown garages and surface lots. The area offers a variety of dining options for a pre-show dinner\, making it a perfect evening out in Jacksonville. \nWhat to Expect\nThe BUCKWILD Tour is Danae Hays’ headline stand-up comedy tour\, featuring her signature blend of Southern storytelling\, relatable humor\, and infectious energy. This is a solo stand-up performance in an intimate theater setting that will feel like hanging out with your funniest friend. \nExpect plenty of laughs\, audience interaction\, and the kind of comedy that makes you feel seen. Danae’s ability to connect with her audience is one of her greatest strengths\, and the Terry Theater’s intimate setting will amplify that connection. \nThis is a great show for fans of country-flavored comedy\, Southern humor\, and anyone who loves a comedian who keeps it real. Arrive early to grab your seats in this cozy venue. \nTicket Information\nPrice Range: $35 – $75 (plus fees) \nTickets are available through Ticketmaster (official) and VividSeats (resale marketplace). Resale ticket prices may vary based on demand and availability. \nOfficial TicketsResale Tickets \nThis post contains affiliate links. We may earn a commission at no extra cost to you.
URL:https://comedycalendar.com/event/danae-hays-the-buckwild-tour-live-at-jacksonville-center-for-the-performing-arts-terry-theater-2/
LOCATION:Jacksonville Center for the Performing Arts\, 300 Water Street\, Jacksonville\, FL\, 32202\, United States
CATEGORIES:Stand Up Comedy
ATTACH;FMTTYPE=image/jpeg:https://comedycalendar.com/wp-content/uploads/2026/03/bd1f8884-7d0b-4157-8ccb-22d5b7c3db65_CUSTOM-ZsX5Fm.jpg
GEO:30.3253502;-81.6626325
X-APPLE-STRUCTURED-LOCATION;VALUE=URI;X-ADDRESS=Jacksonville Center for the Performing Arts 300 Water Street Jacksonville FL 32202 United States;X-APPLE-RADIUS=500;X-TITLE=300 Water Street:geo:-81.6626325,30.3253502
END:VEVENT
BEGIN:VEVENT
DTSTART;TZID=America/New_York:20260502T200000
DTEND;TZID=America/New_York:20260502T220000
DTSTAMP:20260423T031608
CREATED:20260323T030000Z
LAST-MODIFIED:20260327T044530Z
UID:10004173-1777752000-1777759200@comedycalendar.com
SUMMARY:Danae Hays: The BUCKWILD Tour LIVE at Jacksonville Center for the Performing Arts - Terry Theater
DESCRIPTION:Official TicketsResale Tickets \nAbout the Performer\nDanae Hays is one of the freshest voices in stand-up comedy today. Known for her bold\, unapologetic humor and relatable storytelling\, she has quickly risen to become a must-see live performer. Her comedy draws from real-life experiences growing up in the South\, navigating relationships\, and embracing her authentic self. \nWith a rapidly growing social media following and sold-out shows across the country\, Danae Hays is one of the hottest names in comedy. The BUCKWILD Tour is her biggest headline run yet. \nEvent Details\nDate: Saturday\, May 2\, 2026. Time: 8:00 PM. Venue: Jacksonville Center for the Performing Arts – Terry Theater. Address: 300 Water Street\, Jacksonville\, FL 32202. Age Restriction: 12+. \nAbout the Venue\nThe Terry Theater is an intimate 600-seat venue within the Jacksonville Center for the Performing Arts at 300 Water Street in downtown Jacksonville\, FL. Its cozy layout makes it one of the best venues in Jacksonville for stand-up comedy\, offering excellent sightlines and an electric atmosphere. Parking is available in nearby garages along Water Street and Bay Street. \nWhat to Expect\nDanae Hays’ BUCKWILD Tour is a high-energy solo stand-up show packed with new material. Expect bold storytelling\, hilarious observations\, and a performer who holds nothing back. The show runs approximately 75 to 90 minutes. \nTicket Information\nTickets start from approximately $64\, with premium seats up to $120. \nOfficial TicketsResale Tickets \nThis post contains affiliate links. We may earn a commission at no extra cost to you.
URL:https://comedycalendar.com/event/danae-hays-the-buckwild-tour-live-at-jacksonville-center-for-the-performing-arts-terry-theater/
LOCATION:Jacksonville Center for the Performing Arts\, 300 Water Street\, Jacksonville\, FL\, 32202\, United States
CATEGORIES:Stand Up Comedy
ATTACH;FMTTYPE=image/jpeg:https://media.ticketmaster.com/en-us/dam/a/b65/bd1f8884-7d0b-4157-8ccb-22d5b7c3db65_CUSTOM.jpg
GEO:30.3253502;-81.6626325
X-APPLE-STRUCTURED-LOCATION;VALUE=URI;X-ADDRESS=Jacksonville Center for the Performing Arts 300 Water Street Jacksonville FL 32202 United States;X-APPLE-RADIUS=500;X-TITLE=300 Water Street:geo:-81.6626325,30.3253502
END:VEVENT
BEGIN:VEVENT
DTSTART;TZID=America/Chicago:20260711T200000
DTEND;TZID=America/Chicago:20260711T220000
DTSTAMP:20260423T031608
CREATED:20260330T010000Z
LAST-MODIFIED:20260330T010000Z
UID:10004492-1783800000-1783807200@comedycalendar.com
SUMMARY:Danae Hays LIVE at IP Casino Resort and Spa
DESCRIPTION:This post contains affiliate links. We earn a commission if you purchase tickets through our links at no extra cost to you. \nOfficial Tickets\nResale Tickets \nDanae Hays LIVE at IP Casino Resort and Spa\nCountry comedy sensation Danae Hays is bringing her wildly popular BUCKWILD Tour to the IP Casino Resort and Spa in Biloxi\, MS! Known for her hilarious Southern humor and viral social media videos\, Danae delivers a high-energy\, laugh-out-loud performance that will have the whole crowd going BUCKWILD. \nEvent Details\nDate: Saturday\, July 11\, 2026\nTime: 8:00 PM\nVenue: IP Casino Resort and Spa (Studio A)\nAddress: 850 Bayview Ave\, Biloxi\, MS 39530\nPhone: (228) 436-3000 \nAbout Danae Hays\nDanae Hays is a viral comedian and social media star whose hilarious videos about Southern life\, country culture\, and everyday absurdity have earned her millions of fans. Her authentic\, high-energy style translates perfectly to the live stage\, making every show an unforgettable experience full of big laughs and Southern charm. \nWhat to Expect\n\nHigh-energy stand-up comedy with Danae Hays’ signature country flair\nHilarious material from The BUCKWILD Tour\nA rowdy\, fun Saturday night atmosphere on the Gulf Coast\nLive performance from one of social media’s most beloved comedians\nGreat entertainment at the IP Casino Resort and Spa in Biloxi\n\nVenue Information\nIP Casino Resort and Spa is located at 850 Bayview Ave in Biloxi\, MS\, offering a full resort experience with casino gaming\, dining\, and a premier entertainment venue right on the Gulf Coast. \nTicket Information\nTickets start from $75. Grab your seats now before this show sells out! \nOfficial Tickets\nResale Tickets \nThis post contains affiliate links. We earn a commission if you purchase tickets through our links at no extra cost to you. \nAll sales are final. Show times subject to change. Valid photo ID may be required for entry.
URL:https://comedycalendar.com/event/danae-hays-live-at-ip-casino-resort-and-spa/
LOCATION:IP Casino Resort and Spa\, 850 Bayview Ave\, Biloxi\, MS\, 39530\, United States
ATTACH;FMTTYPE=image/jpeg:https://comedycalendar.com/wp-content/uploads/2026/03/bd1f8884-7d0b-4157-8ccb-22d5b7c3db65_CUSTOM-0C3zGd.jpg
GEO:30.4128861;-88.8903265
X-APPLE-STRUCTURED-LOCATION;VALUE=URI;X-ADDRESS=IP Casino Resort and Spa 850 Bayview Ave Biloxi MS 39530 United States;X-APPLE-RADIUS=500;X-TITLE=850 Bayview Ave:geo:-88.8903265,30.4128861
END:VEVENT
END:VCALENDAR