BEGIN:VCALENDAR
VERSION:2.0
PRODID:-//Find Upcoming Comedy Shows Near You | Comedy Calendar - ECPv6.15.20//NONSGML v1.0//EN
CALSCALE:GREGORIAN
METHOD:PUBLISH
X-ORIGINAL-URL:https://comedycalendar.com
X-WR-CALDESC:Events for Find Upcoming Comedy Shows Near You | Comedy Calendar
REFRESH-INTERVAL;VALUE=DURATION:PT1H
X-Robots-Tag:noindex
X-PUBLISHED-TTL:PT1H
BEGIN:VTIMEZONE
TZID:America/Los_Angeles
BEGIN:DAYLIGHT
TZOFFSETFROM:-0800
TZOFFSETTO:-0700
TZNAME:PDT
DTSTART:20250309T100000
END:DAYLIGHT
BEGIN:STANDARD
TZOFFSETFROM:-0700
TZOFFSETTO:-0800
TZNAME:PST
DTSTART:20251102T090000
END:STANDARD
BEGIN:DAYLIGHT
TZOFFSETFROM:-0800
TZOFFSETTO:-0700
TZNAME:PDT
DTSTART:20260308T100000
END:DAYLIGHT
BEGIN:STANDARD
TZOFFSETFROM:-0700
TZOFFSETTO:-0800
TZNAME:PST
DTSTART:20261101T090000
END:STANDARD
BEGIN:DAYLIGHT
TZOFFSETFROM:-0800
TZOFFSETTO:-0700
TZNAME:PDT
DTSTART:20270314T100000
END:DAYLIGHT
BEGIN:STANDARD
TZOFFSETFROM:-0700
TZOFFSETTO:-0800
TZNAME:PST
DTSTART:20271107T090000
END:STANDARD
END:VTIMEZONE
BEGIN:VEVENT
DTSTART;TZID=America/Los_Angeles:20260605T193000
DTEND;TZID=America/Los_Angeles:20260605T213000
DTSTAMP:20260423T123540
CREATED:20260323T060000Z
LAST-MODIFIED:20260323T060000Z
UID:10003842-1780687800-1780695000@comedycalendar.com
SUMMARY:Damon Wayans Jr. LIVE at San Jose Improv (Friday Early Show)
DESCRIPTION:Official TicketsResale Tickets \nAbout the Performer\nDamon Wayans Jr. is an American actor\, comedian\, and writer who has become one of Hollywood’s most beloved multi-hyphenate talents. Best known for his role as Coach on the hit Fox series New Girl and as Brad Williams on ABC’s Happy Endings — for which he earned a Critics’ Choice Award nomination for Best Supporting Actor — Wayans Jr. has proven himself both on screen and on stage. \nIn 2014\, he starred in the comedy film Let’s Be Cops and voiced Wasabi in Disney’s Big Hero 6\, which won the Academy Award for Best Animated Feature Film. He made his film debut in his father’s 1994 film Blankman and later served as a staff writer on My Wife and Kids. \nAs a stand-up comedian\, Wayans Jr. has been selling out theaters and casinos across the country. He garnered a standing ovation during his debut on Def Comedy Jam and has continued to build a devoted live comedy following. His comedy is sharp\, personal\, and deeply funny — drawing from his famous family\, Hollywood life\, and everyday experiences. \nEvent Details\nDate: Friday\, June 5\, 2026\nShow Time: 7:30 PM PDT (Doors open at 6:00 PM)\nVenue: San Jose Improv\, 62 S Second St\, San Jose\, CA 95113\nAge Restriction: 21+ Event — Valid ID required\nContent Warning: Adult language and themes \nThis is the Friday Early Show. A mandatory two-item minimum purchase (food or drinks) applies to all guests in the showroom. No cell phones\, photography\, or video recording permitted during the performance. All sales are final. \nAbout the Venue\nThe San Jose Improv is one of the Bay Area’s premier comedy clubs\, located in the heart of downtown San Jose at 62 S Second St. Part of the nationally renowned Improv comedy club chain\, this intimate venue offers an up-close and personal comedy experience unlike any arena show. \nThe club features a full bar and dining menu\, with seating ranging from general admission to VIP banquette booths. General admission seating is first-come\, first-served (host-escorted)\, while VIP options offer reserved placement with food and beverage credits included. \nThe atmosphere is lively and social — expect a buzzing pre-show crowd\, attentive staff\, and a room that feels perfectly sized for comedy. Parking is available in nearby downtown San Jose garages and street parking. The venue is easily accessible via VTA light rail and bus routes. \nWhat to Expect\nDamon Wayans Jr. brings the same charisma and comedic energy to the stage that made him a TV star. His stand-up is warm\, hilarious\, and deeply relatable — expect stories about family\, fame\, and the absurdity of everyday life. \nThis is a solo headlining show. Expect approximately 60–75 minutes of stand-up comedy. The show is 21+ and the club enforces a two-drink/food minimum\, so plan to enjoy dinner or drinks as part of the experience. \nArrive early — doors open at 6:00 PM and seating fills up fast for a performer of this caliber. \nTicket Information\nPrice Range: $40 – $95 (plus fees)\nTicket Options: GA ($40)\, VIP ($55)\, VIP Premium Banquette for 4 ($95/ticket) \nPurchase official tickets directly through Ticketmaster/TicketWeb\, or find resale tickets through VividSeats. \nOfficial TicketsResale Tickets \nThis post contains affiliate links. We may earn a commission at no extra cost to you.
URL:https://comedycalendar.com/event/damon-wayans-jr-live-at-san-jose-improv-friday-early-show/
LOCATION:San Jose Improv\, 62 S Second St\, San Jose\, California\, 95113\, United States
ATTACH;FMTTYPE=image/png:https://comedycalendar.com/wp-content/uploads/2026/03/84_Edp-VRD0u8.png
GEO:37.3356413;-121.8883224
X-APPLE-STRUCTURED-LOCATION;VALUE=URI;X-ADDRESS=San Jose Improv 62 S Second St San Jose California 95113 United States;X-APPLE-RADIUS=500;X-TITLE=62 S Second St:geo:-121.8883224,37.3356413
END:VEVENT
BEGIN:VEVENT
DTSTART;TZID=America/Los_Angeles:20260605T214500
DTEND;TZID=America/Los_Angeles:20260605T234500
DTSTAMP:20260423T123540
CREATED:20260323T060000Z
LAST-MODIFIED:20260323T060000Z
UID:10003843-1780695900-1780703100@comedycalendar.com
SUMMARY:Damon Wayans Jr. LIVE at San Jose Improv (Friday Late Show)
DESCRIPTION:Official TicketsResale Tickets \nAbout the Performer\nDamon Wayans Jr. is an American actor\, comedian\, and writer who has become one of Hollywood’s most beloved multi-hyphenate talents. Best known for his role as Coach on the hit Fox series New Girl and as Brad Williams on ABC’s Happy Endings\, Wayans Jr. has proven himself both on screen and on stage. \nIn 2014\, he starred in the comedy film Let’s Be Cops and voiced Wasabi in Disney’s Big Hero 6\, which won the Academy Award for Best Animated Feature Film. He garnered a standing ovation during his debut on Def Comedy Jam and has been selling out theaters and casinos across the country ever since. \nHis comedy is sharp\, personal\, and deeply funny — drawing from his famous family\, Hollywood life\, and everyday experiences that audiences everywhere can relate to. \nEvent Details\nDate: Friday\, June 5\, 2026\nShow Time: 9:45 PM PDT (Doors open at 6:00 PM)\nVenue: San Jose Improv\, 62 S Second St\, San Jose\, CA 95113\nAge Restriction: 21+ Event — Valid ID required\nContent Warning: Adult language and themes \nThis is the Friday Late Show. A mandatory two-item minimum purchase (food or drinks) applies to all guests in the showroom. No cell phones\, photography\, or video recording permitted during the performance. All sales are final. \nAbout the Venue\nThe San Jose Improv is one of the Bay Area’s premier comedy clubs\, located in the heart of downtown San Jose at 62 S Second St. Part of the nationally renowned Improv comedy club chain\, this intimate venue offers an up-close and personal comedy experience unlike any arena show. \nThe club features a full bar and dining menu\, with seating ranging from general admission to VIP banquette booths. General admission seating is first-come\, first-served (host-escorted)\, while VIP options offer reserved placement with food and beverage credits included. \nThe atmosphere is lively and social — expect a buzzing pre-show crowd\, attentive staff\, and a room that feels perfectly sized for comedy. Parking is available in nearby downtown San Jose garages and street parking. The venue is easily accessible via VTA light rail and bus routes. \nWhat to Expect\nThe Friday late show is the perfect way to cap off your night. Damon Wayans Jr. thrives in a late-night atmosphere — the crowd is energized\, the drinks are flowing\, and the laughs come non-stop. \nThis is a solo headlining show. Expect approximately 60–75 minutes of stand-up comedy. The show is 21+ and the club enforces a two-drink/food minimum. \nArrive early to secure your preferred seating. The late show tends to have a more electric\, late-night crowd atmosphere. \nTicket Information\nPrice Range: $40 – $95 (plus fees)\nTicket Options: GA ($40)\, VIP ($55)\, VIP Premium Banquette for 4 ($95/ticket) \nPurchase official tickets directly through Ticketmaster/TicketWeb\, or find resale tickets through VividSeats. \nOfficial TicketsResale Tickets \nThis post contains affiliate links. We may earn a commission at no extra cost to you.
URL:https://comedycalendar.com/event/damon-wayans-jr-live-at-san-jose-improv-friday-late-show/
LOCATION:San Jose Improv\, 62 S Second St\, San Jose\, California\, 95113\, United States
ATTACH;FMTTYPE=image/jpeg:https://i.ticketweb.com/i/00/12/53/44/84_Edp.jpg?v=5
GEO:37.3356413;-121.8883224
X-APPLE-STRUCTURED-LOCATION;VALUE=URI;X-ADDRESS=San Jose Improv 62 S Second St San Jose California 95113 United States;X-APPLE-RADIUS=500;X-TITLE=62 S Second St:geo:-121.8883224,37.3356413
END:VEVENT
BEGIN:VEVENT
DTSTART;TZID=America/Los_Angeles:20260606T190000
DTEND;TZID=America/Los_Angeles:20260606T210000
DTSTAMP:20260423T123540
CREATED:20260323T060000Z
LAST-MODIFIED:20260323T060000Z
UID:10003844-1780772400-1780779600@comedycalendar.com
SUMMARY:Damon Wayans Jr. LIVE at San Jose Improv (Saturday Early Show)
DESCRIPTION:Official TicketsResale Tickets \nAbout the Performer\nDamon Wayans Jr. is an American actor\, comedian\, and writer who has become one of Hollywood’s most beloved multi-hyphenate talents. Best known for his role as Coach on the hit Fox series New Girl and as Brad Williams on ABC’s Happy Endings\, Wayans Jr. has proven himself both on screen and on stage. \nIn 2014\, he starred in the comedy film Let’s Be Cops and voiced Wasabi in Disney’s Big Hero 6\, which won the Academy Award for Best Animated Feature Film. He garnered a standing ovation during his debut on Def Comedy Jam and has been selling out theaters and casinos across the country ever since. \nHis comedy is sharp\, personal\, and deeply funny — drawing from his famous family\, Hollywood life\, and everyday experiences that audiences everywhere can relate to. \nEvent Details\nDate: Saturday\, June 6\, 2026\nShow Time: 7:00 PM PDT (Doors open at 5:30 PM)\nVenue: San Jose Improv\, 62 S Second St\, San Jose\, CA 95113\nAge Restriction: 21+ Event — Valid ID required\nContent Warning: Adult language and themes \nThis is the Saturday Early Show. A mandatory two-item minimum purchase (food or drinks) applies to all guests in the showroom. No cell phones\, photography\, or video recording permitted during the performance. All sales are final. \nAbout the Venue\nThe San Jose Improv is one of the Bay Area’s premier comedy clubs\, located in the heart of downtown San Jose at 62 S Second St. Part of the nationally renowned Improv comedy club chain\, this intimate venue offers an up-close and personal comedy experience unlike any arena show. \nThe club features a full bar and dining menu\, with seating ranging from general admission to VIP banquette booths. General admission seating is first-come\, first-served (host-escorted)\, while VIP options offer reserved placement with food and beverage credits included. \nThe atmosphere is lively and social — expect a buzzing pre-show crowd\, attentive staff\, and a room that feels perfectly sized for comedy. Parking is available in nearby downtown San Jose garages and street parking. The venue is easily accessible via VTA light rail and bus routes. \nWhat to Expect\nSaturday nights at the Improv are electric. This early show is ideal for those who want a full evening out — arrive for dinner\, enjoy the show\, and still have time to explore downtown San Jose afterward. \nDamon Wayans Jr. brings the same charisma and comedic energy to the stage that made him a TV star. Expect approximately 60–75 minutes of stand-up comedy. The show is 21+ and the club enforces a two-drink/food minimum. \nArrive early — doors open at 5:30 PM and seating fills up fast for a performer of this caliber. \nTicket Information\nPrice Range: $40 – $95 (plus fees)\nTicket Options: GA ($40)\, VIP ($55)\, VIP Premium Banquette for 4 ($95/ticket) \nPurchase official tickets directly through Ticketmaster/TicketWeb\, or find resale tickets through VividSeats. \nOfficial TicketsResale Tickets \nThis post contains affiliate links. We may earn a commission at no extra cost to you.
URL:https://comedycalendar.com/event/damon-wayans-jr-live-at-san-jose-improv-saturday-early-show/
LOCATION:San Jose Improv\, 62 S Second St\, San Jose\, California\, 95113\, United States
ATTACH;FMTTYPE=image/png:https://comedycalendar.com/wp-content/uploads/2026/03/84_Edp-VRD0u8.png
GEO:37.3356413;-121.8883224
X-APPLE-STRUCTURED-LOCATION;VALUE=URI;X-ADDRESS=San Jose Improv 62 S Second St San Jose California 95113 United States;X-APPLE-RADIUS=500;X-TITLE=62 S Second St:geo:-121.8883224,37.3356413
END:VEVENT
BEGIN:VEVENT
DTSTART;TZID=America/Los_Angeles:20260606T213000
DTEND;TZID=America/Los_Angeles:20260606T233000
DTSTAMP:20260423T123540
CREATED:20260323T060000Z
LAST-MODIFIED:20260323T060000Z
UID:10003845-1780781400-1780788600@comedycalendar.com
SUMMARY:Damon Wayans Jr. LIVE at San Jose Improv (Saturday Late Show)
DESCRIPTION:Official TicketsResale Tickets \nAbout the Performer\nDamon Wayans Jr. is an American actor\, comedian\, and writer who has become one of Hollywood’s most beloved multi-hyphenate talents. Best known for his role as Coach on the hit Fox series New Girl and as Brad Williams on ABC’s Happy Endings\, Wayans Jr. has proven himself both on screen and on stage. \nIn 2014\, he starred in the comedy film Let’s Be Cops and voiced Wasabi in Disney’s Big Hero 6\, which won the Academy Award for Best Animated Feature Film. He garnered a standing ovation during his debut on Def Comedy Jam and has been selling out theaters and casinos across the country ever since. \nHis comedy is sharp\, personal\, and deeply funny — drawing from his famous family\, Hollywood life\, and everyday experiences that audiences everywhere can relate to. \nEvent Details\nDate: Saturday\, June 6\, 2026\nShow Time: 9:30 PM PDT (Doors open at 5:30 PM)\nVenue: San Jose Improv\, 62 S Second St\, San Jose\, CA 95113\nAge Restriction: 21+ Event — Valid ID required\nContent Warning: Adult language and themes \nThis is the Saturday Late Show. A mandatory two-item minimum purchase (food or drinks) applies to all guests in the showroom. No cell phones\, photography\, or video recording permitted during the performance. All sales are final. \nAbout the Venue\nThe San Jose Improv is one of the Bay Area’s premier comedy clubs\, located in the heart of downtown San Jose at 62 S Second St. Part of the nationally renowned Improv comedy club chain\, this intimate venue offers an up-close and personal comedy experience unlike any arena show. \nThe club features a full bar and dining menu\, with seating ranging from general admission to VIP banquette booths. General admission seating is first-come\, first-served (host-escorted)\, while VIP options offer reserved placement with food and beverage credits included. \nThe atmosphere is lively and social — expect a buzzing pre-show crowd\, attentive staff\, and a room that feels perfectly sized for comedy. Parking is available in nearby downtown San Jose garages and street parking. The venue is easily accessible via VTA light rail and bus routes. \nWhat to Expect\nThe Saturday late show is the ultimate way to end the weekend. The crowd is energized\, the drinks are flowing\, and Damon Wayans Jr. is at his best in a late-night atmosphere. \nExpect approximately 60–75 minutes of non-stop stand-up comedy. The show is 21+ and the club enforces a two-drink/food minimum. Arrive early to secure your preferred seating. \nTicket Information\nPrice Range: $40 – $95 (plus fees)\nTicket Options: GA ($40)\, VIP ($55)\, VIP Premium Banquette for 4 ($95/ticket) \nPurchase official tickets directly through Ticketmaster/TicketWeb\, or find resale tickets through VividSeats. \nOfficial TicketsResale Tickets \nThis post contains affiliate links. We may earn a commission at no extra cost to you.
URL:https://comedycalendar.com/event/damon-wayans-jr-live-at-san-jose-improv-saturday-late-show/
LOCATION:San Jose Improv\, 62 S Second St\, San Jose\, California\, 95113\, United States
ATTACH;FMTTYPE=image/png:https://comedycalendar.com/wp-content/uploads/2026/03/84_Edp-VRD0u8.png
GEO:37.3356413;-121.8883224
X-APPLE-STRUCTURED-LOCATION;VALUE=URI;X-ADDRESS=San Jose Improv 62 S Second St San Jose California 95113 United States;X-APPLE-RADIUS=500;X-TITLE=62 S Second St:geo:-121.8883224,37.3356413
END:VEVENT
BEGIN:VEVENT
DTSTART;TZID=America/Los_Angeles:20260607T180000
DTEND;TZID=America/Los_Angeles:20260607T200000
DTSTAMP:20260423T123540
CREATED:20260323T060000Z
LAST-MODIFIED:20260323T060000Z
UID:10003846-1780855200-1780862400@comedycalendar.com
SUMMARY:Damon Wayans Jr. LIVE at San Jose Improv (Sunday Show)
DESCRIPTION:Official TicketsResale Tickets \nAbout the Performer\nDamon Wayans Jr. is an American actor\, comedian\, and writer who has become one of Hollywood’s most beloved multi-hyphenate talents. Best known for his role as Coach on the hit Fox series New Girl and as Brad Williams on ABC’s Happy Endings\, Wayans Jr. has proven himself both on screen and on stage. \nIn 2014\, he starred in the comedy film Let’s Be Cops and voiced Wasabi in Disney’s Big Hero 6\, which won the Academy Award for Best Animated Feature Film. He garnered a standing ovation during his debut on Def Comedy Jam and has been selling out theaters and casinos across the country ever since. \nHis comedy is sharp\, personal\, and deeply funny — drawing from his famous family\, Hollywood life\, and everyday experiences that audiences everywhere can relate to. \nEvent Details\nDate: Sunday\, June 7\, 2026\nShow Time: 6:00 PM PDT (Doors open at 4:30 PM)\nVenue: San Jose Improv\, 62 S Second St\, San Jose\, CA 95113\nAge Restriction: 21+ Event — Valid ID required\nContent Warning: Adult language and themes \nThis is the Sunday Show — a great way to close out the weekend with world-class comedy. A mandatory two-item minimum purchase (food or drinks) applies to all guests in the showroom. No cell phones\, photography\, or video recording permitted during the performance. All sales are final. \nAbout the Venue\nThe San Jose Improv is one of the Bay Area’s premier comedy clubs\, located in the heart of downtown San Jose at 62 S Second St. Part of the nationally renowned Improv comedy club chain\, this intimate venue offers an up-close and personal comedy experience unlike any arena show. \nThe club features a full bar and dining menu\, with seating ranging from general admission to VIP banquette booths. General admission seating is first-come\, first-served (host-escorted)\, while VIP options offer reserved placement with food and beverage credits included. \nThe atmosphere is lively and social — expect a buzzing pre-show crowd\, attentive staff\, and a room that feels perfectly sized for comedy. Parking is available in nearby downtown San Jose garages and street parking. The venue is easily accessible via VTA light rail and bus routes. \nWhat to Expect\nThe Sunday show is a relaxed\, fun way to wrap up the weekend. Damon Wayans Jr. brings his signature warmth and humor to the stage — expect stories about family\, fame\, and the absurdity of everyday life. \nThis is a solo headlining show. Expect approximately 60–75 minutes of stand-up comedy. The show is 21+ and the club enforces a two-drink/food minimum. \nArrive early — doors open at 4:30 PM and seating fills up fast for a performer of this caliber. \nTicket Information\nPrice Range: $40 – $95 (plus fees)\nTicket Options: GA ($40)\, VIP ($55)\, VIP Premium Banquette for 4 ($95/ticket) \nPurchase official tickets directly through Ticketmaster/TicketWeb\, or find resale tickets through VividSeats. \nOfficial TicketsResale Tickets \nThis post contains affiliate links. We may earn a commission at no extra cost to you.
URL:https://comedycalendar.com/event/damon-wayans-jr-live-at-san-jose-improv-sunday-show/
LOCATION:San Jose Improv\, 62 S Second St\, San Jose\, California\, 95113\, United States
ATTACH;FMTTYPE=image/png:https://comedycalendar.com/wp-content/uploads/2026/03/84_Edp-VRD0u8.png
GEO:37.3356413;-121.8883224
X-APPLE-STRUCTURED-LOCATION;VALUE=URI;X-ADDRESS=San Jose Improv 62 S Second St San Jose California 95113 United States;X-APPLE-RADIUS=500;X-TITLE=62 S Second St:geo:-121.8883224,37.3356413
END:VEVENT
END:VCALENDAR