BEGIN:VCALENDAR
VERSION:2.0
PRODID:-//Find Upcoming Comedy Shows Near You | Comedy Calendar - ECPv6.15.20//NONSGML v1.0//EN
CALSCALE:GREGORIAN
METHOD:PUBLISH
X-WR-CALNAME:Find Upcoming Comedy Shows Near You | Comedy Calendar
X-ORIGINAL-URL:https://comedycalendar.com
X-WR-CALDESC:Events for Find Upcoming Comedy Shows Near You | Comedy Calendar
REFRESH-INTERVAL;VALUE=DURATION:PT1H
X-Robots-Tag:noindex
X-PUBLISHED-TTL:PT1H
BEGIN:VTIMEZONE
TZID:America/New_York
BEGIN:DAYLIGHT
TZOFFSETFROM:-0500
TZOFFSETTO:-0400
TZNAME:EDT
DTSTART:20250309T070000
END:DAYLIGHT
BEGIN:STANDARD
TZOFFSETFROM:-0400
TZOFFSETTO:-0500
TZNAME:EST
DTSTART:20251102T060000
END:STANDARD
BEGIN:DAYLIGHT
TZOFFSETFROM:-0500
TZOFFSETTO:-0400
TZNAME:EDT
DTSTART:20260308T070000
END:DAYLIGHT
BEGIN:STANDARD
TZOFFSETFROM:-0400
TZOFFSETTO:-0500
TZNAME:EST
DTSTART:20261101T060000
END:STANDARD
BEGIN:DAYLIGHT
TZOFFSETFROM:-0500
TZOFFSETTO:-0400
TZNAME:EDT
DTSTART:20270314T070000
END:DAYLIGHT
BEGIN:STANDARD
TZOFFSETFROM:-0400
TZOFFSETTO:-0500
TZNAME:EST
DTSTART:20271107T060000
END:STANDARD
END:VTIMEZONE
BEGIN:VTIMEZONE
TZID:America/Los_Angeles
BEGIN:DAYLIGHT
TZOFFSETFROM:-0800
TZOFFSETTO:-0700
TZNAME:PDT
DTSTART:20250309T100000
END:DAYLIGHT
BEGIN:STANDARD
TZOFFSETFROM:-0700
TZOFFSETTO:-0800
TZNAME:PST
DTSTART:20251102T090000
END:STANDARD
BEGIN:DAYLIGHT
TZOFFSETFROM:-0800
TZOFFSETTO:-0700
TZNAME:PDT
DTSTART:20260308T100000
END:DAYLIGHT
BEGIN:STANDARD
TZOFFSETFROM:-0700
TZOFFSETTO:-0800
TZNAME:PST
DTSTART:20261101T090000
END:STANDARD
BEGIN:DAYLIGHT
TZOFFSETFROM:-0800
TZOFFSETTO:-0700
TZNAME:PDT
DTSTART:20270314T100000
END:DAYLIGHT
BEGIN:STANDARD
TZOFFSETFROM:-0700
TZOFFSETTO:-0800
TZNAME:PST
DTSTART:20271107T090000
END:STANDARD
END:VTIMEZONE
BEGIN:VTIMEZONE
TZID:America/Chicago
BEGIN:DAYLIGHT
TZOFFSETFROM:-0600
TZOFFSETTO:-0500
TZNAME:CDT
DTSTART:20250309T080000
END:DAYLIGHT
BEGIN:STANDARD
TZOFFSETFROM:-0500
TZOFFSETTO:-0600
TZNAME:CST
DTSTART:20251102T070000
END:STANDARD
BEGIN:DAYLIGHT
TZOFFSETFROM:-0600
TZOFFSETTO:-0500
TZNAME:CDT
DTSTART:20260308T080000
END:DAYLIGHT
BEGIN:STANDARD
TZOFFSETFROM:-0500
TZOFFSETTO:-0600
TZNAME:CST
DTSTART:20261101T070000
END:STANDARD
BEGIN:DAYLIGHT
TZOFFSETFROM:-0600
TZOFFSETTO:-0500
TZNAME:CDT
DTSTART:20270314T080000
END:DAYLIGHT
BEGIN:STANDARD
TZOFFSETFROM:-0500
TZOFFSETTO:-0600
TZNAME:CST
DTSTART:20271107T070000
END:STANDARD
END:VTIMEZONE
BEGIN:VEVENT
DTSTART;TZID=America/New_York:20260424T200000
DTEND;TZID=America/New_York:20260424T220000
DTSTAMP:20260423T003612
CREATED:20260329T200000Z
LAST-MODIFIED:20260329T200000Z
UID:10004431-1777060800-1777068000@comedycalendar.com
SUMMARY:Stand-Up Spotlight Comedy Show LIVE at Yucaipa Performing Arts Center
DESCRIPTION:This post contains affiliate links. We earn a commission if you purchase tickets through our links at no extra cost to you. \nOfficial Tickets\nResale Tickets \nStand-Up Spotlight Comedy Show LIVE at Yucaipa Performing Arts Center\nThe popular monthly Stand-Up Spotlight Comedy Show returns to the Yucaipa Performing Arts Center Indoor Theatre on Friday\, April 24\, 2026. This beloved comedy night features a lineup of talented local and touring comedians guaranteed to keep you laughing all night long. Tickets sell fast\, so don’t wait! \nEvent Details\nDate: Friday\, April 24\, 2026\nTime: 8:00 PM\nVenue: Yucaipa Performing Arts Center Indoor Theatre\nAddress: 12062 California Street\, Yucaipa\, CA 92399\nAdmission: General Admission (Unreserved Seating) \nAbout Stand-Up Spotlight Comedy Show\nThe Stand-Up Spotlight Comedy Show is a monthly comedy event hosted at the Yucaipa Performing Arts Center\, showcasing a rotating lineup of talented stand-up comedians from the local scene and beyond. The show has built a loyal following in the Inland Empire for delivering consistent\, high-quality comedy entertainment in a welcoming and fun atmosphere. Each month brings a fresh lineup\, making every show a unique experience. \nWhat to Expect\n\nA full evening of stand-up comedy featuring multiple performers\nMix of local talent and touring comedians\nIntimate indoor theatre setting with great sightlines\nFamily-friendly venue with a fun\, energetic atmosphere\nMonthly event – each show features a unique lineup\nAffordable general admission pricing\n\nVenue Information\nThe Yucaipa Performing Arts Center Indoor Theatre is a beloved community venue located in Yucaipa\, CA\, offering a comfortable and intimate setting for live performances. With excellent acoustics and a welcoming atmosphere\, it’s the perfect place to enjoy a night of live comedy. \nTicket Information\nGeneral Admission tickets start at $31.25 (fees included). This event sells fast – book your tickets now to secure your spot! \nOfficial Tickets\nResale Tickets \nThis post contains affiliate links. We earn a commission if you purchase tickets through our links at no extra cost to you.\nAll sales are final. Show times subject to change. Valid photo ID may be required for entry.
URL:https://comedycalendar.com/event/stand-up-spotlight-comedy-show-live-at-yucaipa-performing-arts-center/
LOCATION:Yucaipa Performing Arts Center Indoor Theatre\, 12062 California Street\, Yucaipa\, California\, 92399\, United States Of America
ATTACH;FMTTYPE=image/jpeg:https://s1.ticketm.net/dam/c/50a/fa9caa1f-73a1-411e-b507-ec56fa59650a_106061_TABLET_LANDSCAPE_16_9.jpg
GEO:34.034499;-117.0393652
X-APPLE-STRUCTURED-LOCATION;VALUE=URI;X-ADDRESS=Yucaipa Performing Arts Center Indoor Theatre 12062 California Street Yucaipa California 92399 United States Of America;X-APPLE-RADIUS=500;X-TITLE=12062 California Street:geo:-117.0393652,34.034499
END:VEVENT
BEGIN:VEVENT
DTSTART;TZID=America/Los_Angeles:20260506T193000
DTEND;TZID=America/Los_Angeles:20260506T213000
DTSTAMP:20260423T003612
CREATED:20260323T210000Z
LAST-MODIFIED:20260323T210000Z
UID:10003887-1778095800-1778103000@comedycalendar.com
SUMMARY:Torio Van Grol LIVE at Punch Line Comedy Club San Francisco
DESCRIPTION:This post contains affiliate links. We earn a commission if you purchase tickets through our links at no extra cost to you. \nOfficial Tickets\nResale Tickets \nTorio Van Grol LIVE at Punch Line Comedy Club San Francisco\nRising stand-up comedian Torio Van Grol takes the stage at the legendary Punch Line Comedy Club in San Francisco on Wednesday\, May 6\, 2026. Known for his sharp observational humor and engaging storytelling\, Torio Van Grol is quickly becoming one of the most exciting voices in comedy today. \nEvent Details\nDate: Wednesday\, May 6\, 2026\nTime: 7:30 PM PDT\nVenue: Punch Line Comedy Club – San Francisco\nAddress: 444 Battery Street\, San Francisco\, CA 94111\nAge Requirement: 21+ Event / 2 Beverage Minimum \nAbout Torio Van Grol\nTorio Van Grol is a stand-up comedian known for his sharp wit\, relatable observations\, and engaging stage presence. He has been making waves on the comedy circuit with his unique perspective and ability to connect with audiences of all backgrounds. His performances are consistently praised for their originality and comedic timing. \nWhat to Expect\n\nA full headlining stand-up set from Torio Van Grol\nSharp observational humor and engaging storytelling\nIntimate setting at the legendary Punch Line Comedy Club\nFull bar service available throughout the show\nA great mid-week comedy night in San Francisco\n\nVenue Information\nPunch Line Comedy Club San Francisco is one of the most storied comedy venues in the country\, located at 444 Battery Street in the Financial District. It has launched the careers of countless comedy legends and continues to be a premier destination for stand-up comedy in the Bay Area. \nTicket Information\nTickets start at $25. 21+ event with a 2 beverage minimum. Secure your seats before they sell out! \nOfficial Tickets\nResale Tickets \nThis post contains affiliate links. We earn a commission if you purchase tickets through our links at no extra cost to you.\nAll sales are final. Show times subject to change. Valid photo ID may be required for entry.
URL:https://comedycalendar.com/event/torio-van-grol-live-at-punch-line-comedy-club-san-francisco/
LOCATION:Punch Line Comedy Club – San Francisco\, 444 Battery Street\, San Francisco\, California\, 94111\, United States Of America
ATTACH;FMTTYPE=image/jpeg:https://s1.ticketm.net/dam/a/b53/4253e0a4-9a10-4e46-8935-07efc8d4eb53_1666871_TABLET_LANDSCAPE_LARGE_16_9.jpg
GEO:37.795486;-122.4001359
X-APPLE-STRUCTURED-LOCATION;VALUE=URI;X-ADDRESS=Punch Line Comedy Club – San Francisco 444 Battery Street San Francisco California 94111 United States Of America;X-APPLE-RADIUS=500;X-TITLE=444 Battery Street:geo:-122.4001359,37.795486
END:VEVENT
BEGIN:VEVENT
DTSTART;TZID=America/Chicago:20260507T193000
DTEND;TZID=America/Chicago:20260507T213000
DTSTAMP:20260423T003612
CREATED:20260422T180000Z
LAST-MODIFIED:20260422T180000Z
UID:10004679-1778182200-1778189400@comedycalendar.com
SUMMARY:Comedy Night LIVE at Hop Springs
DESCRIPTION:This post contains affiliate links. We earn a commission if you purchase tickets through our links at no extra cost to you. \n\nOfficial Tickets\nResale Tickets\n\nComedy Night LIVE at Hop Springs\nGet ready for a hilarious evening of live stand-up comedy at Hop Springs in Murfreesboro\, TN! On May 7\, 2026\, Comedy Night brings together talented comedians for a fun-filled night in one of Middle Tennessee’s most beloved outdoor venues. Grab a cold craft beer and settle in for a great show. \nEvent Details\nDate: Thursday\, May 7\, 2026\nTime: 7:30 PM CDT\nVenue: Hop Springs\nAddress: 6790 John Bragg Highway\, Murfreesboro\, TN 37127\nTicket Price: $26.61\nAge Requirement: Please check venue for age policy \nAbout Comedy Night\nComedy Night at Hop Springs is a beloved recurring event that brings live stand-up comedy to Murfreesboro’s premier craft beer destination. The show features a lineup of talented comedians performing in the relaxed\, open-air atmosphere that Hop Springs is known for\, making it a perfect night out for comedy fans in Middle Tennessee. \nWhat to Expect\n\nLive stand-up comedy from a talented lineup of performers\nRelaxed outdoor setting at Hop Springs Beer Park\nWide selection of craft beers and beverages on tap\nFood available on-site for a complete evening out\nA fun\, laid-back atmosphere perfect for date nights or group outings\nConveniently located in Murfreesboro\, just 30 miles from Nashville\n\nVenue Information\nHop Springs is Murfreesboro’s beloved craft brewery and outdoor entertainment destination\, located at 6790 John Bragg Highway. The venue features a spacious outdoor beer park\, live entertainment stages\, and a welcoming atmosphere that makes every event feel like a community celebration. \nTicket Information\nTickets are priced at $26.61 and are available now through Ticketmaster (official) and VividSeats (resale). Don’t miss this fun night of comedy at one of Middle Tennessee’s favorite outdoor venues! \n\nOfficial Tickets\nResale Tickets\n\nThis post contains affiliate links. We earn a commission if you purchase tickets through our links at no extra cost to you.\nAll sales are final. Show times subject to change. Valid photo ID may be required for entry.
URL:https://comedycalendar.com/event/comedy-night-live-at-hop-springs-2/
LOCATION:Hop Springs\, 6790 John Bragg Highway\, Murfreesboro\, TN\, 37127\, United States
CATEGORIES:up Comedy
ATTACH;FMTTYPE=image/jpeg:https://comedycalendar.com/wp-content/uploads/2026/04/eba0b94f-b5de-45ec-9771-32d7b4117170_388331_RETINA_LANDSCAPE_16_9-QkMnDM.jpg
GEO:35.8234739;-86.2657043
X-APPLE-STRUCTURED-LOCATION;VALUE=URI;X-ADDRESS=Hop Springs 6790 John Bragg Highway Murfreesboro TN 37127 United States;X-APPLE-RADIUS=500;X-TITLE=6790 John Bragg Highway:geo:-86.2657043,35.8234739
END:VEVENT
END:VCALENDAR