BEGIN:VCALENDAR
VERSION:2.0
PRODID:-//Find Upcoming Comedy Shows Near You | Comedy Calendar - ECPv6.15.20//NONSGML v1.0//EN
CALSCALE:GREGORIAN
METHOD:PUBLISH
X-ORIGINAL-URL:https://comedycalendar.com
X-WR-CALDESC:Events for Find Upcoming Comedy Shows Near You | Comedy Calendar
REFRESH-INTERVAL;VALUE=DURATION:PT1H
X-Robots-Tag:noindex
X-PUBLISHED-TTL:PT1H
BEGIN:VTIMEZONE
TZID:America/Chicago
BEGIN:DAYLIGHT
TZOFFSETFROM:-0600
TZOFFSETTO:-0500
TZNAME:CDT
DTSTART:20250309T080000
END:DAYLIGHT
BEGIN:STANDARD
TZOFFSETFROM:-0500
TZOFFSETTO:-0600
TZNAME:CST
DTSTART:20251102T070000
END:STANDARD
BEGIN:DAYLIGHT
TZOFFSETFROM:-0600
TZOFFSETTO:-0500
TZNAME:CDT
DTSTART:20260308T080000
END:DAYLIGHT
BEGIN:STANDARD
TZOFFSETFROM:-0500
TZOFFSETTO:-0600
TZNAME:CST
DTSTART:20261101T070000
END:STANDARD
BEGIN:DAYLIGHT
TZOFFSETFROM:-0600
TZOFFSETTO:-0500
TZNAME:CDT
DTSTART:20270314T080000
END:DAYLIGHT
BEGIN:STANDARD
TZOFFSETFROM:-0500
TZOFFSETTO:-0600
TZNAME:CST
DTSTART:20271107T070000
END:STANDARD
END:VTIMEZONE
BEGIN:VTIMEZONE
TZID:America/New_York
BEGIN:DAYLIGHT
TZOFFSETFROM:-0500
TZOFFSETTO:-0400
TZNAME:EDT
DTSTART:20250309T070000
END:DAYLIGHT
BEGIN:STANDARD
TZOFFSETFROM:-0400
TZOFFSETTO:-0500
TZNAME:EST
DTSTART:20251102T060000
END:STANDARD
BEGIN:DAYLIGHT
TZOFFSETFROM:-0500
TZOFFSETTO:-0400
TZNAME:EDT
DTSTART:20260308T070000
END:DAYLIGHT
BEGIN:STANDARD
TZOFFSETFROM:-0400
TZOFFSETTO:-0500
TZNAME:EST
DTSTART:20261101T060000
END:STANDARD
BEGIN:DAYLIGHT
TZOFFSETFROM:-0500
TZOFFSETTO:-0400
TZNAME:EDT
DTSTART:20270314T070000
END:DAYLIGHT
BEGIN:STANDARD
TZOFFSETFROM:-0400
TZOFFSETTO:-0500
TZNAME:EST
DTSTART:20271107T060000
END:STANDARD
END:VTIMEZONE
BEGIN:VEVENT
DTSTART;TZID=America/Chicago:20260521T193000
DTEND;TZID=America/Chicago:20260521T210000
DTSTAMP:20260424T112017
CREATED:20260315T190000Z
LAST-MODIFIED:20260316T192920Z
UID:10003124-1779391800-1779397200@comedycalendar.com
SUMMARY:It Wasn't Funny Then But It's Funny Now! LIVE at Punch Line Irving
DESCRIPTION:Official TicketsResale Tickets \nThis post contains affiliate links. We may earn a commission at no extra cost to you. \nAbout the Show\n“It Wasn’t Funny Then But It’s Funny Now!” is a hilarious stand-up comedy show featuring Sam Bam’s Comedy Jam and Key Lewis. The show takes a comedic look back at life’s most awkward\, embarrassing\, and cringe-worthy moments — the kind of stories that weren’t funny when they happened but are absolutely hilarious in hindsight. \nThis Thursday night show at Punch Line Irving is the perfect mid-week laugh fix for comedy fans in the DFW area. \nEvent Details\nDate: Thursday\, May 21\, 2026 \nTime: 7:30 PM \nVenue: Punch Line Irving\, 310 W Las Colinas Blvd.\, Suite 130\, Irving\, TX 75039 \nTicket Price Range: $20 – $45 \nAge Restriction: 18+ with valid ID \nAbout the Venue\nPunch Line Irving is the DFW area’s premier comedy club in the Las Colinas entertainment district. Full bar\, table service\, and an intimate layout. Thursday nights here are a great way to kick off the weekend early. Located at 310 W Las Colinas Blvd.\, Suite 130\, with parking available nearby. \nWhat to Expect\nA fun\, high-energy comedy show featuring multiple performers sharing hilarious stories and stand-up sets. Expect big laughs from start to finish. Doors open one hour before showtime. \nTicket Information\nTickets range from $20 to $45. Buy official tickets on Ticketmaster or find resale options on VividSeats. \nOfficial TicketsResale Tickets
URL:https://comedycalendar.com/event/it-wasnt-funny-then-but-its-funny-now-live-at-punch-line-irving/
LOCATION:Punch Line Irving\, 310 W Las Colinas Blvd.\, Suite 130\, Irving\, TX\, 75039\, United States Of America
CATEGORIES:Stand Up Comedy
ATTACH;FMTTYPE=image/jpeg:https://media.ticketmaster.com/en-us/dam/a/886/deff3c25-256e-4132-98b5-a2b6b3ad4886_70961_CUSTOM.jpg
GEO:32.8734455;-96.9445654
X-APPLE-STRUCTURED-LOCATION;VALUE=URI;X-ADDRESS=Punch Line Irving 310 W Las Colinas Blvd. Suite 130 Irving TX 75039 United States Of America;X-APPLE-RADIUS=500;X-TITLE=310 W Las Colinas Blvd.\, Suite 130:geo:-96.9445654,32.8734455
END:VEVENT
BEGIN:VEVENT
DTSTART;TZID=America/New_York:20260523T200000
DTEND;TZID=America/New_York:20260523T220000
DTSTAMP:20260424T112017
CREATED:20260321T230000Z
LAST-MODIFIED:20260321T230000Z
UID:10003647-1779566400-1779573600@comedycalendar.com
SUMMARY:Live\, Lit\, And Laughter LIVE at Fox Theatre Detroit
DESCRIPTION:This post contains affiliate links. We earn a commission if you purchase tickets through our links at no extra cost to you. \nOfficial Tickets\nResale Tickets \nLive\, Lit\, And Laughter LIVE at Fox Theatre Detroit\nThe beloved Live\, Lit\, And Laughter Comedy Jam returns to the iconic Fox Theatre Detroit for another unforgettable night of laughs. Featuring Kountry Wayne and a stellar lineup of comedians\, this high-energy comedy showcase is one of Detroit’s most anticipated comedy events of the year. \nEvent Details\nDate: Saturday\, May 23\, 2026\nTime: 8:00 PM\nVenue: Fox Theatre Detroit\nAddress: 2211 Woodward Ave\, Detroit\, MI 48201\nAge Requirement: All ages welcome \nAbout Live\, Lit\, And Laughter\nLive\, Lit\, And Laughter is a celebrated comedy jam series that brings together some of the hottest comedians in the game for a night of non-stop entertainment. Headlined by social media sensation and stand-up star Kountry Wayne\, this show promises an electric atmosphere and unforgettable performances at one of Detroit’s most iconic venues. \nWhat to Expect\n\nHeadliner Kountry Wayne and a full comedy lineup\nHigh-energy comedy jam format\nMultiple comedians performing back-to-back\nA spectacular night at the historic Fox Theatre\nOne of Detroit’s biggest comedy events of the spring\n\nVenue Information\nThe Fox Theatre Detroit is one of America’s most magnificent historic entertainment venues\, located at 2211 Woodward Ave in the heart of the District Detroit\, featuring stunning architecture and world-class production. \nTicket Information\nTickets from $114. Available via Ticketmaster (official) or VividSeats (resale). \nOfficial Tickets\nResale Tickets \nThis post contains affiliate links. We earn a commission if you purchase tickets through our links at no extra cost to you.\nAll sales are final. Show times subject to change. Valid photo ID may be required for entry.
URL:https://comedycalendar.com/event/live-lit-and-laughter-live-at-fox-theatre-detroit-2/
LOCATION:Fox Theatre Detroit\, 2211 Woodward Ave\, Detroit\, MI\, 48201\, USA
CATEGORIES:Showcase
ATTACH;FMTTYPE=image/jpeg:https://comedycalendar.com/wp-content/uploads/2026/03/c71494f0-6790-4712-a77a-ebc2a74ef367_TABLET_LANDSCAPE_LARGE_16_9-yxHjgp.jpg
GEO:42.3386749;-83.052392
X-APPLE-STRUCTURED-LOCATION;VALUE=URI;X-ADDRESS=Fox Theatre Detroit 2211 Woodward Ave Detroit MI 48201 USA;X-APPLE-RADIUS=500;X-TITLE=2211 Woodward Ave:geo:-83.052392,42.3386749
END:VEVENT
END:VCALENDAR