BEGIN:VCALENDAR
VERSION:2.0
PRODID:-//Find Upcoming Comedy Shows Near You | Comedy Calendar - ECPv6.15.20//NONSGML v1.0//EN
CALSCALE:GREGORIAN
METHOD:PUBLISH
X-WR-CALNAME:Find Upcoming Comedy Shows Near You | Comedy Calendar
X-ORIGINAL-URL:https://comedycalendar.com
X-WR-CALDESC:Events for Find Upcoming Comedy Shows Near You | Comedy Calendar
REFRESH-INTERVAL;VALUE=DURATION:PT1H
X-Robots-Tag:noindex
X-PUBLISHED-TTL:PT1H
BEGIN:VTIMEZONE
TZID:America/New_York
BEGIN:DAYLIGHT
TZOFFSETFROM:-0500
TZOFFSETTO:-0400
TZNAME:EDT
DTSTART:20250309T070000
END:DAYLIGHT
BEGIN:STANDARD
TZOFFSETFROM:-0400
TZOFFSETTO:-0500
TZNAME:EST
DTSTART:20251102T060000
END:STANDARD
BEGIN:DAYLIGHT
TZOFFSETFROM:-0500
TZOFFSETTO:-0400
TZNAME:EDT
DTSTART:20260308T070000
END:DAYLIGHT
BEGIN:STANDARD
TZOFFSETFROM:-0400
TZOFFSETTO:-0500
TZNAME:EST
DTSTART:20261101T060000
END:STANDARD
BEGIN:DAYLIGHT
TZOFFSETFROM:-0500
TZOFFSETTO:-0400
TZNAME:EDT
DTSTART:20270314T070000
END:DAYLIGHT
BEGIN:STANDARD
TZOFFSETFROM:-0400
TZOFFSETTO:-0500
TZNAME:EST
DTSTART:20271107T060000
END:STANDARD
END:VTIMEZONE
BEGIN:VEVENT
DTSTART;TZID=America/New_York:20260327T200000
DTEND;TZID=America/New_York:20260327T220000
DTSTAMP:20260423T005313
CREATED:20260321T230000Z
LAST-MODIFIED:20260323T020029Z
UID:10003746-1774641600-1774648800@comedycalendar.com
SUMMARY:David Spade: I Got A Feel For It LIVE at DPAC
DESCRIPTION:Official TicketsResale Tickets \nAbout David Spade\nDavid Spade is one of Hollywood’s most beloved comedians and actors\, best known for his razor-sharp wit\, deadpan delivery\, and iconic roles on Saturday Night Live and the hit sitcom Just Shoot Me! \nWith decades of stand-up experience under his belt\, Spade has built a reputation for biting celebrity commentary\, self-deprecating humor\, and perfectly timed one-liners that leave audiences in stitches. His comedy style is equal parts sarcastic and charming — a combination that has made him a perennial fan favorite. \nHis latest tour\, “I Got A Feel For It”\, showcases Spade at his sharpest\, delivering fresh material on pop culture\, relationships\, and the absurdities of modern life. \nEvent Details\n\nDate: Friday\, March 27\, 2026\nShow Time: 8:00 PM\nVenue: DPAC (Durham Performing Arts Center)\, 123 Vivian St\, Durham\, NC 27701\nTicket Prices: $55 – $150\n\nAbout the Venue\nDPAC — the Durham Performing Arts Center — is one of the premier entertainment venues in the Southeast\, consistently ranked among the top theater venues in the United States. Located in the heart of downtown Durham\, NC\, DPAC seats approximately 2\,800 guests and offers an intimate yet grand atmosphere perfect for stand-up comedy. \nThe venue features excellent sightlines from every seat\, state-of-the-art acoustics\, and a welcoming environment that makes every show feel special. Parking is available in nearby decks and lots\, and the venue is surrounded by great dining and nightlife options in downtown Durham. \nDPAC is known for hosting world-class Broadway tours\, concerts\, and comedy events — making it one of the best places in the Triangle to catch a live show. \nWhat to Expect\nExpect an evening of non-stop laughs as David Spade takes the DPAC stage for a full stand-up set. The show is a solo performance featuring all-new material from his “I Got A Feel For It” tour. \nSpade’s performances are known for their conversational flow\, sharp celebrity jabs\, and stories from his decades in Hollywood. Whether you’re a longtime fan or discovering him for the first time\, this is a night of comedy you won’t want to miss. \nThe show is recommended for audiences 18 and older due to adult language and themes. \nTicket Information\nTickets range from $55 to $150 depending on seat location. Purchase official tickets directly through Ticketmaster or find resale tickets through VividSeats. \nOfficial TicketsResale Tickets \nThis post contains affiliate links. We may earn a commission at no extra cost to you.
URL:https://comedycalendar.com/event/david-spade-i-got-a-feel-for-it-live-at-dpac/
LOCATION:DPAC\, 123 Vivian St\, Durham\, NC\, 27701\, United States Of America
CATEGORIES:Showcase
ATTACH;FMTTYPE=image/jpeg:https://media.vsstatic.com/image/upload/if_fc_gte_1/g_auto,q_auto,c_fill,w_256,h_256/if_else/g_center,q_auto,c_fill,w_256,h_256/if_end/dpr_auto,f_auto/hero/event/comedy/2682-david-spade/david-spade-tickets-2.jpg
GEO:35.9981205;-78.8920444
X-APPLE-STRUCTURED-LOCATION;VALUE=URI;X-ADDRESS=DPAC 123 Vivian St Durham NC 27701 United States Of America;X-APPLE-RADIUS=500;X-TITLE=123 Vivian St:geo:-78.8920444,35.9981205
END:VEVENT
END:VCALENDAR