BEGIN:VCALENDAR
VERSION:2.0
PRODID:-//Find Upcoming Comedy Shows Near You | Comedy Calendar - ECPv6.15.20//NONSGML v1.0//EN
CALSCALE:GREGORIAN
METHOD:PUBLISH
X-ORIGINAL-URL:https://comedycalendar.com
X-WR-CALDESC:Events for Find Upcoming Comedy Shows Near You | Comedy Calendar
REFRESH-INTERVAL;VALUE=DURATION:PT1H
X-Robots-Tag:noindex
X-PUBLISHED-TTL:PT1H
BEGIN:VTIMEZONE
TZID:America/Indiana/Indianapolis
BEGIN:DAYLIGHT
TZOFFSETFROM:-0500
TZOFFSETTO:-0400
TZNAME:EDT
DTSTART:20250309T070000
END:DAYLIGHT
BEGIN:STANDARD
TZOFFSETFROM:-0400
TZOFFSETTO:-0500
TZNAME:EST
DTSTART:20251102T060000
END:STANDARD
BEGIN:DAYLIGHT
TZOFFSETFROM:-0500
TZOFFSETTO:-0400
TZNAME:EDT
DTSTART:20260308T070000
END:DAYLIGHT
BEGIN:STANDARD
TZOFFSETFROM:-0400
TZOFFSETTO:-0500
TZNAME:EST
DTSTART:20261101T060000
END:STANDARD
BEGIN:DAYLIGHT
TZOFFSETFROM:-0500
TZOFFSETTO:-0400
TZNAME:EDT
DTSTART:20270314T070000
END:DAYLIGHT
BEGIN:STANDARD
TZOFFSETFROM:-0400
TZOFFSETTO:-0500
TZNAME:EST
DTSTART:20271107T060000
END:STANDARD
END:VTIMEZONE
BEGIN:VEVENT
DTSTART;TZID=America/Indiana/Indianapolis:20260425T190000
DTEND;TZID=America/Indiana/Indianapolis:20260425T220000
DTSTAMP:20260423T171649
CREATED:20260327T001958Z
LAST-MODIFIED:20260327T001958Z
UID:10004097-1777143600-1777154400@comedycalendar.com
SUMMARY:Bobby Lee: The Finally Tour 2026 LIVE at Old National Centre
DESCRIPTION:Official TicketsResale Tickets \nAbout the Performer\nBobby Lee is one of the most beloved and unpredictable comedians working today. Best known as a longtime cast member of MADtv and co-host of the wildly popular podcast TigerBelly with Khalyla Kuhn\, Bobby Lee has built a massive following through his raw\, confessional\, and often chaotic comedy style. \nLee’s stand-up is deeply personal — drawing from his Korean-American upbringing\, struggles with addiction\, family dynamics\, and his unconventional path through Hollywood. He has appeared in films including Pineapple Express\, The Dictator\, and Bombshell\, and co-hosts the hit podcast Bad Friends with Andrew Santino. \nOn The Finally Tour 2026\, Bobby Lee brings his most personal and hilarious material yet to the Egyptian Room at Old National Centre in Indianapolis. \nEvent Details\n\nDate: Saturday\, April 25\, 2026\nTime: 7:00 PM ET\nVenue: Egyptian Room at Old National Centre\, 502 N. New Jersey St.\, Indianapolis\, IN 46204\nDoors Open: Approximately 6:00 PM\n\nAbout the Venue\nThe Egyptian Room at Old National Centre is an intimate\, ornately decorated concert hall in the heart of downtown Indianapolis with a capacity of approximately 1\,700. The venue is known for its warm atmosphere\, excellent sightlines\, and full-service bar. \nAmenities include VIP club access\, coat check\, fast lane entry\, and reserved parking. The venue is located at 502 N. New Jersey Street\, easily accessible from downtown Indianapolis hotels and restaurants. \nWhat to Expect\nBobby Lee delivers a raw\, unfiltered\, and deeply personal stand-up performance that will have you laughing and cringing in equal measure. His comedy is confessional\, self-deprecating\, and wildly entertaining — expect stories about his life\, his family\, and his journey through the entertainment industry. \nThis is a solo stand-up show. Doors open approximately one hour before showtime. Arrive early to secure your spot and grab a drink before the show. \nTicket Information\nTickets range from approximately $61 – $125 (plus fees). Purchase official tickets through Ticketmaster or find resale tickets through VividSeats. \nOfficial TicketsResale Tickets \nThis post contains affiliate links. We may earn a commission at no extra cost to you.
URL:https://comedycalendar.com/event/bobby-lee-the-finally-tour-live-at-old-national-centre/
LOCATION:Old National Centre\, 502 N. New Jersey\, Indianapolis\, IN\, 46204\, United States Of America
ATTACH;FMTTYPE=image/jpeg:https://media.ticketmaster.com/en-us/dam/a/9a4/3273c2f1-bd2e-4ed7-9208-0b3b66e319a4_CUSTOM.jpg
GEO:39.7743232;-86.1512778
X-APPLE-STRUCTURED-LOCATION;VALUE=URI;X-ADDRESS=Old National Centre 502 N. New Jersey Indianapolis IN 46204 United States Of America;X-APPLE-RADIUS=500;X-TITLE=502 N. New Jersey:geo:-86.1512778,39.7743232
END:VEVENT
END:VCALENDAR