BEGIN:VCALENDAR
VERSION:2.0
PRODID:-//Find Upcoming Comedy Shows Near You | Comedy Calendar - ECPv6.15.20//NONSGML v1.0//EN
CALSCALE:GREGORIAN
METHOD:PUBLISH
X-WR-CALNAME:Find Upcoming Comedy Shows Near You | Comedy Calendar
X-ORIGINAL-URL:https://comedycalendar.com
X-WR-CALDESC:Events for Find Upcoming Comedy Shows Near You | Comedy Calendar
REFRESH-INTERVAL;VALUE=DURATION:PT1H
X-Robots-Tag:noindex
X-PUBLISHED-TTL:PT1H
BEGIN:VTIMEZONE
TZID:America/New_York
BEGIN:DAYLIGHT
TZOFFSETFROM:-0500
TZOFFSETTO:-0400
TZNAME:EDT
DTSTART:20250309T070000
END:DAYLIGHT
BEGIN:STANDARD
TZOFFSETFROM:-0400
TZOFFSETTO:-0500
TZNAME:EST
DTSTART:20251102T060000
END:STANDARD
BEGIN:DAYLIGHT
TZOFFSETFROM:-0500
TZOFFSETTO:-0400
TZNAME:EDT
DTSTART:20260308T070000
END:DAYLIGHT
BEGIN:STANDARD
TZOFFSETFROM:-0400
TZOFFSETTO:-0500
TZNAME:EST
DTSTART:20261101T060000
END:STANDARD
BEGIN:DAYLIGHT
TZOFFSETFROM:-0500
TZOFFSETTO:-0400
TZNAME:EDT
DTSTART:20270314T070000
END:DAYLIGHT
BEGIN:STANDARD
TZOFFSETFROM:-0400
TZOFFSETTO:-0500
TZNAME:EST
DTSTART:20271107T060000
END:STANDARD
END:VTIMEZONE
BEGIN:VEVENT
DTSTART;TZID=America/New_York:20260213T193000
DTEND;TZID=America/New_York:20260213T213000
DTSTAMP:20260421T231254
CREATED:20260213T150000Z
LAST-MODIFIED:20260213T150000Z
UID:10002277-1771011000-1771018200@comedycalendar.com
SUMMARY:Drunk Black History LIVE at The Bell House
DESCRIPTION:This post contains affiliate links. We earn a commission if you purchase tickets through our links at no extra cost to you. \nOfficial Tickets (Ticketmaster) \nResale Tickets (VividSeats) \nDrunk Black History LIVE at The Bell House\nJoin the hilarious and educational comedy experience that is Drunk Black History at The Bell House in Brooklyn. This unique show combines comedy with historical education\, featuring talented comedians sharing untold stories from Black history in an entertaining and engaging format. \nEvent Details\nDate: February 13\, 2026\nTime: 7:30 PM\nVenue: The Bell House\nAddress: 149 7th Street\, Brooklyn\, NY 11215\nAge Requirement: 21+ event \nAbout Drunk Black History\nDrunk Black History is an innovative comedy show that combines entertainment with education\, featuring comedians and historians sharing fascinating and often overlooked stories from Black history. The show creates a fun\, engaging atmosphere where learning meets laughter. \nWhat to Expect\n\nEducational comedy combining history with humor\nTalented comedians and special guests\nInteractive audience participation\nFascinating stories from Black history\nA unique blend of entertainment and education\nIntimate venue setting in trendy Brooklyn\n\nVenue Information\nThe Bell House is a popular Brooklyn venue known for hosting unique entertainment events\, offering an intimate setting with great acoustics and a welcoming atmosphere for alternative comedy shows. \nTicket Information\nThis is a 21+ event. Tickets are available through official and resale channels. Don’t miss this one-of-a-kind comedy and educational experience. \nOfficial Tickets (Ticketmaster) \nResale Tickets (VividSeats) \nThis post contains affiliate links. We earn a commission if you purchase tickets through our links at no extra cost to you. \nAll sales are final. Show times subject to change. Valid photo ID may be required for entry.
URL:https://comedycalendar.com/event/drunk-black-history-live-at-the-bell-house/
CATEGORIES:Stand Up Comedy
ATTACH;FMTTYPE=image/jpeg:https://s1.ticketm.net/dam/a/549/6cfc69cb-8bea-490b-96b6-3094bc19f549_617871_TABLET_LANDSCAPE_LARGE_16_9.jpg
END:VEVENT
END:VCALENDAR