BEGIN:VCALENDAR
VERSION:2.0
PRODID:-//Find Upcoming Comedy Shows Near You | Comedy Calendar - ECPv6.15.20//NONSGML v1.0//EN
CALSCALE:GREGORIAN
METHOD:PUBLISH
X-WR-CALNAME:Find Upcoming Comedy Shows Near You | Comedy Calendar
X-ORIGINAL-URL:https://comedycalendar.com
X-WR-CALDESC:Events for Find Upcoming Comedy Shows Near You | Comedy Calendar
REFRESH-INTERVAL;VALUE=DURATION:PT1H
X-Robots-Tag:noindex
X-PUBLISHED-TTL:PT1H
BEGIN:VTIMEZONE
TZID:America/New_York
BEGIN:DAYLIGHT
TZOFFSETFROM:-0500
TZOFFSETTO:-0400
TZNAME:EDT
DTSTART:20250309T070000
END:DAYLIGHT
BEGIN:STANDARD
TZOFFSETFROM:-0400
TZOFFSETTO:-0500
TZNAME:EST
DTSTART:20251102T060000
END:STANDARD
BEGIN:DAYLIGHT
TZOFFSETFROM:-0500
TZOFFSETTO:-0400
TZNAME:EDT
DTSTART:20260308T070000
END:DAYLIGHT
BEGIN:STANDARD
TZOFFSETFROM:-0400
TZOFFSETTO:-0500
TZNAME:EST
DTSTART:20261101T060000
END:STANDARD
BEGIN:DAYLIGHT
TZOFFSETFROM:-0500
TZOFFSETTO:-0400
TZNAME:EDT
DTSTART:20270314T070000
END:DAYLIGHT
BEGIN:STANDARD
TZOFFSETFROM:-0400
TZOFFSETTO:-0500
TZNAME:EST
DTSTART:20271107T060000
END:STANDARD
END:VTIMEZONE
BEGIN:VTIMEZONE
TZID:America/Chicago
BEGIN:DAYLIGHT
TZOFFSETFROM:-0600
TZOFFSETTO:-0500
TZNAME:CDT
DTSTART:20250309T080000
END:DAYLIGHT
BEGIN:STANDARD
TZOFFSETFROM:-0500
TZOFFSETTO:-0600
TZNAME:CST
DTSTART:20251102T070000
END:STANDARD
BEGIN:DAYLIGHT
TZOFFSETFROM:-0600
TZOFFSETTO:-0500
TZNAME:CDT
DTSTART:20260308T080000
END:DAYLIGHT
BEGIN:STANDARD
TZOFFSETFROM:-0500
TZOFFSETTO:-0600
TZNAME:CST
DTSTART:20261101T070000
END:STANDARD
BEGIN:DAYLIGHT
TZOFFSETFROM:-0600
TZOFFSETTO:-0500
TZNAME:CDT
DTSTART:20270314T080000
END:DAYLIGHT
BEGIN:STANDARD
TZOFFSETFROM:-0500
TZOFFSETTO:-0600
TZNAME:CST
DTSTART:20271107T070000
END:STANDARD
END:VTIMEZONE
BEGIN:VEVENT
DTSTART;TZID=America/New_York:20260321T193000
DTEND;TZID=America/New_York:20260321T213000
DTSTAMP:20260423T030113
CREATED:20260319T230000Z
LAST-MODIFIED:20260321T191657Z
UID:10003404-1774121400-1774128600@comedycalendar.com
SUMMARY:Bassem Youssef: The Belly of the Beast Tour LIVE at Moore Theatre
DESCRIPTION:Official TicketsResale Tickets \nAbout the Performer\nBassem Youssef is the Egyptian-American comedian known worldwide as “Egypt’s Jon Stewart.” A former cardiothoracic surgeon who spent 13 years in medicine\, Youssef launched his comedy career during the 2011 Egyptian Revolution with a five-minute YouTube show that evolved into Al Bernameg — the most-watched political satire show in Arab television history\, drawing 30–40 million viewers weekly. \nIn October 2023\, Youssef became a global viral sensation when his appearance on Piers Morgan Uncensored became the most-watched interview in the show’s history\, amassing over 20 million views. His 2024 Middle Beast Tour sold over 100\,000 tickets worldwide\, and now he returns with The Belly of the Beast Tour — a fearless\, deeply personal one-man show blending political satire\, autobiography\, and razor-sharp cultural commentary. \nNamed to TIME’s 100 Most Influential People list in 2013\, Youssef has appeared in Mo (Netflix)\, Ramy (Hulu)\, Lioness (Paramount+)\, and Upload (Amazon). He is also the author of Revolution for Dummies: Laughing Through the Arab Spring (2017). \nEvent Details\n\nDate: Saturday\, March 21\, 2026\nShow Time: 7:30 PM\nDoors Open: 6:30 PM\nVenue: Moore Theatre\, 1932 2nd Ave\, Seattle\, WA 98101\nSeating: Reserved Floor & 1st Balcony\, General Admission 2nd Balcony\nAge Policy: All Ages\n\nAbout the Venue\nThe Moore Theatre is Seattle’s oldest operating theater\, a stunning National Historic Landmark located in the heart of Belltown at 1932 2nd Ave. Built in 1907\, the Moore has hosted legends of entertainment for over a century and remains one of the Pacific Northwest’s most beloved performance venues. \nThe theater seats approximately 1\,800 guests across its main floor\, first balcony (reserved seating)\, and second balcony (general admission). The ornate interior features gorgeous historic architecture\, excellent acoustics\, and a warm\, intimate atmosphere that makes every show feel special. \nThe Moore is conveniently located in Belltown\, steps from downtown Seattle. Street parking and paid parking garages are available throughout the neighborhood. The venue is also accessible via Seattle Metro bus routes and is a short walk from the Westlake light rail station. \nWhat to Expect\nThe Belly of the Beast Tour is Bassem Youssef’s signature one-man show — a 90-minute journey through his extraordinary life\, from performing open-heart surgeries in Egypt to becoming the Arab world’s most famous satirist\, to fleeing his country and rebuilding his life in America. \nExpect fearless political satire\, deeply personal storytelling\, and the kind of bold\, thought-provoking comedy that has made Youssef a global phenomenon. His show is performed entirely in English and is designed for diverse audiences who appreciate comedy that challenges\, inspires\, and entertains in equal measure. \nThis is a reserved and general admission show. Arrive early to find your seats and enjoy the historic atmosphere of the Moore Theatre before the show begins. \nTicket Information\nTickets for Bassem Youssef: The Belly of the Beast Tour at Moore Theatre are available now. Prices range from $45 to $95 depending on seat selection. \n\nOfficial Tickets: Purchase directly through Ticketmaster for guaranteed authentic tickets.\nResale Tickets: Find deals on resale tickets through VividSeats.\n\nOfficial TicketsResale Tickets \nThis post contains affiliate links. We may earn a commission at no extra cost to you.
URL:https://comedycalendar.com/event/bassem-youssef-belly-of-the-beast-tour-live-at-moore-theatre/
LOCATION:Moore Theatre\, 1932 2nd Ave\, Seattle\, Washington\, 98101\, United States
CATEGORIES:Stand Up Comedy
ATTACH;FMTTYPE=image/jpeg:https://s1.ticketm.net/dam/a/4e9/debacb0e-51b2-41c0-99c1-d54e44e2e4e9_EVENT_DETAIL_PAGE_16_9.jpg
GEO:47.6116719;-122.3413742
X-APPLE-STRUCTURED-LOCATION;VALUE=URI;X-ADDRESS=Moore Theatre 1932 2nd Ave Seattle Washington 98101 United States;X-APPLE-RADIUS=500;X-TITLE=1932 2nd Ave:geo:-122.3413742,47.6116719
END:VEVENT
BEGIN:VEVENT
DTSTART;TZID=America/New_York:20260327T190000
DTEND;TZID=America/New_York:20260327T210000
DTSTAMP:20260423T030113
CREATED:20260319T190000Z
LAST-MODIFIED:20260320T201445Z
UID:10003490-1774638000-1774645200@comedycalendar.com
SUMMARY:Bassem Youssef LIVE at Punch Line Philly (Friday Early Show)
DESCRIPTION:Official TicketsResale Tickets \nThis post contains affiliate links. We may earn a commission at no extra cost to you. \nAbout Bassem Youssef\nBassem Youssef is one of the most celebrated political satirists and stand-up comedians in the world. Known as the “Jon Stewart of Egypt\,” he rose to international fame as the host of Al-Bernameg\, the most-watched political satire show in the Arab world\, which drew over 30 million viewers per episode. \nAfter relocating to the United States\, Youssef has continued to captivate audiences with his sharp political commentary\, fearless humor\, and unique perspective on global events. His stand-up blends personal storytelling with biting social satire\, offering a fresh and thought-provoking comedy experience that transcends cultural boundaries. \nEvent Details\nDate: Friday\, March 27\, 2026 \nTime: 7:00 PM (Early Show) \nVenue: Punch Line Philly\, 33 E. Laurel Street\, Philadelphia\, PA 19123 \nAge Restriction: 21+ Event \nTicket Price Range: $28 – $65 \nAbout Punch Line Philly\nPunch Line Philly is Philadelphia’s premier stand-up comedy club\, located in the heart of the Northern Liberties neighborhood at 33 E. Laurel Street. The intimate venue seats approximately 300 guests and offers an up-close\, personal comedy experience unlike any large arena show. \nThe club features a full bar and food menu\, comfortable seating\, and excellent sightlines from every seat in the house. The atmosphere is lively and welcoming\, making it the perfect spot for a Friday night out with friends or a date night. \nParking is available nearby\, and the venue is easily accessible via public transit. Punch Line Philly consistently books top national touring comedians alongside local Philadelphia favorites. \nWhat to Expect\nThis is a solo stand-up comedy performance by Bassem Youssef. Expect a thought-provoking\, hilarious evening of political satire and personal storytelling in an intimate club setting. Youssef’s unique perspective on world events and his ability to find humor in the most serious topics makes for an unforgettable show. \nThe 21+ policy ensures a mature audience ready for adult-themed comedy. Arrive early to grab a drink\, settle in\, and enjoy the full experience. Food and beverage vouchers are available as add-ons through Ticketmaster. \nTicket Information\nTickets range from $28 to $65. Purchase official tickets directly through Ticketmaster or find resale tickets through VividSeats. \nOfficial TicketsResale Tickets
URL:https://comedycalendar.com/event/bassem-youssef-live-at-punch-line-philly-friday-early-show/
LOCATION:Punch Line Philly\, 33 E. Laurel Street\, Philadelphia\, PA\, 19123\, United States
CATEGORIES:Stand Up Comedy
ATTACH;FMTTYPE=image/jpeg:https://s1.ticketm.net/dam/a/4e9/debacb0e-51b2-41c0-99c1-d54e44e2e4e9_EVENT_DETAIL_PAGE_16_9.jpg
GEO:39.9652742;-75.1351879
X-APPLE-STRUCTURED-LOCATION;VALUE=URI;X-ADDRESS=Punch Line Philly 33 E. Laurel Street Philadelphia PA 19123 United States;X-APPLE-RADIUS=500;X-TITLE=33 E. Laurel Street:geo:-75.1351879,39.9652742
END:VEVENT
BEGIN:VEVENT
DTSTART;TZID=America/New_York:20260327T211500
DTEND;TZID=America/New_York:20260327T230000
DTSTAMP:20260423T030113
CREATED:20260319T190000Z
LAST-MODIFIED:20260320T202843Z
UID:10003491-1774646100-1774652400@comedycalendar.com
SUMMARY:Bassem Youssef LIVE at Punch Line Philly (Friday Late Show)
DESCRIPTION:Official TicketsResale Tickets \nThis post contains affiliate links. We may earn a commission at no extra cost to you. \nAbout Bassem Youssef\nBassem Youssef is one of the most celebrated political satirists and stand-up comedians in the world. Known as the “Jon Stewart of Egypt\,” he rose to international fame as the host of Al-Bernameg\, the most-watched political satire show in the Arab world\, which drew over 30 million viewers per episode. \nAfter relocating to the United States\, Youssef has continued to captivate audiences with his sharp political commentary\, fearless humor\, and unique perspective on global events. His stand-up blends personal storytelling with biting social satire\, offering a fresh and thought-provoking comedy experience that transcends cultural boundaries. \nEvent Details\nDate: Friday\, March 27\, 2026 \nTime: 9:15 PM (Late Show) \nVenue: Punch Line Philly\, 33 E. Laurel Street\, Philadelphia\, PA 19123 \nAge Restriction: 21+ Event \nTicket Price Range: $28 – $65 \nAbout Punch Line Philly\nPunch Line Philly is Philadelphia’s premier stand-up comedy club\, located in the heart of the Northern Liberties neighborhood at 33 E. Laurel Street. The intimate venue seats approximately 300 guests and offers an up-close\, personal comedy experience unlike any large arena show. \nThe club features a full bar and food menu\, comfortable seating\, and excellent sightlines from every seat in the house. The atmosphere is electric on Friday nights\, making it the perfect late-night destination for comedy lovers. \nParking is available nearby\, and the venue is easily accessible via public transit. Punch Line Philly consistently books top national touring comedians alongside local Philadelphia favorites. \nWhat to Expect\nThis is the late-night stand-up comedy performance by Bassem Youssef. Expect a thought-provoking\, hilarious evening of political satire and personal storytelling. The late show has an electric energy as the crowd is warmed up and ready for a great time. \nThe 21+ policy ensures a mature audience ready for adult-themed comedy. Arrive early to grab a drink and settle in before the show begins. Food and beverage vouchers are available as add-ons through Ticketmaster. \nTicket Information\nTickets range from $28 to $65. Purchase official tickets directly through Ticketmaster or find resale tickets through VividSeats. \nOfficial TicketsResale Tickets
URL:https://comedycalendar.com/event/bassem-youssef-live-at-punch-line-philly-friday-late-show/
LOCATION:Punch Line Philly\, 33 E. Laurel Street\, Philadelphia\, PA\, 19123\, United States
CATEGORIES:Stand Up Comedy
ATTACH;FMTTYPE=image/jpeg:https://s1.ticketm.net/dam/a/4e9/debacb0e-51b2-41c0-99c1-d54e44e2e4e9_EVENT_DETAIL_PAGE_16_9.jpg
GEO:39.9652742;-75.1351879
X-APPLE-STRUCTURED-LOCATION;VALUE=URI;X-ADDRESS=Punch Line Philly 33 E. Laurel Street Philadelphia PA 19123 United States;X-APPLE-RADIUS=500;X-TITLE=33 E. Laurel Street:geo:-75.1351879,39.9652742
END:VEVENT
BEGIN:VEVENT
DTSTART;TZID=America/New_York:20260328T190000
DTEND;TZID=America/New_York:20260328T210000
DTSTAMP:20260423T030113
CREATED:20260319T190000Z
LAST-MODIFIED:20260320T202857Z
UID:10003493-1774724400-1774731600@comedycalendar.com
SUMMARY:Bassem Youssef LIVE at Punch Line Philly (Saturday Early Show)
DESCRIPTION:Official TicketsResale Tickets \nThis post contains affiliate links. We may earn a commission at no extra cost to you. \nAbout Bassem Youssef\nBassem Youssef is one of the most celebrated political satirists and stand-up comedians in the world. Known as the “Jon Stewart of Egypt\,” he rose to international fame as the host of Al-Bernameg\, the most-watched political satire show in the Arab world\, which drew over 30 million viewers per episode. \nAfter relocating to the United States\, Youssef has continued to captivate audiences with his sharp political commentary\, fearless humor\, and unique perspective on global events. His stand-up blends personal storytelling with biting social satire\, offering a fresh and thought-provoking comedy experience that transcends cultural boundaries. \nEvent Details\nDate: Saturday\, March 28\, 2026 \nTime: 7:00 PM (Early Show) \nVenue: Punch Line Philly\, 33 E. Laurel Street\, Philadelphia\, PA 19123 \nAge Restriction: 21+ Event \nTicket Price Range: $28 – $65 \nAbout Punch Line Philly\nPunch Line Philly is Philadelphia’s premier stand-up comedy club\, located in the heart of the Northern Liberties neighborhood at 33 E. Laurel Street. The intimate venue seats approximately 300 guests and offers an up-close\, personal comedy experience unlike any large arena show. \nThe club features a full bar and food menu\, comfortable seating\, and excellent sightlines from every seat in the house. The atmosphere is lively and welcoming\, making it the perfect spot for a Saturday night out with friends or a date night. \nParking is available nearby\, and the venue is easily accessible via public transit. Punch Line Philly consistently books top national touring comedians alongside local Philadelphia favorites. \nWhat to Expect\nThis is a solo stand-up comedy performance by Bassem Youssef. Expect a thought-provoking\, hilarious evening of political satire and personal storytelling in an intimate club setting. Youssef’s unique perspective on world events and his ability to find humor in the most serious topics makes for an unforgettable show. \nThe 21+ policy ensures a mature audience ready for adult-themed comedy. Arrive early to grab a drink\, settle in\, and enjoy the full Saturday night experience. Food and beverage vouchers are available as add-ons through Ticketmaster. \nTicket Information\nTickets range from $28 to $65. Purchase official tickets directly through Ticketmaster or find resale tickets through VividSeats. \nOfficial TicketsResale Tickets
URL:https://comedycalendar.com/event/bassem-youssef-live-at-punch-line-philly-saturday-early-show/
LOCATION:Punch Line Philly\, 33 E. Laurel Street\, Philadelphia\, PA\, 19123\, United States
CATEGORIES:Stand Up Comedy
ATTACH;FMTTYPE=image/jpeg:https://s1.ticketm.net/dam/a/4e9/debacb0e-51b2-41c0-99c1-d54e44e2e4e9_EVENT_DETAIL_PAGE_16_9.jpg
GEO:39.9652742;-75.1351879
X-APPLE-STRUCTURED-LOCATION;VALUE=URI;X-ADDRESS=Punch Line Philly 33 E. Laurel Street Philadelphia PA 19123 United States;X-APPLE-RADIUS=500;X-TITLE=33 E. Laurel Street:geo:-75.1351879,39.9652742
END:VEVENT
BEGIN:VEVENT
DTSTART;TZID=America/New_York:20260328T211500
DTEND;TZID=America/New_York:20260328T230000
DTSTAMP:20260423T030113
CREATED:20260320T190000Z
LAST-MODIFIED:20260320T190000Z
UID:10003494-1774732500-1774738800@comedycalendar.com
SUMMARY:Bassem Youssef LIVE at Punch Line Philly (Saturday Late Show)
DESCRIPTION:Official TicketsResale Tickets \nThis post contains affiliate links. We may earn a commission at no extra cost to you. \nAbout Bassem Youssef\nBassem Youssef is one of the most celebrated political satirists and stand-up comedians in the world. Known as the “Jon Stewart of Egypt\,” he rose to international fame as the host of Al-Bernameg\, the most-watched political satire show in the Arab world\, which drew over 30 million viewers per episode. \nAfter relocating to the United States\, Youssef has continued to captivate audiences with his sharp political commentary\, fearless humor\, and unique perspective on global events. His stand-up blends personal storytelling with biting social satire\, offering a fresh and thought-provoking comedy experience that transcends cultural boundaries. \nEvent Details\nDate: Saturday\, March 28\, 2026 \nTime: 9:15 PM (Late Show) \nVenue: Punch Line Philly\, 33 E. Laurel Street\, Philadelphia\, PA 19123 \nAge Restriction: 21+ Event \nTicket Price Range: $28 – $65 \nAbout Punch Line Philly\nPunch Line Philly is Philadelphia’s premier stand-up comedy club\, located in the heart of the Northern Liberties neighborhood at 33 E. Laurel Street. The intimate venue seats approximately 300 guests and offers an up-close\, personal comedy experience unlike any large arena show. \nThe club features a full bar and food menu\, comfortable seating\, and excellent sightlines from every seat in the house. The atmosphere is electric on Saturday nights\, making it the perfect late-night destination for comedy lovers. \nParking is available nearby\, and the venue is easily accessible via public transit. Punch Line Philly consistently books top national touring comedians alongside local Philadelphia favorites. \nWhat to Expect\nThis is the Saturday late-night stand-up comedy performance by Bassem Youssef. Late shows at Punch Line Philly have an especially energetic vibe as the crowd is ready for a great night out. Expect sharp political satire and personal storytelling in an intimate club setting. \nThe 21+ policy ensures a mature audience ready for adult-themed comedy. Arrive early to grab a drink and settle in before the show begins. Food and beverage vouchers are available as add-ons through Ticketmaster. \nTicket Information\nTickets range from $28 to $65. Purchase official tickets directly through Ticketmaster or find resale tickets through VividSeats. \nOfficial TicketsResale Tickets
URL:https://comedycalendar.com/event/bassem-youssef-live-at-punch-line-philly-saturday-late-show/
LOCATION:Punch Line Philly\, 33 E. Laurel Street\, Philadelphia\, PA\, 19123\, United States
ATTACH;FMTTYPE=image/jpeg:https://media.ticketmaster.com/en-us/dam/a/9a4/40e59865-73d5-4405-a7fa-ca917cda39a4_CUSTOM.jpg
GEO:39.9652742;-75.1351879
X-APPLE-STRUCTURED-LOCATION;VALUE=URI;X-ADDRESS=Punch Line Philly 33 E. Laurel Street Philadelphia PA 19123 United States;X-APPLE-RADIUS=500;X-TITLE=33 E. Laurel Street:geo:-75.1351879,39.9652742
END:VEVENT
BEGIN:VEVENT
DTSTART;TZID=America/New_York:20260403T193000
DTEND;TZID=America/New_York:20260403T213000
DTSTAMP:20260423T030113
CREATED:20260315T170000Z
LAST-MODIFIED:20260315T170000Z
UID:10003010-1775244600-1775251800@comedycalendar.com
SUMMARY:Bassem Youssef: Belly of the Beast Tour LIVE at Warner Theatre
DESCRIPTION:This post contains affiliate links. We earn a commission if you purchase tickets through our links at no extra cost to you. \nOfficial Tickets\nResale Tickets \nBassem Youssef: Belly of the Beast Tour LIVE at Warner Theatre\nThe Arab world’s most famous comedian\, Bassem Youssef\, brings his bold and boundary-pushing Belly of the Beast Tour to the iconic Warner Theatre in Washington\, DC on Friday\, April 3\, 2026. Known for fearless political satire and sharp social commentary\, Youssef delivers a comedy experience unlike any other. \nEvent Details\nDate: Friday\, April 3\, 2026\nTime: 7:30 PM ET\nVenue: Warner Theatre\nAddress: 513 13th St NW\, Washington\, DC 20004\nAge Requirement: All Ages \nAbout Bassem Youssef\nBassem Youssef is an Egyptian-American comedian\, author\, and television host who rose to international fame as the host of Al-Bernameg\, the Arab world’s most-watched political satire show. Often called “the Jon Stewart of the Arab world\,” Youssef has become a global voice for free speech and comedy. He now tours internationally with his stand-up show\, tackling politics\, culture\, and identity with wit and courage. \nWhat to Expect\n\nFearless political satire and social commentary\nHilarious observations on Middle Eastern and American culture\nA unique perspective on global politics delivered with humor\nAn unforgettable evening at the historic Warner Theatre in DC\nThought-provoking comedy that challenges and entertains\n\nVenue Information\nThe Warner Theatre is one of Washington\, DC’s most beloved and historic entertainment venues\, located in the heart of downtown DC. With its stunning architecture and intimate atmosphere\, it provides the perfect backdrop for an evening of world-class comedy. \nTicket Information\nTickets range from approximately $93 – $117. Secure your seats through official Ticketmaster or find resale tickets on VividSeats. \nOfficial Tickets\nResale Tickets \nThis post contains affiliate links. We earn a commission if you purchase tickets through our links at no extra cost to you.\nAll sales are final. Show times subject to change. Valid photo ID may be required for entry.
URL:https://comedycalendar.com/event/bassem-youssef-belly-of-the-beast-tour-live-at-warner-theatre/
LOCATION:Warner Theatre\, 513 13th St NW\, Washington\, DC\, 20004\, United States
ATTACH;FMTTYPE=image/jpeg:https://s1.ticketm.net/dam/a/4e9/debacb0e-51b2-41c0-99c1-d54e44e2e4e9_EVENT_DETAIL_PAGE_16_9.jpg
GEO:38.8964782;-77.0291601
X-APPLE-STRUCTURED-LOCATION;VALUE=URI;X-ADDRESS=Warner Theatre 513 13th St NW Washington DC 20004 United States;X-APPLE-RADIUS=500;X-TITLE=513 13th St NW:geo:-77.0291601,38.8964782
END:VEVENT
BEGIN:VEVENT
DTSTART;TZID=America/Chicago:20260411T193000
DTEND;TZID=America/Chicago:20260411T223000
DTSTAMP:20260423T030113
CREATED:20260315T180000Z
LAST-MODIFIED:20260315T180000Z
UID:10003031-1775935800-1775946600@comedycalendar.com
SUMMARY:Bassem Youssef: The Belly of the Beast Tour LIVE at Buckhead Theatre
DESCRIPTION:Official TicketsResale Tickets \nAbout the Performer\nBassem Youssef is an Egyptian-American comedian\, author\, and media personality widely known as the “Jon Stewart of the Arab World.” He rose to international fame as the creator and host of Al-Bernameg (“The Program”)\, Egypt’s first political satire show\, which became the most-watched show in the history of the Arab world with over 30 million viewers per episode. \nAfter his show was shut down by the Egyptian government\, Bassem moved to the United States where he has continued his career as a stand-up comedian\, author\, and public speaker. He is the author of Revolution for Dummies: Laughing Through the Arab Spring and has appeared on The Daily Show\, Real Time with Bill Maher\, and numerous other programs. \nHis Belly of the Beast Tour tackles the most pressing issues of our time with his signature blend of sharp political satire\, personal storytelling\, and fearless humor. This is a must-see show for fans of smart\, boundary-pushing comedy. \nEvent Details\nDate: Saturday\, April 11\, 2026\nTime: 7:30 PM\nVenue: Buckhead Theatre\, 3110 Roswell Road NE\, Atlanta\, GA 30305\nTour: The Belly of the Beast Tour \nAbout the Venue\nThe Buckhead Theatre is one of Atlanta’s premier entertainment venues\, located at 3110 Roswell Road NE in the upscale Buckhead neighborhood. With a capacity of approximately 1\,000\, it offers an intimate and sophisticated atmosphere perfect for comedy and live performances. \nThe venue features a beautiful historic interior\, full bar service\, excellent acoustics\, and a mix of standing room and reserved seating options. Buckhead is easily accessible by car and rideshare\, with parking available in surrounding lots and garages. \nWhat to Expect\nBassem Youssef delivers a powerful\, hilarious\, and thought-provoking stand-up performance that blends political satire with personal storytelling. His shows are known for their intelligence\, passion\, and ability to make audiences laugh while confronting difficult truths about the world. \nWhether you’re a longtime fan or discovering Bassem for the first time\, this is a night of world-class comedy that will leave you thinking — and laughing — long after the show ends. \nTicket Information\nPrice Range: From $68\nOfficial Tickets: Available via Ticketmaster\nResale Tickets: Available via VividSeats \nOfficial TicketsResale Tickets \nThis post contains affiliate links. We may earn a commission at no extra cost to you.
URL:https://comedycalendar.com/event/bassem-youssef-the-belly-of-the-beast-tour-live-at-buckhead-theatre/
LOCATION:Buckhead Theatre\, 3110 Roswell Road\, Atlanta\, Georgia\, 30305\, United States
ATTACH;FMTTYPE=image/jpeg:https://comedycalendar.com/wp-content/uploads/2026/03/debacb0e-51b2-41c0-99c1-d54e44e2e4e9_CUSTOM-EywuNa.jpg
GEO:33.8403458;-84.3798303
X-APPLE-STRUCTURED-LOCATION;VALUE=URI;X-ADDRESS=Buckhead Theatre 3110 Roswell Road Atlanta Georgia 30305 United States;X-APPLE-RADIUS=500;X-TITLE=3110 Roswell Road:geo:-84.3798303,33.8403458
END:VEVENT
END:VCALENDAR