BEGIN:VCALENDAR
VERSION:2.0
PRODID:-//Find Upcoming Comedy Shows Near You | Comedy Calendar - ECPv6.15.20//NONSGML v1.0//EN
CALSCALE:GREGORIAN
METHOD:PUBLISH
X-WR-CALNAME:Find Upcoming Comedy Shows Near You | Comedy Calendar
X-ORIGINAL-URL:https://comedycalendar.com
X-WR-CALDESC:Events for Find Upcoming Comedy Shows Near You | Comedy Calendar
REFRESH-INTERVAL;VALUE=DURATION:PT1H
X-Robots-Tag:noindex
X-PUBLISHED-TTL:PT1H
BEGIN:VTIMEZONE
TZID:America/Los_Angeles
BEGIN:DAYLIGHT
TZOFFSETFROM:-0800
TZOFFSETTO:-0700
TZNAME:PDT
DTSTART:20250309T100000
END:DAYLIGHT
BEGIN:STANDARD
TZOFFSETFROM:-0700
TZOFFSETTO:-0800
TZNAME:PST
DTSTART:20251102T090000
END:STANDARD
BEGIN:DAYLIGHT
TZOFFSETFROM:-0800
TZOFFSETTO:-0700
TZNAME:PDT
DTSTART:20260308T100000
END:DAYLIGHT
BEGIN:STANDARD
TZOFFSETFROM:-0700
TZOFFSETTO:-0800
TZNAME:PST
DTSTART:20261101T090000
END:STANDARD
BEGIN:DAYLIGHT
TZOFFSETFROM:-0800
TZOFFSETTO:-0700
TZNAME:PDT
DTSTART:20270314T100000
END:DAYLIGHT
BEGIN:STANDARD
TZOFFSETFROM:-0700
TZOFFSETTO:-0800
TZNAME:PST
DTSTART:20271107T090000
END:STANDARD
END:VTIMEZONE
BEGIN:VEVENT
DTSTART;TZID=America/Los_Angeles:20260528T190000
DTEND;TZID=America/Los_Angeles:20260528T213000
DTSTAMP:20260422T053232
CREATED:20260308T050000Z
LAST-MODIFIED:20260309T002434Z
UID:10002621-1779994800-1780003800@comedycalendar.com
SUMMARY:Anthony Jeselnik LIVE at Brea Improv (May 28)
DESCRIPTION:Official TicketsResale Tickets \nCritically acclaimed stand-up comedian Anthony Jeselnik performs live at the Brea Improv for a special four-night run — kicking off Thursday\, May 28\, 2026. \nKnown for his three Netflix specials — Thoughts and Prayers\, Fire in the Maternity Ward\, and Bones and All — and his Emmy-nominated work on The Jeselnik Offensive\, Anthony Jeselnik is one of the most daring and brilliantly dark comedians working today. Don’t miss this rare intimate club performance. \nAbout Brea Improv\nThe Brea Improv is one of Southern California’s premier comedy clubs\, located at 180 S Brea Blvd in Brea\, CA. Part of the legendary Improv comedy club chain\, it features an intimate showroom setting with full food and beverage service. \nDoors open at 5:30 PM — arrive early for the best seats. \nWhat to Expect\n\nDark\, razor-sharp stand-up from one of comedy’s most acclaimed performers\nThree Netflix specials — Emmy-nominated writer and comedian\nIntimate club setting with full food & beverage service\n21+ event — valid ID required at the door\nTwo-item minimum purchase per person in the showroom\n\nEvent Details\n\nDate: Thursday\, May 28\, 2026\nTime: 7:00 PM PDT (Doors: 5:30 PM)\nVenue: Brea Improv\, 180 S Brea Blvd\, Brea\, CA 92821\nAge Restriction: 21+\n\nTickets\nPrice: From $40 GA / $55 VIP + fees \nOfficial TicketsResale Tickets \nThis post contains affiliate links. We may earn a commission at no extra cost to you.
URL:https://comedycalendar.com/event/anthony-jeselnik-live-at-brea-improv-may-twenty-eight/
LOCATION:Brea Improv\, 180 South Brea Blvd\, Brea\, CA\, 92821\, United States
ATTACH;FMTTYPE=image/jpeg:https://i.ticketweb.com/i/00/13/30/46/53_Edp.jpg?v=18
GEO:33.9183365;-117.8988084
X-APPLE-STRUCTURED-LOCATION;VALUE=URI;X-ADDRESS=Brea Improv 180 South Brea Blvd Brea CA 92821 United States;X-APPLE-RADIUS=500;X-TITLE=180 South Brea Blvd:geo:-117.8988084,33.9183365
END:VEVENT
BEGIN:VEVENT
DTSTART;TZID=America/Los_Angeles:20260529T193000
DTEND;TZID=America/Los_Angeles:20260529T220000
DTSTAMP:20260422T053232
CREATED:20260308T050000Z
LAST-MODIFIED:20260309T002455Z
UID:10002622-1780083000-1780092000@comedycalendar.com
SUMMARY:Anthony Jeselnik LIVE at Brea Improv (May 29)
DESCRIPTION:Official TicketsResale Tickets \nCritically acclaimed stand-up comedian Anthony Jeselnik performs live at the Brea Improv for a special four-night run — Friday\, May 29\, 2026. \nKnown for his three Netflix specials — Thoughts and Prayers\, Fire in the Maternity Ward\, and Bones and All — and his Emmy-nominated work on The Jeselnik Offensive\, Anthony Jeselnik is one of the most daring and brilliantly dark comedians working today. Don’t miss this rare intimate club performance. \nAbout Brea Improv\nThe Brea Improv is one of Southern California’s premier comedy clubs\, located at 180 S Brea Blvd in Brea\, CA. Part of the legendary Improv comedy club chain\, it features an intimate showroom setting with full food and beverage service. \nWhat to Expect\n\nDark\, razor-sharp stand-up from one of comedy’s most acclaimed performers\nThree Netflix specials — Emmy-nominated writer and comedian\nIntimate club setting with full food & beverage service\n21+ event — valid ID required at the door\nTwo-item minimum purchase per person in the showroom\n\nEvent Details\n\nDate: Friday\, May 29\, 2026\nTime: 7:30 PM PDT\nVenue: Brea Improv\, 180 S Brea Blvd\, Brea\, CA 92821\nAge Restriction: 21+\n\nTickets\nPrice: From $40 GA / $55 VIP + fees \nOfficial TicketsResale Tickets \nThis post contains affiliate links. We may earn a commission at no extra cost to you.
URL:https://comedycalendar.com/event/anthony-jeselnik-live-at-brea-improv-may-twenty-nine/
LOCATION:Brea Improv\, 180 South Brea Blvd\, Brea\, CA\, 92821\, United States
ATTACH;FMTTYPE=image/jpeg:https://i.ticketweb.com/i/00/13/30/46/53_Edp.jpg?v=18
GEO:33.9183365;-117.8988084
X-APPLE-STRUCTURED-LOCATION;VALUE=URI;X-ADDRESS=Brea Improv 180 South Brea Blvd Brea CA 92821 United States;X-APPLE-RADIUS=500;X-TITLE=180 South Brea Blvd:geo:-117.8988084,33.9183365
END:VEVENT
BEGIN:VEVENT
DTSTART;TZID=America/Los_Angeles:20260530T190000
DTEND;TZID=America/Los_Angeles:20260530T210000
DTSTAMP:20260422T053232
CREATED:20260308T050000Z
LAST-MODIFIED:20260309T002515Z
UID:10002623-1780167600-1780174800@comedycalendar.com
SUMMARY:Anthony Jeselnik LIVE at Brea Improv (May 30 - Early Show)
DESCRIPTION:Official TicketsResale Tickets \nCritically acclaimed stand-up comedian Anthony Jeselnik performs the early show at the Brea Improv on Saturday\, May 30\, 2026 — the third night of his four-night run. \nKnown for his three Netflix specials — Thoughts and Prayers\, Fire in the Maternity Ward\, and Bones and All — Anthony Jeselnik is one of the most daring and brilliantly dark comedians working today. A late show is also available the same night. \nAbout Brea Improv\nThe Brea Improv is one of Southern California’s premier comedy clubs\, located at 180 S Brea Blvd in Brea\, CA. Intimate showroom with full food and beverage service. \nWhat to Expect\n\nDark\, razor-sharp stand-up from one of comedy’s most acclaimed performers\nEarly show — late show also available same night\n21+ event — valid ID required at the door\nTwo-item minimum purchase per person in the showroom\n\nEvent Details\n\nDate: Saturday\, May 30\, 2026\nTime: 7:00 PM PDT (Early Show)\nVenue: Brea Improv\, 180 S Brea Blvd\, Brea\, CA 92821\nAge Restriction: 21+\n\nTickets\nPrice: From $40 GA / $55 VIP + fees \nOfficial TicketsResale Tickets \nThis post contains affiliate links. We may earn a commission at no extra cost to you.
URL:https://comedycalendar.com/event/anthony-jeselnik-live-at-brea-improv-may-thirty-early/
LOCATION:Brea Improv\, 180 South Brea Blvd\, Brea\, CA\, 92821\, United States
ATTACH;FMTTYPE=image/jpeg:https://i.ticketweb.com/i/00/13/30/46/53_Edp.jpg?v=18
GEO:33.9183365;-117.8988084
X-APPLE-STRUCTURED-LOCATION;VALUE=URI;X-ADDRESS=Brea Improv 180 South Brea Blvd Brea CA 92821 United States;X-APPLE-RADIUS=500;X-TITLE=180 South Brea Blvd:geo:-117.8988084,33.9183365
END:VEVENT
BEGIN:VEVENT
DTSTART;TZID=America/Los_Angeles:20260530T213000
DTEND;TZID=America/Los_Angeles:20260530T233000
DTSTAMP:20260422T053232
CREATED:20260308T050000Z
LAST-MODIFIED:20260309T002553Z
UID:10002624-1780176600-1780183800@comedycalendar.com
SUMMARY:Anthony Jeselnik LIVE at Brea Improv (May 30 - Late Show)
DESCRIPTION:Official TicketsResale Tickets \nCritically acclaimed stand-up comedian Anthony Jeselnik performs the late show at the Brea Improv on Saturday\, May 30\, 2026 — the final night of his four-night run. \nKnown for his three Netflix specials — Thoughts and Prayers\, Fire in the Maternity Ward\, and Bones and All — Anthony Jeselnik is one of the most daring and brilliantly dark comedians working today. An early show is also available the same night. \nAbout Brea Improv\nThe Brea Improv is one of Southern California’s premier comedy clubs\, located at 180 S Brea Blvd in Brea\, CA. Intimate showroom with full food and beverage service. \nWhat to Expect\n\nDark\, razor-sharp stand-up from one of comedy’s most acclaimed performers\nLate show — early show also available same night\n21+ event — valid ID required at the door\nTwo-item minimum purchase per person in the showroom\n\nEvent Details\n\nDate: Saturday\, May 30\, 2026\nTime: 9:30 PM PDT (Late Show)\nVenue: Brea Improv\, 180 S Brea Blvd\, Brea\, CA 92821\nAge Restriction: 21+\n\nTickets\nPrice: From $40 GA / $55 VIP + fees \nOfficial TicketsResale Tickets \nThis post contains affiliate links. We may earn a commission at no extra cost to you.
URL:https://comedycalendar.com/event/anthony-jeselnik-live-at-brea-improv-may-thirty-late/
LOCATION:Brea Improv\, 180 South Brea Blvd\, Brea\, CA\, 92821\, United States
ATTACH;FMTTYPE=image/jpeg:https://i.ticketweb.com/i/00/13/30/46/53_Edp.jpg?v=18
GEO:33.9183365;-117.8988084
X-APPLE-STRUCTURED-LOCATION;VALUE=URI;X-ADDRESS=Brea Improv 180 South Brea Blvd Brea CA 92821 United States;X-APPLE-RADIUS=500;X-TITLE=180 South Brea Blvd:geo:-117.8988084,33.9183365
END:VEVENT
END:VCALENDAR