BEGIN:VCALENDAR
VERSION:2.0
PRODID:-//Find Upcoming Comedy Shows Near You | Comedy Calendar - ECPv6.15.20//NONSGML v1.0//EN
CALSCALE:GREGORIAN
METHOD:PUBLISH
X-WR-CALNAME:Find Upcoming Comedy Shows Near You | Comedy Calendar
X-ORIGINAL-URL:https://comedycalendar.com
X-WR-CALDESC:Events for Find Upcoming Comedy Shows Near You | Comedy Calendar
REFRESH-INTERVAL;VALUE=DURATION:PT1H
X-Robots-Tag:noindex
X-PUBLISHED-TTL:PT1H
BEGIN:VTIMEZONE
TZID:America/Denver
BEGIN:DAYLIGHT
TZOFFSETFROM:-0700
TZOFFSETTO:-0600
TZNAME:MDT
DTSTART:20250309T090000
END:DAYLIGHT
BEGIN:STANDARD
TZOFFSETFROM:-0600
TZOFFSETTO:-0700
TZNAME:MST
DTSTART:20251102T080000
END:STANDARD
BEGIN:DAYLIGHT
TZOFFSETFROM:-0700
TZOFFSETTO:-0600
TZNAME:MDT
DTSTART:20260308T090000
END:DAYLIGHT
BEGIN:STANDARD
TZOFFSETFROM:-0600
TZOFFSETTO:-0700
TZNAME:MST
DTSTART:20261101T080000
END:STANDARD
BEGIN:DAYLIGHT
TZOFFSETFROM:-0700
TZOFFSETTO:-0600
TZNAME:MDT
DTSTART:20270314T090000
END:DAYLIGHT
BEGIN:STANDARD
TZOFFSETFROM:-0600
TZOFFSETTO:-0700
TZNAME:MST
DTSTART:20271107T080000
END:STANDARD
END:VTIMEZONE
BEGIN:VEVENT
DTSTART;TZID=America/Denver:20260522T193000
DTEND;TZID=America/Denver:20260522T213000
DTSTAMP:20260424T090034
CREATED:20260319T170000Z
LAST-MODIFIED:20260320T190726Z
UID:10003460-1779478200-1779485400@comedycalendar.com
SUMMARY:Guy Torry LIVE at Denver Improv
DESCRIPTION:Official TicketsResale Tickets \nAbout the Performer\nGuy Torry is a veteran stand-up comedian\, actor\, and producer who has been making audiences laugh for over two decades. He is best known for his roles in films like American History X and Pootie Tang\, as well as his long-running comedy showcase Phat Tuesdays at the Comedy Store in Los Angeles. \nTorry’s stand-up is rooted in the African-American experience\, blending sharp social commentary with personal storytelling and infectious energy. He has appeared on Def Comedy Jam\, BET\, and numerous other platforms\, building a loyal fanbase that spans generations. \nExpect a high-energy\, no-holds-barred performance that covers everything from relationships and family to culture and current events — all delivered with Torry’s signature charisma and comedic timing. \nEvent Details\n\nDate: Friday\, May 22\, 2026\nShow Time: 7:30 PM MDT (Doors open at 6:15 PM)\nVenue: Denver Improv\, 8246 E 49th Ave #1400\, Denver\, CO 80238\nAge Restriction: 21+ event — valid ID required\nTwo-item minimum purchase required per guest in the showroom\nAdditional shows: May 22 (9:45 PM)\, May 23 (6:30 PM & 9:15 PM)\, May 24 (6:00 PM)\n\nAbout the Venue\nDenver Improv is Colorado’s top comedy destination\, located in the Northfield Stapleton shopping district. The club features a full-service restaurant and bar alongside its intimate showroom\, seating approximately 300 guests in a general admission format. \nThe close-quarters layout ensures every seat has a great view of the stage. Parking is available in the surrounding Northfield shopping center lots\, and the venue is easily accessible from I-70. \nWhat to Expect\nThis is a headline stand-up comedy show featuring Guy Torry. The performance runs approximately 90 minutes and includes an opening act. Seating is general admission — arrive early for the best seats. \nCell phones\, photography\, and video recording are strictly prohibited during the show. Late arrivals will not be admitted more than 30 minutes after showtime. Multiple shows are available across the weekend. \nTicket Information\nTickets start at $58 (GA) to $90 (VIP)\, plus fees. \nOfficial TicketsResale Tickets \nThis post contains affiliate links. We may earn a commission at no extra cost to you.
URL:https://comedycalendar.com/event/guy-torry-live-at-denver-improv/
LOCATION:Denver Improv\, 8246 Northfield Blvd\, Denver\, CO\, 80238\, United States
CATEGORIES:Comedy Showcase,Improv,Showcase,Stand Up Comedy
ATTACH;FMTTYPE=image/jpeg:https://i.ticketweb.com/i/00/12/90/71/44_Edp.jpg?v=3
GEO:39.7818719;-104.8922808
X-APPLE-STRUCTURED-LOCATION;VALUE=URI;X-ADDRESS=Denver Improv 8246 Northfield Blvd Denver CO 80238 United States;X-APPLE-RADIUS=500;X-TITLE=8246 Northfield Blvd:geo:-104.8922808,39.7818719
END:VEVENT
END:VCALENDAR