BEGIN:VCALENDAR
VERSION:2.0
PRODID:-//Find Upcoming Comedy Shows Near You | Comedy Calendar - ECPv6.15.20//NONSGML v1.0//EN
CALSCALE:GREGORIAN
METHOD:PUBLISH
X-ORIGINAL-URL:https://comedycalendar.com
X-WR-CALDESC:Events for Find Upcoming Comedy Shows Near You | Comedy Calendar
REFRESH-INTERVAL;VALUE=DURATION:PT1H
X-Robots-Tag:noindex
X-PUBLISHED-TTL:PT1H
BEGIN:VTIMEZONE
TZID:America/Los_Angeles
BEGIN:DAYLIGHT
TZOFFSETFROM:-0800
TZOFFSETTO:-0700
TZNAME:PDT
DTSTART:20250309T100000
END:DAYLIGHT
BEGIN:STANDARD
TZOFFSETFROM:-0700
TZOFFSETTO:-0800
TZNAME:PST
DTSTART:20251102T090000
END:STANDARD
BEGIN:DAYLIGHT
TZOFFSETFROM:-0800
TZOFFSETTO:-0700
TZNAME:PDT
DTSTART:20260308T100000
END:DAYLIGHT
BEGIN:STANDARD
TZOFFSETFROM:-0700
TZOFFSETTO:-0800
TZNAME:PST
DTSTART:20261101T090000
END:STANDARD
BEGIN:DAYLIGHT
TZOFFSETFROM:-0800
TZOFFSETTO:-0700
TZNAME:PDT
DTSTART:20270314T100000
END:DAYLIGHT
BEGIN:STANDARD
TZOFFSETFROM:-0700
TZOFFSETTO:-0800
TZNAME:PST
DTSTART:20271107T090000
END:STANDARD
END:VTIMEZONE
BEGIN:VTIMEZONE
TZID:America/Chicago
BEGIN:DAYLIGHT
TZOFFSETFROM:-0600
TZOFFSETTO:-0500
TZNAME:CDT
DTSTART:20250309T080000
END:DAYLIGHT
BEGIN:STANDARD
TZOFFSETFROM:-0500
TZOFFSETTO:-0600
TZNAME:CST
DTSTART:20251102T070000
END:STANDARD
BEGIN:DAYLIGHT
TZOFFSETFROM:-0600
TZOFFSETTO:-0500
TZNAME:CDT
DTSTART:20260308T080000
END:DAYLIGHT
BEGIN:STANDARD
TZOFFSETFROM:-0500
TZOFFSETTO:-0600
TZNAME:CST
DTSTART:20261101T070000
END:STANDARD
BEGIN:DAYLIGHT
TZOFFSETFROM:-0600
TZOFFSETTO:-0500
TZNAME:CDT
DTSTART:20270314T080000
END:DAYLIGHT
BEGIN:STANDARD
TZOFFSETFROM:-0500
TZOFFSETTO:-0600
TZNAME:CST
DTSTART:20271107T070000
END:STANDARD
END:VTIMEZONE
BEGIN:VEVENT
DTSTART;TZID=America/Los_Angeles:20260418T190000
DTEND;TZID=America/Los_Angeles:20260418T213000
DTSTAMP:20260421T135656
CREATED:20260319T040000Z
LAST-MODIFIED:20260320T190900Z
UID:10003442-1776538800-1776547800@comedycalendar.com
SUMMARY:Zarna Garg LIVE at Neptune Theatre
DESCRIPTION:This post contains affiliate links. We earn a commission if you purchase tickets through our links at no extra cost to you. \nOfficial Tickets\nResale Tickets \nZarna Garg LIVE at Neptune Theatre\nRising comedy star Zarna Garg brings her smash-hit show Million Dollar Excuses to Seattle’s Neptune Theatre on Saturday\, April 18\, 2026. Known for her hilarious takes on Indian-American family life\, motherhood\, and marriage\, Zarna delivers a comedy experience that is both relatable and uproariously funny. \nEvent Details\nDate: Saturday\, April 18\, 2026\nTime: 7:00 PM (Doors open one hour prior)\nVenue: Neptune Theatre\nAddress: 1303 NE 45th St\, Seattle\, WA 98105\nAge Requirement: All Ages (Bar with valid ID) \nAbout Zarna Garg\nZarna Garg is one of comedy’s fastest-rising stars\, known for her viral social media presence and her sold-out stand-up tours across North America. Her comedy draws from her experiences as an Indian immigrant\, wife\, and mother\, delivering sharp observations with infectious energy. She has been featured on major platforms and continues to win over audiences everywhere she performs. \nWhat to Expect\n\nHilarious stand-up comedy about family\, culture\, and everyday life\nViral-worthy jokes delivered with explosive energy\nA packed house of fans ready to laugh all night\nRelatable humor that transcends cultural boundaries\nAn unforgettable night at one of Seattle’s premier venues\n\nVenue Information\nThe Neptune Theatre is a stunning historic venue located at 1303 NE 45th St in Seattle’s University District. With its beautiful architecture and excellent sightlines\, it provides an ideal setting for an evening of world-class stand-up comedy. \nTicket Information\nTickets start from approximately $68. Only 41 tickets remain — don’t wait to secure your spot! \nOfficial Tickets\nResale Tickets \nThis post contains affiliate links. We earn a commission if you purchase tickets through our links at no extra cost to you. \nAll sales are final. Show times subject to change. Valid photo ID may be required for entry.
URL:https://comedycalendar.com/event/zarna-garg-live-at-neptune-theatre/
LOCATION:Neptune Theatre\, 1303 NE 45th St\, Seattle\, Washington\, 98105\, United States
CATEGORIES:Stand Up Comedy
ATTACH;FMTTYPE=image/jpeg:https://s1.ticketm.net/dam/a/ffa/73736fbc-224f-4abd-aa98-568d88c80ffa_EVENT_DETAIL_PAGE_16_9.jpg
GEO:47.6611708;-122.314022
X-APPLE-STRUCTURED-LOCATION;VALUE=URI;X-ADDRESS=Neptune Theatre 1303 NE 45th St Seattle Washington 98105 United States;X-APPLE-RADIUS=500;X-TITLE=1303 NE 45th St:geo:-122.314022,47.6611708
END:VEVENT
BEGIN:VEVENT
DTSTART;TZID=America/Chicago:20260418T200000
DTEND;TZID=America/Chicago:20260418T220000
DTSTAMP:20260421T135656
CREATED:20260327T190000Z
LAST-MODIFIED:20260327T190000Z
UID:10004242-1776542400-1776549600@comedycalendar.com
SUMMARY:Pat McGann LIVE at Barrymore Theatre
DESCRIPTION:Official TicketsResale Tickets \nAbout Pat McGann\nPat McGann is one of the hardest-working comedians in the business — a Chicago-based stand-up who has earned his reputation through relentless touring and a natural gift for storytelling. His comedy is rooted in real life: marriage\, fatherhood\, family dynamics\, and the everyday absurdities that most people are too polite to talk about. \nPat has appeared on The Tonight Show Starring Jimmy Fallon\, Late Night with Seth Meyers\, and has released multiple comedy specials that showcase his sharp observational style and everyman charm. He’s the kind of comedian who makes you feel like you’re hearing your funniest friend tell stories at a bar. \nHis Madison show at the Barrymore Theatre promises an evening of fresh material\, crowd interaction\, and the kind of honest\, relatable comedy that keeps audiences laughing long after the show ends. \nEvent Details\n\nDate: Saturday\, April 18\, 2026\nTime: 8:00 PM (Doors open at 7:00 PM)\nVenue: Barrymore Theatre\, 2090 Atwood Ave\, Madison\, WI 53704\nAge Restriction: All Ages\nTicket Price Range: $30 – $65\n\nAbout the Barrymore Theatre\nThe Barrymore Theatre is one of Madison’s most iconic and beloved live entertainment venues. Located at 2090 Atwood Ave in the vibrant Atwood neighborhood\, the Barrymore has been a cornerstone of Madison’s arts and entertainment scene for decades. \nWith a capacity of approximately 1\,500 guests\, the Barrymore offers an intimate\, neighborhood-feel atmosphere that makes every show feel personal. The venue features a full bar\, excellent sound system\, and a layout that keeps audiences close to the action. Street parking and nearby lots make it easy to get to the show. \nThe Barrymore’s warm\, community-oriented vibe makes it the perfect setting for an evening of stand-up comedy — expect a lively crowd and a great night out in one of Madison’s most charming neighborhoods. \nWhat to Expect\nPat McGann delivers a solo stand-up performance filled with his trademark storytelling\, self-deprecating humor\, and sharp observations about family life and modern culture. His shows are known for being high-energy\, crowd-friendly\, and consistently hilarious from start to finish. \nThe show runs approximately 75–90 minutes. Doors open at 7:00 PM — arrive early to grab a drink and get settled before the show kicks off. This is a Saturday night show\, so expect a packed house and an electric atmosphere. \nTicket Information\nTickets range from $30 to $65 depending on seat location. Purchase official tickets through Ticketmaster or find resale tickets through VividSeats. \nOfficial TicketsResale Tickets \nThis post contains affiliate links. We may earn a commission at no extra cost to you.
URL:https://comedycalendar.com/event/pat-mcgann-live-at-barrymore-theatre/
LOCATION:Barrymore Theatre\, 2090 Atwood Ave\, Madison\, WI\, 53704\, United States Of America
CATEGORIES:Showcase
ATTACH;FMTTYPE=image/jpeg:https://media.ticketmaster.com/en-us/dam/a/1df/4b675206-d18a-4bc0-999a-efb3fdf981df_1860851_CUSTOM.jpg
GEO:43.0927913;-89.3522306
X-APPLE-STRUCTURED-LOCATION;VALUE=URI;X-ADDRESS=Barrymore Theatre 2090 Atwood Ave Madison WI 53704 United States Of America;X-APPLE-RADIUS=500;X-TITLE=2090 Atwood Ave:geo:-89.3522306,43.0927913
END:VEVENT
END:VCALENDAR