BEGIN:VCALENDAR
VERSION:2.0
PRODID:-//Find Upcoming Comedy Shows Near You | Comedy Calendar - ECPv6.15.20//NONSGML v1.0//EN
CALSCALE:GREGORIAN
METHOD:PUBLISH
X-ORIGINAL-URL:https://comedycalendar.com
X-WR-CALDESC:Events for Find Upcoming Comedy Shows Near You | Comedy Calendar
REFRESH-INTERVAL;VALUE=DURATION:PT1H
X-Robots-Tag:noindex
X-PUBLISHED-TTL:PT1H
BEGIN:VTIMEZONE
TZID:America/New_York
BEGIN:DAYLIGHT
TZOFFSETFROM:-0500
TZOFFSETTO:-0400
TZNAME:EDT
DTSTART:20220313T070000
END:DAYLIGHT
BEGIN:STANDARD
TZOFFSETFROM:-0400
TZOFFSETTO:-0500
TZNAME:EST
DTSTART:20221106T060000
END:STANDARD
BEGIN:DAYLIGHT
TZOFFSETFROM:-0500
TZOFFSETTO:-0400
TZNAME:EDT
DTSTART:20230312T070000
END:DAYLIGHT
BEGIN:STANDARD
TZOFFSETFROM:-0400
TZOFFSETTO:-0500
TZNAME:EST
DTSTART:20231105T060000
END:STANDARD
BEGIN:DAYLIGHT
TZOFFSETFROM:-0500
TZOFFSETTO:-0400
TZNAME:EDT
DTSTART:20240310T070000
END:DAYLIGHT
BEGIN:STANDARD
TZOFFSETFROM:-0400
TZOFFSETTO:-0500
TZNAME:EST
DTSTART:20241103T060000
END:STANDARD
END:VTIMEZONE
BEGIN:VEVENT
DTSTART;TZID=America/New_York:20230708T210000
DTEND;TZID=America/New_York:20230708T230000
DTSTAMP:20260421T103536
CREATED:20230621T194929Z
LAST-MODIFIED:20230621T194929Z
UID:10001344-1688850000-1688857200@comedycalendar.com
SUMMARY:AktiBao Wynwood Comedy Night (Saturday)
DESCRIPTION:AktiBao is located in Wynwood\, a fun creative Bao restaurant ideal for laughs. Seating and Buy-One-Get-One-Free Drinks available with RSVP.
URL:https://comedycalendar.com/event/aktibao-wynwood-comedy-night-saturday-2/
LOCATION:AktiBao Wynwood\, 2749 Northwest 3rd Avenue\, Miami\, FL\, 33127\, United States
ATTACH;FMTTYPE=image/jpeg:https://comedycalendar.com/wp-content/uploads/2023/06/1cd2d561aaa2e597e8fad00ce70685bd.jpg
GEO:25.802407;-80.201059
X-APPLE-STRUCTURED-LOCATION;VALUE=URI;X-ADDRESS=AktiBao Wynwood 2749 Northwest 3rd Avenue Miami FL 33127 United States;X-APPLE-RADIUS=500;X-TITLE=2749 Northwest 3rd Avenue:geo:-80.201059,25.802407
END:VEVENT
END:VCALENDAR