BEGIN:VCALENDAR
VERSION:2.0
PRODID:-//Find Upcoming Comedy Shows Near You | Comedy Calendar - ECPv6.15.20//NONSGML v1.0//EN
CALSCALE:GREGORIAN
METHOD:PUBLISH
X-WR-CALNAME:Find Upcoming Comedy Shows Near You | Comedy Calendar
X-ORIGINAL-URL:https://comedycalendar.com
X-WR-CALDESC:Events for Find Upcoming Comedy Shows Near You | Comedy Calendar
REFRESH-INTERVAL;VALUE=DURATION:PT1H
X-Robots-Tag:noindex
X-PUBLISHED-TTL:PT1H
BEGIN:VTIMEZONE
TZID:America/Chicago
BEGIN:DAYLIGHT
TZOFFSETFROM:-0600
TZOFFSETTO:-0500
TZNAME:CDT
DTSTART:20250309T080000
END:DAYLIGHT
BEGIN:STANDARD
TZOFFSETFROM:-0500
TZOFFSETTO:-0600
TZNAME:CST
DTSTART:20251102T070000
END:STANDARD
BEGIN:DAYLIGHT
TZOFFSETFROM:-0600
TZOFFSETTO:-0500
TZNAME:CDT
DTSTART:20260308T080000
END:DAYLIGHT
BEGIN:STANDARD
TZOFFSETFROM:-0500
TZOFFSETTO:-0600
TZNAME:CST
DTSTART:20261101T070000
END:STANDARD
BEGIN:DAYLIGHT
TZOFFSETFROM:-0600
TZOFFSETTO:-0500
TZNAME:CDT
DTSTART:20270314T080000
END:DAYLIGHT
BEGIN:STANDARD
TZOFFSETFROM:-0500
TZOFFSETTO:-0600
TZNAME:CST
DTSTART:20271107T070000
END:STANDARD
END:VTIMEZONE
BEGIN:VEVENT
DTSTART;TZID=America/Chicago:20260603T193000
DTEND;TZID=America/Chicago:20260603T211500
DTSTAMP:20260424T063416
CREATED:20260315T190000Z
LAST-MODIFIED:20260316T203528Z
UID:10003134-1780515000-1780521300@comedycalendar.com
SUMMARY:Akeem Woods LIVE at Punch Line Irving
DESCRIPTION:Official TicketsResale Tickets \nThis post contains affiliate links. We may earn a commission at no extra cost to you. \nAbout the Performer\nAkeem Woods is a rising stand-up comedian known for his sharp wit\, relatable storytelling\, and high-energy performances. He has been building a loyal fanbase through his authentic comedic voice and consistent touring schedule across the country. \nHis Wednesday night show at Punch Line Irving is a must-see for comedy fans in the DFW area looking for a mid-week laugh with a fresh\, exciting voice in stand-up comedy. \nEvent Details\nDate: Wednesday\, June 3\, 2026 \nTime: 7:30 PM \nVenue: Punch Line Irving\, 310 W Las Colinas Blvd.\, Suite 130\, Irving\, TX 75039 \nTicket Price Range: $25 – $50 \nAge Restriction: 18+ with valid ID \nAbout the Venue\nPunch Line Irving is the DFW area’s premier comedy club\, nestled in the heart of the Las Colinas entertainment district. The club features a full bar\, table service\, and an intimate seating layout that puts every guest close to the action. \nWednesday nights at Punch Line Irving are a great way to break up the week with big laughs. Located at 310 W Las Colinas Blvd.\, Suite 130\, with convenient parking available nearby. \nWhat to Expect\nAkeem Woods delivers a full headlining stand-up set packed with sharp observations and hilarious storytelling. An opening act warms up the crowd before Akeem takes the stage for the main event. \nDoors open one hour before showtime. Arrive early to grab a drink and get settled before the laughs begin. \nTicket Information\nTickets range from $25 to $50. Purchase official tickets on Ticketmaster or find resale options on VividSeats. \nOfficial TicketsResale Tickets
URL:https://comedycalendar.com/event/akeem-woods-live-at-punch-line-irving/
LOCATION:Punch Line Irving\, 310 W Las Colinas Blvd.\, Suite 130\, Irving\, TX\, 75039\, United States Of America
CATEGORIES:Stand Up Comedy
ATTACH;FMTTYPE=image/jpeg:https://media.ticketmaster.com/en-us/dam/a/897/3f568f2c-e12a-4604-8f9b-c9f5928b2897_CUSTOM.jpg
GEO:32.8734455;-96.9445654
X-APPLE-STRUCTURED-LOCATION;VALUE=URI;X-ADDRESS=Punch Line Irving 310 W Las Colinas Blvd. Suite 130 Irving TX 75039 United States Of America;X-APPLE-RADIUS=500;X-TITLE=310 W Las Colinas Blvd.\, Suite 130:geo:-96.9445654,32.8734455
END:VEVENT
BEGIN:VEVENT
DTSTART;TZID=America/Chicago:20260604T193000
DTEND;TZID=America/Chicago:20260604T213000
DTSTAMP:20260424T063416
CREATED:20260318T210000Z
LAST-MODIFIED:20260318T210000Z
UID:10003313-1780601400-1780608600@comedycalendar.com
SUMMARY:Akeem Woods LIVE at Punch Line Houston
DESCRIPTION:Official TicketsResale Tickets \nAbout Akeem Woods\nAkeem Woods is a rising star in stand-up comedy with an impressive list of TV credits to his name. He was a semi-finalist on Stand Up NBC\, has been seen on Kevin Hart’s LOL Network\, The Late Late Show with James Corden\, Season 2 of Pause on HBO\, and Season 3 of Sex Sells on Fuse TV. \nOutside of TV\, Akeem has appeared on numerous hit podcasts including Whorible Decisions\, Lip Service with Angela Yee\, Why Won’t You Date Me with Nicole Byer\, and is a regular on Godfrey’s podcast on the Gas Digital Network. His sharp wit\, relatable storytelling\, and natural stage presence make him one of the most exciting young comedians working today. \nEvent Details\nDate: Thursday\, June 4\, 2026\nShow Time: 7:30 PM\nVenue: Punch Line Houston\nAddress: 1204 Caroline Street\, Houston\, TX 77002\nAge Restriction: 18+ / 2 Beverage Minimum\nTicket Price: From $50 \nAbout Punch Line Houston\nPunch Line Houston is downtown Houston’s premier stand-up comedy club\, located at 1204 Caroline Street. Part of the nationally recognized Punch Line Comedy Club brand\, this intimate venue delivers an up-close comedy experience that puts you right in the action. \nThe club features table seating\, a full-service bar\, and a two-drink minimum that keeps the energy flowing all night. Every seat in the house feels close to the stage — perfect for experiencing Akeem’s dynamic and engaging performance style. Parking is available in nearby downtown Houston garages and on surrounding streets. \nWhat to Expect\nAkeem Woods delivers a polished\, high-energy set that draws from his personal experiences\, pop culture observations\, and sharp social commentary. His comedy is smart\, accessible\, and consistently funny — the kind of set that has audiences laughing from the first joke to the last. \nExpect an opening act followed by Akeem’s full headlining set. The show runs approximately 90 minutes. This is an 18+ event with a two-beverage minimum per guest. \nTicket Information\nPrice: From $50\nTickets available via Ticketmaster (official) or VividSeats (resale). \nOfficial TicketsResale Tickets \nThis post contains affiliate links. We may earn a commission at no extra cost to you.
URL:https://comedycalendar.com/event/akeem-woods-live-at-punch-line-houston/
LOCATION:Punch Line Houston\, 1204 Caroline Street\, Houston\, TX\, 77002\, United States
ATTACH;FMTTYPE=image/jpeg:https://comedycalendar.com/wp-content/uploads/2026/03/3f568f2c-e12a-4604-8f9b-c9f5928b2897_RETINA_PORTRAIT_3_2-1nDwU7.jpg
GEO:29.7533552;-95.3641123
X-APPLE-STRUCTURED-LOCATION;VALUE=URI;X-ADDRESS=Punch Line Houston 1204 Caroline Street Houston TX 77002 United States;X-APPLE-RADIUS=500;X-TITLE=1204 Caroline Street:geo:-95.3641123,29.7533552
END:VEVENT
END:VCALENDAR