BEGIN:VCALENDAR
VERSION:2.0
PRODID:-//Find Upcoming Comedy Shows Near You | Comedy Calendar - ECPv6.15.20//NONSGML v1.0//EN
CALSCALE:GREGORIAN
METHOD:PUBLISH
X-ORIGINAL-URL:https://comedycalendar.com
X-WR-CALDESC:Events for Find Upcoming Comedy Shows Near You | Comedy Calendar
REFRESH-INTERVAL;VALUE=DURATION:PT1H
X-Robots-Tag:noindex
X-PUBLISHED-TTL:PT1H
BEGIN:VTIMEZONE
TZID:America/Chicago
BEGIN:DAYLIGHT
TZOFFSETFROM:-0600
TZOFFSETTO:-0500
TZNAME:CDT
DTSTART:20250309T080000
END:DAYLIGHT
BEGIN:STANDARD
TZOFFSETFROM:-0500
TZOFFSETTO:-0600
TZNAME:CST
DTSTART:20251102T070000
END:STANDARD
BEGIN:DAYLIGHT
TZOFFSETFROM:-0600
TZOFFSETTO:-0500
TZNAME:CDT
DTSTART:20260308T080000
END:DAYLIGHT
BEGIN:STANDARD
TZOFFSETFROM:-0500
TZOFFSETTO:-0600
TZNAME:CST
DTSTART:20261101T070000
END:STANDARD
BEGIN:DAYLIGHT
TZOFFSETFROM:-0600
TZOFFSETTO:-0500
TZNAME:CDT
DTSTART:20270314T080000
END:DAYLIGHT
BEGIN:STANDARD
TZOFFSETFROM:-0500
TZOFFSETTO:-0600
TZNAME:CST
DTSTART:20271107T070000
END:STANDARD
END:VTIMEZONE
BEGIN:VEVENT
DTSTART;TZID=America/Chicago:20260910T193000
DTEND;TZID=America/Chicago:20260910T213000
DTSTAMP:20260420T162713
CREATED:20260406T230000Z
LAST-MODIFIED:20260406T230000Z
UID:10004657-1789068600-1789075800@comedycalendar.com
SUMMARY:Rocky Dale Davis LIVE at Laugh Out Loud Comedy Club
DESCRIPTION:Official TicketsResale Tickets \nAbout Rocky Dale Davis\nRocky Dale Davis is a rising star in the stand-up comedy world\, best known for his appearances on NBC’s Bring The Funny\, E!’s Dating No Filter\, and MTV’s Greatest Party Stories. \nHis comedy style is sharp\, self-aware\, and deeply relatable — blending personal storytelling with quick-fire observations about everyday life. Rocky Dale has a natural ability to connect with audiences of all backgrounds\, turning ordinary moments into extraordinary punchlines. \nWith a growing national following and a reputation for high-energy live performances\, Rocky Dale Davis is a must-see comedian on the rise. His San Antonio stop at the Laugh Out Loud Comedy Club promises an unforgettable night of laughs. \nEvent Details\n\nDate: Thursday\, September 10\, 2026\nShow Time: 7:30 PM CDT (Doors open at 6:30 PM)\nVenue: Laugh Out Loud Comedy Club\nAddress: 618 NW Loop 410\, San Antonio\, TX 78216\nAge Restriction: 18+ event\nContent: Adult stand-up comedy\n\nAbout the Venue\nThe Laugh Out Loud Comedy Club is San Antonio’s premier stand-up comedy destination\, conveniently located in Park North Plaza at Loop 410 and Blanco — just inside the loop and only a few miles from San Antonio International Airport. \nThe club features a full bar lounge perfect for pre-show drinks\, and a dedicated showroom with two seating sections: Preferred Tables (center stage) and General Admission Tables (side stage and wings). All seating is first-come\, first-served within each section\, so arriving early is recommended for the best seats. \nThe venue has a warm\, intimate atmosphere that puts you close to the action. With a capacity that keeps the room feeling personal\, every seat offers a great view of the stage. There is a two-item food or beverage minimum per person once seated\, and an 18% service charge applies to all checks in the showroom. \nParking is available in the Park North Plaza lot. The venue is easily accessible from major highways and is a short drive from downtown San Antonio. \nWhat to Expect\nThis is a solo headline stand-up comedy show featuring Rocky Dale Davis performing his full set. Expect a high-energy\, laugh-packed evening filled with personal stories\, sharp observations\, and the kind of comedy that keeps you talking about it long after the show ends. \nRocky Dale’s style is conversational and punchy — he draws from real-life experiences and delivers them with impeccable timing. Whether you’re a longtime fan or discovering him for the first time\, this show is the perfect night out. \nDoors open at 6:30 PM\, giving you time to grab a drink and settle in before the 7:30 PM showtime. The show runs approximately 90 minutes. \nTicket Information\nPrice Range: $25 – $35 (plus fees) \n\nGA Individual Ticket: $25 (+ fees)\nPreferred Individual Ticket: $35 (+ fees)\n\nGet your tickets now before they sell out! \nOfficial TicketsResale Tickets \nThis post contains affiliate links. We may earn a commission at no extra cost to you.
URL:https://comedycalendar.com/event/rocky-dale-davis-live-at-laugh-out-loud-comedy-club/
LOCATION:Laugh Out Loud Comedy Club\, 618 Northwest Loop 410\, San Antonio\, TX\, 78216\, USA
ATTACH;FMTTYPE=image/png:https://comedycalendar.com/wp-content/uploads/2026/04/84_Edp-5drTrX.png
GEO:29.5193054;-98.5060363
X-APPLE-STRUCTURED-LOCATION;VALUE=URI;X-ADDRESS=Laugh Out Loud Comedy Club 618 Northwest Loop 410 San Antonio TX 78216 USA;X-APPLE-RADIUS=500;X-TITLE=618 Northwest Loop 410:geo:-98.5060363,29.5193054
END:VEVENT
END:VCALENDAR