BEGIN:VCALENDAR
VERSION:2.0
PRODID:-//Find Upcoming Comedy Shows Near You | Comedy Calendar - ECPv6.15.20//NONSGML v1.0//EN
CALSCALE:GREGORIAN
METHOD:PUBLISH
X-WR-CALNAME:Find Upcoming Comedy Shows Near You | Comedy Calendar
X-ORIGINAL-URL:https://comedycalendar.com
X-WR-CALDESC:Events for Find Upcoming Comedy Shows Near You | Comedy Calendar
REFRESH-INTERVAL;VALUE=DURATION:PT1H
X-Robots-Tag:noindex
X-PUBLISHED-TTL:PT1H
BEGIN:VTIMEZONE
TZID:America/Los_Angeles
BEGIN:DAYLIGHT
TZOFFSETFROM:-0800
TZOFFSETTO:-0700
TZNAME:PDT
DTSTART:20250309T100000
END:DAYLIGHT
BEGIN:STANDARD
TZOFFSETFROM:-0700
TZOFFSETTO:-0800
TZNAME:PST
DTSTART:20251102T090000
END:STANDARD
BEGIN:DAYLIGHT
TZOFFSETFROM:-0800
TZOFFSETTO:-0700
TZNAME:PDT
DTSTART:20260308T100000
END:DAYLIGHT
BEGIN:STANDARD
TZOFFSETFROM:-0700
TZOFFSETTO:-0800
TZNAME:PST
DTSTART:20261101T090000
END:STANDARD
BEGIN:DAYLIGHT
TZOFFSETFROM:-0800
TZOFFSETTO:-0700
TZNAME:PDT
DTSTART:20270314T100000
END:DAYLIGHT
BEGIN:STANDARD
TZOFFSETFROM:-0700
TZOFFSETTO:-0800
TZNAME:PST
DTSTART:20271107T090000
END:STANDARD
END:VTIMEZONE
BEGIN:VEVENT
DTSTART;TZID=America/Los_Angeles:20260506T183000
DTEND;TZID=America/Los_Angeles:20260506T210000
DTSTAMP:20260421T023903
CREATED:20260319T040000Z
LAST-MODIFIED:20260320T190829Z
UID:10003444-1778092200-1778101200@comedycalendar.com
SUMMARY:Abhishek Upmanyu LIVE at Neptune Theatre
DESCRIPTION:This post contains affiliate links. We earn a commission if you purchase tickets through our links at no extra cost to you. \nOfficial Tickets\nResale Tickets \nAbhishek Upmanyu LIVE at Neptune Theatre\nIndian stand-up sensation Abhishek Upmanyu brings his acclaimed show Toxic to Seattle‘s Neptune Theatre on Wednesday\, May 6\, 2026. Known for his razor-sharp wit and relatable storytelling\, Abhishek has become one of India’s most beloved comedians with a massive global following. \nEvent Details\nDate: Wednesday\, May 6\, 2026Time: 6:30 PMVenue: Neptune TheatreAddress: 1303 NE 45th St\, Seattle\, WA 98105Age Requirement: All Ages \nAbout Abhishek Upmanyu\nAbhishek Upmanyu is one of India’s top stand-up comedians\, celebrated for his observational humor about everyday life\, relationships\, and growing up in India. His specials have garnered millions of views online and his live shows consistently sell out across the globe. \nWhat to Expect\n\nHilarious observational comedy about life\, family\, and relationships\nA sold-out caliber show from one of India’s biggest comedy stars\nRelatable humor that transcends cultural boundaries\nAn intimate evening at Seattle’s historic Neptune Theatre\nA night of non-stop laughter you won’t forget\n\nVenue Information\nThe Neptune Theatre is a stunning historic venue at 1303 NE 45th St in Seattle’s University District\, offering excellent sightlines and a warm atmosphere perfect for stand-up comedy. \nTicket Information\nTickets start from approximately $66. Secure your seats now before they sell out! \nOfficial Tickets\nResale Tickets \nThis post contains affiliate links. We earn a commission if you purchase tickets through our links at no extra cost to you.\nAll sales are final. Show times subject to change. Valid photo ID may be required for entry.
URL:https://comedycalendar.com/event/abhishek-upmanyu-live-at-neptune-theatre/
LOCATION:Neptune Theatre\, 1303 NE 45th St\, Seattle\, Washington\, 98105\, United States
CATEGORIES:Stand Up Comedy
ATTACH;FMTTYPE=image/jpeg:https://s1.ticketm.net/dam/a/d1b/2d129eed-218b-4b12-ad83-c8062ddf8d1b_EVENT_DETAIL_PAGE_16_9.jpg
GEO:47.6611708;-122.314022
X-APPLE-STRUCTURED-LOCATION;VALUE=URI;X-ADDRESS=Neptune Theatre 1303 NE 45th St Seattle Washington 98105 United States;X-APPLE-RADIUS=500;X-TITLE=1303 NE 45th St:geo:-122.314022,47.6611708
END:VEVENT
END:VCALENDAR