BEGIN:VCALENDAR
VERSION:2.0
PRODID:-//Find Upcoming Comedy Shows Near You | Comedy Calendar - ECPv6.15.20//NONSGML v1.0//EN
CALSCALE:GREGORIAN
METHOD:PUBLISH
X-WR-CALNAME:Find Upcoming Comedy Shows Near You | Comedy Calendar
X-ORIGINAL-URL:https://comedycalendar.com
X-WR-CALDESC:Events for Find Upcoming Comedy Shows Near You | Comedy Calendar
REFRESH-INTERVAL;VALUE=DURATION:PT1H
X-Robots-Tag:noindex
X-PUBLISHED-TTL:PT1H
BEGIN:VTIMEZONE
TZID:America/Denver
BEGIN:DAYLIGHT
TZOFFSETFROM:-0700
TZOFFSETTO:-0600
TZNAME:MDT
DTSTART:20250309T090000
END:DAYLIGHT
BEGIN:STANDARD
TZOFFSETFROM:-0600
TZOFFSETTO:-0700
TZNAME:MST
DTSTART:20251102T080000
END:STANDARD
BEGIN:DAYLIGHT
TZOFFSETFROM:-0700
TZOFFSETTO:-0600
TZNAME:MDT
DTSTART:20260308T090000
END:DAYLIGHT
BEGIN:STANDARD
TZOFFSETFROM:-0600
TZOFFSETTO:-0700
TZNAME:MST
DTSTART:20261101T080000
END:STANDARD
BEGIN:DAYLIGHT
TZOFFSETFROM:-0700
TZOFFSETTO:-0600
TZNAME:MDT
DTSTART:20270314T090000
END:DAYLIGHT
BEGIN:STANDARD
TZOFFSETFROM:-0600
TZOFFSETTO:-0700
TZNAME:MST
DTSTART:20271107T080000
END:STANDARD
END:VTIMEZONE
BEGIN:VEVENT
DTSTART;TZID=America/Denver:20260416T200000
DTEND;TZID=America/Denver:20260416T220000
DTSTAMP:20260421T181521
CREATED:20260327T150000Z
LAST-MODIFIED:20260327T150000Z
UID:10004211-1776369600-1776376800@comedycalendar.com
SUMMARY:Chelsea Handler: The High And Mighty Tour LIVE at Kiva Auditorium
DESCRIPTION:Official TicketsResale Tickets \nThis post contains affiliate links. We may earn a commission at no extra cost to you. \nAbout the Performer\nChelsea Handler is one of the most fearless and outspoken comedians in the entertainment industry. Known for her razor-sharp wit\, unapologetic humor\, and no-holds-barred commentary on pop culture\, politics\, and personal life\, Chelsea has built a massive following over two decades in comedy. \nShe rose to fame as the host of the long-running late-night talk show Chelsea Lately on E! and has since released multiple bestselling books and Netflix specials. Her comedy style blends self-deprecating humor with biting social commentary\, making every show an unpredictable and hilarious experience. \nThe High And Mighty Tour promises Chelsea at her most confident and commanding — delivering the kind of bold\, unfiltered stand-up that has made her a household name. \nEvent Details\n\nDate: Thursday\, April 16\, 2026\nTime: 8:00 PM MDT\nVenue: Kiva Auditorium at the Albuquerque Convention Center\nAddress: 401 2nd Street NW\, Albuquerque\, NM 87102\nAge Restrictions: 18+ recommended (adult content)\n\nAbout the Venue\nThe Kiva Auditorium at the Albuquerque Convention Center is one of New Mexico’s premier entertainment venues. Located in the heart of downtown Albuquerque\, this stunning auditorium seats approximately 2\,300 guests and offers excellent sightlines from every section. \nThe venue features a tiered seating layout with orchestra\, mezzanine\, and balcony sections\, ensuring an intimate feel even in the larger rows. The Kiva Auditorium is known for its warm acoustics and comfortable seating\, making it ideal for stand-up comedy performances. Parking is available in nearby convention center garages and surface lots throughout downtown Albuquerque. \nThe venue is easily accessible from I-25 and is surrounded by downtown dining and entertainment options\, making it a great spot to make a full evening of your night out. \nWhat to Expect\nChelsea Handler’s The High And Mighty Tour is a solo stand-up comedy show featuring all-new material. Expect Chelsea to tackle everything from relationships and celebrity culture to politics and personal anecdotes with her signature blend of confidence and chaos. \nThe show runs approximately 90 minutes and is intended for mature audiences. Chelsea is known for crowd interaction and spontaneous moments that make each performance unique. This is a must-see show for fans of sharp\, intelligent\, and wildly entertaining comedy. \nTicket Information\nPrice Range: $44.50 – $69.95 (before fees) \nSecure your seats today through official Ticketmaster channels or find resale tickets via VividSeats: \nOfficial TicketsResale Tickets \nThis post contains affiliate links. We may earn a commission at no extra cost to you.
URL:https://comedycalendar.com/event/chelsea-handler-the-high-and-mighty-tour-live-at-kiva-auditorium-2/
LOCATION:Kiva Auditorium at the Albuquerque Convention Center\, 401 2ND STREET NW\, Albuquerque\, New Mexico\, 87102\, United States
ATTACH;FMTTYPE=image/jpeg:https://comedycalendar.com/wp-content/uploads/2026/03/38e0c356-6bcb-4cd2-ab5d-97809a77ce90_CUSTOM-8isFOT.jpg
GEO:35.0869518;-106.6480275
X-APPLE-STRUCTURED-LOCATION;VALUE=URI;X-ADDRESS=Kiva Auditorium at the Albuquerque Convention Center 401 2ND STREET NW Albuquerque New Mexico 87102 United States;X-APPLE-RADIUS=500;X-TITLE=401 2ND STREET NW:geo:-106.6480275,35.0869518
END:VEVENT
BEGIN:VEVENT
DTSTART;TZID=America/Denver:20260416T200000
DTEND;TZID=America/Denver:20260416T220000
DTSTAMP:20260421T181521
CREATED:20260327T130000Z
LAST-MODIFIED:20260327T130000Z
UID:10004204-1776369600-1776376800@comedycalendar.com
SUMMARY:Chelsea Handler: The High and Mighty Tour LIVE at Kiva Auditorium
DESCRIPTION:Official TicketsResale Tickets \nAbout the Performer\nChelsea Handler is one of the most fearless and outspoken comedians in the entertainment industry. Known for her razor-sharp wit\, unapologetic humor\, and no-holds-barred storytelling\, Chelsea has built a massive following through her bestselling books\, Netflix specials\, and years as the host of Chelsea Lately on E! Network. \nHer comedy style blends personal anecdotes\, social commentary\, and biting observations about relationships\, politics\, and pop culture. Chelsea never shies away from controversy — in fact\, she leans into it — making every show an unpredictable\, laugh-out-loud experience. \nThe High and Mighty Tour is her latest stand-up venture\, and audiences across the country have been raving about her evolved\, confident\, and hilarious new material. \nEvent Details\n\nDate: Thursday\, April 16\, 2026\nTime: 8:00 PM MDT\nVenue: Kiva Auditorium at the Albuquerque Convention Center\nAddress: 401 2nd Street NW\, Albuquerque\, NM 87102\nTicket Price Range: $44.50 – $69.95\nAge Restrictions: 18+ recommended due to adult content\n\nAbout the Venue\nThe Kiva Auditorium at the Albuquerque Convention Center is one of New Mexico’s premier entertainment venues\, located in the heart of downtown Albuquerque. With a seating capacity of approximately 2\,300\, the Kiva offers an intimate yet grand atmosphere that makes every seat feel close to the stage. \nThe venue features excellent sightlines\, comfortable seating\, and top-tier acoustics — perfect for a stand-up comedy performance. The Albuquerque Convention Center complex is easily accessible from major highways and is surrounded by downtown dining\, hotels\, and parking garages. \nParking is available in nearby convention center lots and garages\, and the venue is also accessible via public transit. The Kiva Auditorium has hosted some of the biggest names in comedy\, music\, and entertainment\, making it a beloved landmark for Albuquerque audiences. \nWhat to Expect\nExpect a high-energy\, no-filter evening of stand-up comedy from one of the most recognizable voices in the industry. Chelsea Handler’s The High and Mighty Tour is a solo stand-up show featuring all-new material that reflects her current perspective on life\, love\, and the absurdity of modern culture. \nChelsea is known for her ability to connect with audiences on a deeply personal level while keeping the laughs coming non-stop. Whether she’s riffing on her personal life\, current events\, or the state of the world\, her delivery is always sharp\, confident\, and wildly entertaining. \nDoors typically open 60–90 minutes before showtime. Arrive early to find your seats and enjoy the venue atmosphere before the show begins. \nTicket Information\nTickets for Chelsea Handler: The High and Mighty Tour at Kiva Auditorium start at $44.50 and go up to $69.95 for premium seating. Tickets are available through Ticketmaster (official) and VividSeats (resale). \nOfficial TicketsResale Tickets \nThis post contains affiliate links. We may earn a commission at no extra cost to you.
URL:https://comedycalendar.com/event/chelsea-handler-the-high-and-mighty-tour-live-at-kiva-auditorium/
LOCATION:Kiva Auditorium at the Albuquerque Convention Center\, 401 2ND STREET NW\, Albuquerque\, New Mexico\, 87102\, United States
ATTACH;FMTTYPE=image/jpeg:https://comedycalendar.com/wp-content/uploads/2026/03/38e0c356-6bcb-4cd2-ab5d-97809a77ce90_CUSTOM-8isFOT.jpg
GEO:35.0869518;-106.6480275
X-APPLE-STRUCTURED-LOCATION;VALUE=URI;X-ADDRESS=Kiva Auditorium at the Albuquerque Convention Center 401 2ND STREET NW Albuquerque New Mexico 87102 United States;X-APPLE-RADIUS=500;X-TITLE=401 2ND STREET NW:geo:-106.6480275,35.0869518
END:VEVENT
END:VCALENDAR