BEGIN:VCALENDAR
VERSION:2.0
PRODID:-//Find Upcoming Comedy Shows Near You | Comedy Calendar - ECPv6.15.20//NONSGML v1.0//EN
CALSCALE:GREGORIAN
METHOD:PUBLISH
X-ORIGINAL-URL:https://comedycalendar.com
X-WR-CALDESC:Events for Find Upcoming Comedy Shows Near You | Comedy Calendar
REFRESH-INTERVAL;VALUE=DURATION:PT1H
X-Robots-Tag:noindex
X-PUBLISHED-TTL:PT1H
BEGIN:VTIMEZONE
TZID:America/Chicago
BEGIN:DAYLIGHT
TZOFFSETFROM:-0600
TZOFFSETTO:-0500
TZNAME:CDT
DTSTART:20250309T080000
END:DAYLIGHT
BEGIN:STANDARD
TZOFFSETFROM:-0500
TZOFFSETTO:-0600
TZNAME:CST
DTSTART:20251102T070000
END:STANDARD
BEGIN:DAYLIGHT
TZOFFSETFROM:-0600
TZOFFSETTO:-0500
TZNAME:CDT
DTSTART:20260308T080000
END:DAYLIGHT
BEGIN:STANDARD
TZOFFSETFROM:-0500
TZOFFSETTO:-0600
TZNAME:CST
DTSTART:20261101T070000
END:STANDARD
BEGIN:DAYLIGHT
TZOFFSETFROM:-0600
TZOFFSETTO:-0500
TZNAME:CDT
DTSTART:20270314T080000
END:DAYLIGHT
BEGIN:STANDARD
TZOFFSETFROM:-0500
TZOFFSETTO:-0600
TZNAME:CST
DTSTART:20271107T070000
END:STANDARD
END:VTIMEZONE
BEGIN:VEVENT
DTSTART;TZID=America/Chicago:20260529T190000
DTEND;TZID=America/Chicago:20260529T210000
DTSTAMP:20260420T173604
CREATED:20260322T160000Z
LAST-MODIFIED:20260326T172525Z
UID:10003984-1780081200-1780088400@comedycalendar.com
SUMMARY:Killers of Kill Tony LIVE at The Factory (Early Show)
DESCRIPTION:Official TicketsResale Tickets \nThis post contains affiliate links. We may earn a commission at no extra cost to you. \nAbout Killers of Kill Tony\nKillers of Kill Tony is the electrifying live touring show born from the wildly popular Kill Tony podcast\, hosted by Tony Hinchcliffe. The show features some of the most exciting and hilarious stand-up comedians currently working in the game — performers who have been forged in the fire of Kill Tony’s legendary open mic format and are now ready to headline their own sets. \nThis St. Louis edition features a stacked lineup including David Lucas\, Hans Kim\, Timmy No Brakes\, and Martin Phillips — four of the most talked-about names in the Kill Tony universe. Each performer brings a completely unique style\, from absurdist character work to sharp observational comedy and everything in between. \nIf you’re a fan of Kill Tony or just love raw\, unfiltered stand-up comedy\, this show is an absolute must-see. The energy is unlike anything else on the comedy touring circuit right now. \nEvent Details\nDate: Friday\, May 29\, 2026\nDoors Open: 6:00 PM\nShow Time: 7:00 PM (Early Show)\nVenue: The Factory\, 17105 North Outer 40 Road\, Chesterfield\, MO 63141\nAge Restriction: All Ages\nLineup: David Lucas\, Hans Kim\, Timmy No Brakes\, Martin Phillips\nTicket Prices: $35 – $80 \nAbout The Factory\nThe Factory is one of St. Louis’s premier mid-size entertainment venues\, located in Chesterfield\, Missouri — just a short drive from downtown St. Louis. With a capacity of approximately 2\,500\, The Factory offers an intimate yet energetic atmosphere that’s perfect for stand-up comedy shows. \nThe venue features excellent sightlines from virtually every angle\, a full bar and concessions\, and a general admission floor with reserved seating options available. The sound system is top-notch\, ensuring every punchline lands crystal clear. Parking is available on-site\, with premium parking passes available for purchase. \nThe Factory has quickly become one of the most beloved live entertainment destinations in the St. Louis metro area\, hosting national touring acts across comedy\, music\, and more. \nWhat to Expect\nKillers of Kill Tony is a multi-comedian showcase format — each performer takes the stage for a full set\, delivering their best material in a high-energy\, back-to-back comedy experience. The show is known for its electric atmosphere\, with audiences that are deeply familiar with the Kill Tony world and ready to go wild for their favorite performers. \nExpect raw\, unfiltered comedy with adult language and themes. This is not a polished corporate comedy show — it’s the real deal\, featuring comedians who have honed their craft in one of the most demanding comedy environments in the world. \nDue to popular demand\, a second show has been added at 10:00 PM the same night. If the 7:00 PM show sells out\, check availability for the late show. \nTicket Information\nTickets range from $35 to $80 depending on seat location. Official tickets are available through Ticketmaster. Resale tickets are available through VividSeats. \nOfficial TicketsResale Tickets \nThis post contains affiliate links. We may earn a commission at no extra cost to you.
URL:https://comedycalendar.com/event/killers-of-kill-tony-live-at-the-factory-early-show/
LOCATION:The Factory\, 17105 North Outer 40 Road\, Chesterfield\, MO\, 63005\, United States Of America
CATEGORIES:Comedy Showcase,Dirty Comedy,Open Mic,Showcase,Stand Up Comedy
ATTACH;FMTTYPE=image/jpeg:https://media.ticketmaster.com/en-us/dam/a/3cf/65745505-7029-4d14-9a24-9c55dd6103cf_CUSTOM.jpg
GEO:38.6718483;-90.5929072
X-APPLE-STRUCTURED-LOCATION;VALUE=URI;X-ADDRESS=The Factory 17105 North Outer 40 Road Chesterfield MO 63005 United States Of America;X-APPLE-RADIUS=500;X-TITLE=17105 North Outer 40 Road:geo:-90.5929072,38.6718483
END:VEVENT
BEGIN:VEVENT
DTSTART;TZID=America/Chicago:20260529T220000
DTEND;TZID=America/Chicago:20260530T000000
DTSTAMP:20260420T173604
CREATED:20260322T160000Z
LAST-MODIFIED:20260326T172518Z
UID:10003985-1780092000-1780099200@comedycalendar.com
SUMMARY:Killers of Kill Tony LIVE at The Factory (Late Show)
DESCRIPTION:Official TicketsResale Tickets \nThis post contains affiliate links. We may earn a commission at no extra cost to you. \nAbout Killers of Kill Tony\nKillers of Kill Tony is the electrifying live touring show born from the wildly popular Kill Tony podcast\, hosted by Tony Hinchcliffe. The show features some of the most exciting and hilarious stand-up comedians currently working in the game — performers who have been forged in the fire of Kill Tony’s legendary open mic format and are now ready to headline their own sets. \nThis St. Louis edition features a stacked lineup including David Lucas\, Hans Kim\, Timmy No Brakes\, and Martin Phillips — four of the most talked-about names in the Kill Tony universe. Each performer brings a completely unique style\, from absurdist character work to sharp observational comedy and everything in between. \nDue to overwhelming demand\, a second show was added at 10:00 PM the same night. This is your chance to catch the late show if the early show is sold out — or if you just want to experience the magic twice! \nEvent Details\nDate: Friday\, May 29\, 2026\nShow Time: 10:00 PM (Late Show — Added Due to Popular Demand)\nVenue: The Factory\, 17105 North Outer 40 Road\, Chesterfield\, MO 63141\nAge Restriction: All Ages\nLineup: David Lucas\, Hans Kim\, Timmy No Brakes\, Martin Phillips\nTicket Prices: $35 – $80 \nAbout The Factory\nThe Factory is one of St. Louis’s premier mid-size entertainment venues\, located in Chesterfield\, Missouri — just a short drive from downtown St. Louis. With a capacity of approximately 2\,500\, The Factory offers an intimate yet energetic atmosphere that’s perfect for stand-up comedy shows. \nThe venue features excellent sightlines from virtually every angle\, a full bar and concessions\, and a general admission floor with reserved seating options available. The sound system is top-notch\, ensuring every punchline lands crystal clear. Parking is available on-site\, with premium parking passes available for purchase. \nThe Factory has quickly become one of the most beloved live entertainment destinations in the St. Louis metro area\, hosting national touring acts across comedy\, music\, and more. \nWhat to Expect\nKillers of Kill Tony is a multi-comedian showcase format — each performer takes the stage for a full set\, delivering their best material in a high-energy\, back-to-back comedy experience. The late show has a reputation for being even more electric than the early show\, with a crowd that’s ready to party and comedians who are fully warmed up. \nExpect raw\, unfiltered comedy with adult language and themes. This is not a polished corporate comedy show — it’s the real deal\, featuring comedians who have honed their craft in one of the most demanding comedy environments in the world. \nThe late show starts at 10:00 PM sharp. Arrive early to grab drinks and get your spot on the floor. \nTicket Information\nTickets range from $35 to $80 depending on seat location. Official tickets are available through Ticketmaster. Resale tickets are available through VividSeats. \nOfficial TicketsResale Tickets \nThis post contains affiliate links. We may earn a commission at no extra cost to you.
URL:https://comedycalendar.com/event/killers-of-kill-tony-live-at-the-factory-late-show/
LOCATION:The Factory\, 17105 North Outer 40 Road\, Chesterfield\, MO\, 63005\, United States Of America
CATEGORIES:Comedy Showcase,Dirty Comedy,Headliner,Open Mic,Showcase,Stand Up Comedy
ATTACH;FMTTYPE=image/jpeg:https://comedycalendar.com/wp-content/uploads/2026/03/65745505-7029-4d14-9a24-9c55dd6103cf_CUSTOM-a3H30c.jpg
GEO:38.6718483;-90.5929072
X-APPLE-STRUCTURED-LOCATION;VALUE=URI;X-ADDRESS=The Factory 17105 North Outer 40 Road Chesterfield MO 63005 United States Of America;X-APPLE-RADIUS=500;X-TITLE=17105 North Outer 40 Road:geo:-90.5929072,38.6718483
END:VEVENT
END:VCALENDAR