BEGIN:VCALENDAR
VERSION:2.0
PRODID:-//Find Upcoming Comedy Shows Near You | Comedy Calendar - ECPv6.15.20//NONSGML v1.0//EN
CALSCALE:GREGORIAN
METHOD:PUBLISH
X-ORIGINAL-URL:https://comedycalendar.com
X-WR-CALDESC:Events for Find Upcoming Comedy Shows Near You | Comedy Calendar
REFRESH-INTERVAL;VALUE=DURATION:PT1H
X-Robots-Tag:noindex
X-PUBLISHED-TTL:PT1H
BEGIN:VTIMEZONE
TZID:America/New_York
BEGIN:DAYLIGHT
TZOFFSETFROM:-0500
TZOFFSETTO:-0400
TZNAME:EDT
DTSTART:20250309T070000
END:DAYLIGHT
BEGIN:STANDARD
TZOFFSETFROM:-0400
TZOFFSETTO:-0500
TZNAME:EST
DTSTART:20251102T060000
END:STANDARD
BEGIN:DAYLIGHT
TZOFFSETFROM:-0500
TZOFFSETTO:-0400
TZNAME:EDT
DTSTART:20260308T070000
END:DAYLIGHT
BEGIN:STANDARD
TZOFFSETFROM:-0400
TZOFFSETTO:-0500
TZNAME:EST
DTSTART:20261101T060000
END:STANDARD
BEGIN:DAYLIGHT
TZOFFSETFROM:-0500
TZOFFSETTO:-0400
TZNAME:EDT
DTSTART:20270314T070000
END:DAYLIGHT
BEGIN:STANDARD
TZOFFSETFROM:-0400
TZOFFSETTO:-0500
TZNAME:EST
DTSTART:20271107T060000
END:STANDARD
END:VTIMEZONE
BEGIN:VTIMEZONE
TZID:America/Chicago
BEGIN:DAYLIGHT
TZOFFSETFROM:-0600
TZOFFSETTO:-0500
TZNAME:CDT
DTSTART:20250309T080000
END:DAYLIGHT
BEGIN:STANDARD
TZOFFSETFROM:-0500
TZOFFSETTO:-0600
TZNAME:CST
DTSTART:20251102T070000
END:STANDARD
BEGIN:DAYLIGHT
TZOFFSETFROM:-0600
TZOFFSETTO:-0500
TZNAME:CDT
DTSTART:20260308T080000
END:DAYLIGHT
BEGIN:STANDARD
TZOFFSETFROM:-0500
TZOFFSETTO:-0600
TZNAME:CST
DTSTART:20261101T070000
END:STANDARD
BEGIN:DAYLIGHT
TZOFFSETFROM:-0600
TZOFFSETTO:-0500
TZNAME:CDT
DTSTART:20270314T080000
END:DAYLIGHT
BEGIN:STANDARD
TZOFFSETFROM:-0500
TZOFFSETTO:-0600
TZNAME:CST
DTSTART:20271107T070000
END:STANDARD
END:VTIMEZONE
BEGIN:VEVENT
DTSTART;TZID=America/New_York:20260410T190000
DTEND;TZID=America/New_York:20260410T210000
DTSTAMP:20260421T080504
CREATED:20260322T190000Z
LAST-MODIFIED:20260326T212212Z
UID:10004029-1775847600-1775854800@comedycalendar.com
SUMMARY:David Koechner LIVE at Pittsburgh Improv
DESCRIPTION:Official TicketsResale Tickets \nThis post contains affiliate links. We may earn a commission at no extra cost to you. \nAbout David Koechner\nDavid Koechner is one of Hollywood’s most beloved comedic actors\, best known for his iconic roles as Todd Packer on NBC’s The Office and Champ Kind in Anchorman: The Legend of Ron Burgundy and its sequel. With a filmography spanning over 60 films — including Talladega Nights\, Get Smart\, Waiting\, and The 40-Year-Old Virgin — Koechner has established himself as one of the funniest character actors in the business. \nBeyond his film and TV work\, Koechner is a seasoned stand-up comedian who has toured across America multiple times\, performing to sold-out audiences. His live show taps into his improvisational acting background\, delivering a quirky\, off-kilter performance that blends traditional stand-up\, storytelling\, and sketch comedy. \nCritics have called his live show “an off-kilter and esoteric performance — a mix of traditional stand-up\, storytelling and sketches” and praised his ability to command the stage with a 90-minute variety show that is “altogether endearing\, enlightening and entertaining.” \nEvent Details\nDate: Friday\, April 10\, 2026\nTime: 7:00 PM\nVenue: Pittsburgh Improv\nAddress: 166 E. Bridge St\, Homestead\, PA 15120\nShow Duration: Approximately 90 minutes \nAbout the Venue\nThe Pittsburgh Improv is Pittsburgh’s premier comedy club\, located at 166 E. Bridge Street in Homestead\, PA — just minutes from downtown Pittsburgh. Part of the nationally renowned Improv Comedy Club chain\, this venue offers an intimate\, club-style atmosphere where every seat feels close to the stage. \nThe club features a full-service bar and restaurant\, so you can enjoy food and drinks throughout the show. The seating is arranged in a classic comedy club layout with tables and chairs\, giving the evening a relaxed\, social feel. The venue holds several hundred guests and is known for its excellent sightlines and top-notch sound system. \nParking is available nearby in the Homestead area\, and the venue is easily accessible from major Pittsburgh highways. The Pittsburgh Improv regularly hosts nationally touring headliners\, making it one of the best places in the region to catch world-class stand-up comedy. \nWhat to Expect\nDavid Koechner’s live show is a unique blend of stand-up comedy\, storytelling\, and character work that draws on his decades of improvisational acting experience. Expect plenty of references to his beloved film and TV characters alongside fresh\, original material that showcases a different side of Koechner than what you see on the big screen. \nThe show typically features an opening act before Koechner takes the stage for his headlining set. His performances are known for being conversational and audience-interactive — fans who have met him after shows consistently describe him as one of the most personable and down-to-earth performers they’ve ever encountered. \nWhether you’re an Office superfan\, an Anchorman devotee\, or simply a lover of great stand-up comedy\, this is a night you won’t want to miss. Arrive early\, grab a drink\, and get ready for a hilarious evening with one of Hollywood’s funniest comedians. \nTicket Information\nPrice Range: $30 – $75 \nTickets are available through official channels and resale platforms. Book early — David Koechner shows sell out fast! \nOfficial TicketsResale Tickets
URL:https://comedycalendar.com/event/david-koechner-live-at-pittsburgh-improv/
LOCATION:Pittsburgh Improv\, 166 E. Bridge St\, Homestead\, Pennsylvania\, 15120\, United States
CATEGORIES:Headliner,Improv,Improv Comedy,Showcase,Stand Up Comedy
ATTACH;FMTTYPE=image/jpeg:https://s1.ticketm.net/dam/c/50a/fa9caa1f-73a1-411e-b507-ec56fa59650a_106061_RETINA_PORTRAIT_3_2.jpg
GEO:40.4089383;-79.9149412
X-APPLE-STRUCTURED-LOCATION;VALUE=URI;X-ADDRESS=Pittsburgh Improv 166 E. Bridge St Homestead Pennsylvania 15120 United States;X-APPLE-RADIUS=500;X-TITLE=166 E. Bridge St:geo:-79.9149412,40.4089383
END:VEVENT
BEGIN:VEVENT
DTSTART;TZID=America/New_York:20260410T190000
DTEND;TZID=America/New_York:20260410T210000
DTSTAMP:20260421T080504
CREATED:20260326T230000Z
LAST-MODIFIED:20260327T202725Z
UID:10004076-1775847600-1775854800@comedycalendar.com
SUMMARY:Bert Kreischer: Permission to Party LIVE at Heritage Bank Center
DESCRIPTION:Official TicketsResale Tickets \nAbout Bert Kreischer\nBert Kreischer — aka “The Machine” — is one of the most beloved and energetic comedians in the world. Known for performing shirtless and delivering legendary stories like “The Machine\,” Bert has built a massive global fanbase through his Netflix specials\, podcasts\, and sold-out arena tours. \nHis Permission to Party World Tour is exactly what it sounds like: a full-throttle\, no-holds-barred comedy experience that feels more like a party than a show. Bert’s storytelling is unmatched — hilarious\, heartfelt\, and completely unhinged in the best possible way. \nEvent Details\nDate: Friday\, April 10\, 2026\nTime: 7:00 PM (Doors: 5:30 PM)\nVenue: Heritage Bank Center\nAddress: 100 Broadway Street\, Cincinnati\, OH 45202 \nAbout Heritage Bank Center\nHeritage Bank Center is Cincinnati’s largest indoor entertainment venue\, with a capacity of approximately 17\,500. Located on the banks of the Ohio River in downtown Cincinnati\, it’s the go-to destination for major touring acts and sporting events. \nThe arena features multiple concession levels\, premium club areas\, and excellent sightlines from virtually every seat. Parking is available in adjacent garages and surface lots. The venue is easily accessible from I-71 and I-75. \nWhat to Expect\nBert Kreischer’s Permission to Party show is a full arena comedy experience. Expect Bert to take the stage shirtless\, beer in hand\, and deliver 90+ minutes of his most outrageous stories yet. The crowd energy at a Bert Kreischer show is unlike anything else in comedy — it truly feels like a party. \nDoors open at 5:30 PM. Arrive early to grab drinks and soak in the pre-show atmosphere. This is an 18+ event. \nTicket Information\nPrice Range: $49 – $150 (plus fees) \nOfficial TicketsResale Tickets \nThis post contains affiliate links. We may earn a commission at no extra cost to you.
URL:https://comedycalendar.com/event/bert-kreischer-permission-to-party-live-at-heritage-bank-center/
LOCATION:Heritage Bank Center\, 100 Broadway\, Cincinnati\, Ohio\, 45202\, United States
CATEGORIES:Headliner,Stand Up Comedy
ATTACH;FMTTYPE=image/jpeg:https://media.ticketmaster.com/en-us/dam/a/cf0/0c6684d0-0915-47fe-bbf5-bac8133a4cf0_CUSTOM.jpg
GEO:39.0980677;-84.5043575
X-APPLE-STRUCTURED-LOCATION;VALUE=URI;X-ADDRESS=Heritage Bank Center 100 Broadway Cincinnati Ohio 45202 United States;X-APPLE-RADIUS=500;X-TITLE=100 Broadway:geo:-84.5043575,39.0980677
END:VEVENT
BEGIN:VEVENT
DTSTART;TZID=America/Chicago:20260410T190000
DTEND;TZID=America/Chicago:20260410T220000
DTSTAMP:20260421T080504
CREATED:20260322T180000Z
LAST-MODIFIED:20260326T183441Z
UID:10004003-1775847600-1775858400@comedycalendar.com
SUMMARY:Seth Meyers LIVE at The Factory
DESCRIPTION:This post contains affiliate links. We earn a commission if you purchase tickets through our links at no extra cost to you. \nOfficial Tickets\nResale Tickets \nSeth Meyers LIVE at The Factory\nLate Night host and comedian Seth Meyers takes the stage at The Factory in St. Louis for a special live stand-up performance. Best known as the host of Late Night with Seth Meyers on NBC\, Seth brings his sharp political wit\, clever observations\, and signature humor to a live audience for an unforgettable night. \nEvent Details\nDate: Friday\, April 10\, 2026\nTime: Doors 6:00 PM | Show 7:00 PM\nVenue: The Factory\nAddress: 17105 North Outer 40 Road\, Chesterfield\, MO 63005\nAge Requirement: All Ages\nParking: Free parking available on-site \nAbout Seth Meyers\nSeth Meyers is a comedian\, writer\, and television host best known for anchoring Weekend Update on Saturday Night Live and hosting Late Night with Seth Meyers. His stand-up blends sharp political commentary with personal storytelling\, making him one of the most respected voices in comedy today. \nWhat to Expect\n\nSharp\, witty stand-up from one of late night’s biggest stars\nPolitical humor and cultural commentary delivered with precision\nPersonal stories and observations that resonate with every audience\nA rare chance to see a major TV personality perform live in St. Louis\nAn all-ages show perfect for comedy fans of all kinds\n\nVenue Information\nThe Factory is a premier live entertainment venue in Chesterfield\, Missouri\, offering a fantastic atmosphere for comedy and music events. With great sightlines and a lively crowd\, it’s the perfect spot for a night of laughs. \nTicket Information\nTickets start from $156. Available through Ticketmaster (official) or VividSeats (resale marketplace). This show will sell out fast! \nOfficial Tickets\nResale Tickets \nThis post contains affiliate links. We earn a commission if you purchase tickets through our links at no extra cost to you.\nAll sales are final. Show times subject to change. Valid photo ID may be required for entry.
URL:https://comedycalendar.com/event/seth-meyers-live-at-the-factory/
LOCATION:The Factory\, 17105 North Outer 40 Road\, Chesterfield\, MO\, 63005\, United States Of America
CATEGORIES:Headliner,Stand Up Comedy
ATTACH;FMTTYPE=image/jpeg:https://s1.ticketm.net/dam/a/639/c860f8e9-1fb4-48a9-981f-607b28429639_EVENT_DETAIL_PAGE_16_9.jpg
GEO:38.6718483;-90.5929072
X-APPLE-STRUCTURED-LOCATION;VALUE=URI;X-ADDRESS=The Factory 17105 North Outer 40 Road Chesterfield MO 63005 United States Of America;X-APPLE-RADIUS=500;X-TITLE=17105 North Outer 40 Road:geo:-90.5929072,38.6718483
END:VEVENT
END:VCALENDAR