BEGIN:VCALENDAR
VERSION:2.0
PRODID:-//Find Upcoming Comedy Shows Near You | Comedy Calendar - ECPv6.15.20//NONSGML v1.0//EN
CALSCALE:GREGORIAN
METHOD:PUBLISH
X-WR-CALNAME:Find Upcoming Comedy Shows Near You | Comedy Calendar
X-ORIGINAL-URL:https://comedycalendar.com
X-WR-CALDESC:Events for Find Upcoming Comedy Shows Near You | Comedy Calendar
REFRESH-INTERVAL;VALUE=DURATION:PT1H
X-Robots-Tag:noindex
X-PUBLISHED-TTL:PT1H
BEGIN:VTIMEZONE
TZID:America/New_York
BEGIN:DAYLIGHT
TZOFFSETFROM:-0500
TZOFFSETTO:-0400
TZNAME:EDT
DTSTART:20250309T070000
END:DAYLIGHT
BEGIN:STANDARD
TZOFFSETFROM:-0400
TZOFFSETTO:-0500
TZNAME:EST
DTSTART:20251102T060000
END:STANDARD
BEGIN:DAYLIGHT
TZOFFSETFROM:-0500
TZOFFSETTO:-0400
TZNAME:EDT
DTSTART:20260308T070000
END:DAYLIGHT
BEGIN:STANDARD
TZOFFSETFROM:-0400
TZOFFSETTO:-0500
TZNAME:EST
DTSTART:20261101T060000
END:STANDARD
BEGIN:DAYLIGHT
TZOFFSETFROM:-0500
TZOFFSETTO:-0400
TZNAME:EDT
DTSTART:20270314T070000
END:DAYLIGHT
BEGIN:STANDARD
TZOFFSETFROM:-0400
TZOFFSETTO:-0500
TZNAME:EST
DTSTART:20271107T060000
END:STANDARD
END:VTIMEZONE
BEGIN:VTIMEZONE
TZID:America/Los_Angeles
BEGIN:DAYLIGHT
TZOFFSETFROM:-0800
TZOFFSETTO:-0700
TZNAME:PDT
DTSTART:20250309T100000
END:DAYLIGHT
BEGIN:STANDARD
TZOFFSETFROM:-0700
TZOFFSETTO:-0800
TZNAME:PST
DTSTART:20251102T090000
END:STANDARD
BEGIN:DAYLIGHT
TZOFFSETFROM:-0800
TZOFFSETTO:-0700
TZNAME:PDT
DTSTART:20260308T100000
END:DAYLIGHT
BEGIN:STANDARD
TZOFFSETFROM:-0700
TZOFFSETTO:-0800
TZNAME:PST
DTSTART:20261101T090000
END:STANDARD
BEGIN:DAYLIGHT
TZOFFSETFROM:-0800
TZOFFSETTO:-0700
TZNAME:PDT
DTSTART:20270314T100000
END:DAYLIGHT
BEGIN:STANDARD
TZOFFSETFROM:-0700
TZOFFSETTO:-0800
TZNAME:PST
DTSTART:20271107T090000
END:STANDARD
END:VTIMEZONE
BEGIN:VTIMEZONE
TZID:America/Chicago
BEGIN:DAYLIGHT
TZOFFSETFROM:-0600
TZOFFSETTO:-0500
TZNAME:CDT
DTSTART:20250309T080000
END:DAYLIGHT
BEGIN:STANDARD
TZOFFSETFROM:-0500
TZOFFSETTO:-0600
TZNAME:CST
DTSTART:20251102T070000
END:STANDARD
BEGIN:DAYLIGHT
TZOFFSETFROM:-0600
TZOFFSETTO:-0500
TZNAME:CDT
DTSTART:20260308T080000
END:DAYLIGHT
BEGIN:STANDARD
TZOFFSETFROM:-0500
TZOFFSETTO:-0600
TZNAME:CST
DTSTART:20261101T070000
END:STANDARD
BEGIN:DAYLIGHT
TZOFFSETFROM:-0600
TZOFFSETTO:-0500
TZNAME:CDT
DTSTART:20270314T080000
END:DAYLIGHT
BEGIN:STANDARD
TZOFFSETFROM:-0500
TZOFFSETTO:-0600
TZNAME:CST
DTSTART:20271107T070000
END:STANDARD
END:VTIMEZONE
BEGIN:VEVENT
DTSTART;TZID=America/New_York:20260422T190000
DTEND;TZID=America/New_York:20260422T213000
DTSTAMP:20260422T012741
CREATED:20260323T020000Z
LAST-MODIFIED:20260323T020000Z
UID:10003792-1776884400-1776893400@comedycalendar.com
SUMMARY:Connor Wood Presents: Fibs & Friends LIVE at Carolina Theatre Durham
DESCRIPTION:This post contains affiliate links. We earn a commission if you purchase tickets through our links at no extra cost to you. \nOfficial Tickets\nResale Tickets \nConnor Wood Presents: Fibs & Friends LIVE at Carolina Theatre Durham\nTikTok and Netflix star Connor Wood (@fibula) brings his viral comedy special  to the historic Carolina Theatre in Durham\, NC for one unforgettable night. Known for his deadpan storytelling and absurdist humor\, Connor Wood delivers a live show that’s as hilarious as it is unpredictable. \nEvent Details\nDate: Wednesday\, April 22\, 2026\nTime: 7:00 PM ET\nVenue: Carolina Theatre – Durham (Fletcher Hall)\nAddress: 309 W Morgan St\, Durham\, NC 27701\nAge Requirement: All ages welcome \nAbout Connor Wood\nConnor Wood\, known online as @fibula\, rose to fame through his wildly popular TikTok videos and his Netflix comedy special . His unique brand of dry\, absurdist humor has earned him millions of followers and critical acclaim. Now he’s bringing the laughs to the stage in a live touring show that expands on his viral content with all-new material. \nWhat to Expect\n\nLive stand-up comedy from viral TikTok and Netflix star Connor Wood\nDeadpan storytelling and absurdist humor\nNew material beyond his viral videos\nAn intimate evening at the historic Carolina Theatre in Durham\nA night of laughs you won’t forget\n\nVenue Information\nThe Carolina Theatre of Durham is one of the Triangle’s most beloved historic venues\, located at 309 W Morgan St in downtown Durham\, NC. Fletcher Hall offers excellent sightlines and acoustics for an intimate comedy experience. \nTicket Information\nTickets start from $67.50. Available via the official Carolina Theatre box office link or resale via VividSeats. \nOfficial Tickets\nResale Tickets \nThis post contains affiliate links. We earn a commission if you purchase tickets through our links at no extra cost to you. \nAll sales are final. Show times subject to change. Valid photo ID may be required for entry.
URL:https://comedycalendar.com/event/connor-wood-presents-fibs-and-friends-live-at-carolina-theatre-durham/
LOCATION:Carolina Theatre – Durham\, 309 W Morgan St\, Durham\, NC\, 27701\, United States Of America
ATTACH;FMTTYPE=image/jpeg:https://comedycalendar.com/wp-content/uploads/2026/03/d92e6cc6-9fb1-4c09-bccc-7e9a472d55a0_TABLET_LANDSCAPE_LARGE_16_9-kEz1yl.jpg
GEO:35.9977171;-78.9029223
X-APPLE-STRUCTURED-LOCATION;VALUE=URI;X-ADDRESS=Carolina Theatre – Durham 309 W Morgan St Durham NC 27701 United States Of America;X-APPLE-RADIUS=500;X-TITLE=309 W Morgan St:geo:-78.9029223,35.9977171
END:VEVENT
BEGIN:VEVENT
DTSTART;TZID=America/Los_Angeles:20260422T193000
DTEND;TZID=America/Los_Angeles:20260422T213000
DTSTAMP:20260422T012741
CREATED:20260313T230000Z
LAST-MODIFIED:20260313T230000Z
UID:10002847-1776886200-1776893400@comedycalendar.com
SUMMARY:Masood Boomgaard LIVE at Cobb's Comedy Club
DESCRIPTION:Official TicketsResale Tickets \nAbout the Performer\nMasood Boomgaard is a stand-up comedian known for his sharp wit\, engaging storytelling\, and original comedic voice. With a style that blends clever observations with personal anecdotes\, Masood has been building a devoted following through his live performances and growing presence in the comedy world. His shows are consistently praised for their originality and polish. \nThis appearance at Cobb’s Comedy Club is a great opportunity to catch Masood Boomgaard live in San Francisco — a comedian whose reputation continues to grow with every performance. \nEvent Details\n\nDate: Wednesday\, April 22\, 2026\nTime: 7:30 PM\nVenue: Cobb’s Comedy Club\, 915 Columbus Avenue\, San Francisco\, CA 94133\nTicket Price Range: $30 – $65\n\nAbout the Venue\nCobb’s Comedy Club is one of San Francisco’s most iconic comedy venues\, located in the North Beach neighborhood at 915 Columbus Avenue. With a capacity of approximately 400 guests\, Cobb’s offers an intimate yet lively atmosphere that puts every seat close to the action. \nThe venue features a full bar and food service\, comfortable seating\, and excellent sightlines. Street parking is available nearby and the venue is easily accessible via public transit. \nWhat to Expect\nMasood Boomgaard’s live show is a sharp\, engaging evening of stand-up comedy. Expect clever observations\, personal storytelling\, and the kind of original humor that makes you an instant fan. Arrive early to grab a drink and get a great seat. \nTicket Information\nPrice Range: $30 – $65 \nTickets are available now. Don’t miss Masood Boomgaard live at Cobb’s Comedy Club! \nOfficial TicketsResale Tickets \nThis post contains affiliate links. We may earn a commission at no extra cost to you.
URL:https://comedycalendar.com/event/masood-boomgaard-live-at-cobbs-comedy-club/
LOCATION:Cobb’s Comedy Club\, 915 Columbus Avenue\, San Francisco\, California\, 94133\, United States Of America
ATTACH;FMTTYPE=image/jpeg:https://media.ticketmaster.com/en-us/dam/a/e81/2b634d15-1e95-4110-be80-2fb2bd2c3e81_CUSTOM.jpg
GEO:37.8029543;-122.4143041
X-APPLE-STRUCTURED-LOCATION;VALUE=URI;X-ADDRESS=Cobb’s Comedy Club 915 Columbus Avenue San Francisco California 94133 United States Of America;X-APPLE-RADIUS=500;X-TITLE=915 Columbus Avenue:geo:-122.4143041,37.8029543
END:VEVENT
BEGIN:VEVENT
DTSTART;TZID=America/Chicago:20260422T193000
DTEND;TZID=America/Chicago:20260422T213000
DTSTAMP:20260422T012741
CREATED:20260318T170000Z
LAST-MODIFIED:20260318T180301Z
UID:10003281-1776886200-1776893400@comedycalendar.com
SUMMARY:Emo Philips LIVE at Punch Line Houston
DESCRIPTION:Official TicketsResale Tickets \nThis post contains affiliate links. We may earn a commission at no extra cost to you. \nAbout the Performer\nEmo Philips is one of the most distinctive and beloved comedians in the history of stand-up comedy. Known for his childlike delivery\, surreal wordplay\, and brilliantly constructed one-liners\, Emo has been making audiences laugh for over four decades. His unique style — part absurdist\, part philosophical\, entirely hilarious — has earned him a devoted cult following worldwide. \nEmo has appeared on The Tonight Show\, Late Night with David Letterman\, and starred in the cult classic film UHF. His jokes are widely regarded as some of the most cleverly crafted in comedy history. Seeing Emo Philips live is a rare and unforgettable experience for any comedy fan. \nEvent Details\nDate: Wednesday\, April 22\, 2026\nTime: 7:30 PM\nVenue: Punch Line Houston\nAddress: 1204 Caroline Street\, Houston\, TX 77002\nAge Restriction: 18+ with 2 beverage minimum\nTicket Price Range: $44 – $67 \nAbout the Venue\nPunch Line Houston is one of Houston’s premier comedy clubs\, located in the heart of downtown at 1204 Caroline Street. Part of the nationally acclaimed Punch Line Comedy Club brand\, the venue is known for its intimate atmosphere\, excellent sightlines\, and world-class comedy programming. \nThe club features a full bar and food service\, comfortable seating\, and a warm\, welcoming vibe that makes every show feel special. Parking is available in nearby downtown Houston garages and on surrounding streets. This is an 18+ venue with a 2 beverage minimum per person. \nWhat to Expect\nEmo Philips’ live show is a masterclass in surreal\, meticulously crafted comedy. Expect a rapid-fire barrage of brilliantly constructed one-liners\, absurdist observations\, and the kind of wordplay that makes you laugh and think at the same time. His childlike stage persona is completely unique in comedy — there is no one else like Emo Philips. \nThe show runs approximately 75–90 minutes. This is a bucket-list show for comedy fans who appreciate true originality and craft. Arrive early to grab a drink and get settled before the show begins. \nTicket Information\nPrice Range: $44 – $67 (plus fees)\nTickets available through Ticketmaster (official) and VividSeats (resale). \nOfficial TicketsResale Tickets
URL:https://comedycalendar.com/event/emo-philips-live-at-punch-line-houston/
LOCATION:Punch Line Houston\, 1204 Caroline Street\, Houston\, TX\, 77002\, United States
CATEGORIES:Stand Up Comedy
ATTACH;FMTTYPE=image/jpeg:https://s1.ticketm.net/dam/a/d32/6a68bcf2-b4ba-40f5-bc4b-468b02144d32_1104111_EVENT_DETAIL_PAGE_16_9.jpg
GEO:29.7533552;-95.3641123
X-APPLE-STRUCTURED-LOCATION;VALUE=URI;X-ADDRESS=Punch Line Houston 1204 Caroline Street Houston TX 77002 United States;X-APPLE-RADIUS=500;X-TITLE=1204 Caroline Street:geo:-95.3641123,29.7533552
END:VEVENT
BEGIN:VEVENT
DTSTART;TZID=America/Los_Angeles:20260422T193000
DTEND;TZID=America/Los_Angeles:20260422T213000
DTSTAMP:20260422T012741
CREATED:20260325T230000Z
LAST-MODIFIED:20260325T230000Z
UID:10003911-1776886200-1776893400@comedycalendar.com
SUMMARY:Lance Woods LIVE at Punch Line Comedy Club - Sacramento
DESCRIPTION:Official TicketsResale Tickets \nThis post contains affiliate links. We may earn a commission at no extra cost to you. \nAbout the Performer\nLance Woods is a rising star in the stand-up comedy world\, known for his sharp observational humor\, relatable storytelling\, and natural stage presence. Based in Sacramento\, Lance has become a beloved fixture at the Punch Line Comedy Club\, where he regularly headlines to enthusiastic crowds. \nHis comedy draws from real-life experiences\, relationships\, and the everyday absurdities of modern life. Lance has a gift for finding the funny in situations that audiences immediately recognize\, making his shows feel both personal and universally hilarious. \nIf you haven’t seen Lance Woods live yet\, this April 22nd show is the perfect opportunity to catch one of Sacramento’s favorite comedians in his home venue. \nEvent Details\n\nDate: Wednesday\, April 22\, 2026\nTime: 7:30 PM (doors open earlier)\nVenue: Punch Line Comedy Club – Sacramento\nAddress: 2100 Arden Way\, Suite 225\, Sacramento\, CA 95825\nAge Restriction: 18+ event\, 2-drink minimum\nContent Warning: Adult language and mature themes\n\nAbout the Venue\nThe Punch Line Comedy Club – Sacramento is Northern California’s premier comedy destination\, located at 2100 Arden Way in Sacramento. The intimate club seats approximately 300 guests\, with every seat offering a great view of the stage. \nThe venue features a full bar and food service\, with a 2-drink minimum per guest. Seating options include general admission and preferred premium sections. Parking is available in the adjacent shopping center lot\, making it a convenient and enjoyable night out. \nThe Punch Line is Lance Woods’ home turf — expect a warm\, energetic crowd and a comedian who knows exactly how to work this room. \nWhat to Expect\nLance Woods delivers a tight\, polished stand-up set filled with clever observations\, personal stories\, and crowd-pleasing humor. His shows are known for being consistently funny from start to finish\, with a natural flow that makes the time fly by. \nThis is a midweek show\, making it a perfect way to break up the week with some great laughs. Tickets are affordably priced and the intimate club setting ensures an up-close\, memorable experience. \nTicket Information\nPrice Range: $20 – $35 (before fees) \nTickets are available through Ticketmaster (official) and VividSeats (resale). \nOfficial TicketsResale Tickets \nThis post contains affiliate links. We may earn a commission at no extra cost to you.
URL:https://comedycalendar.com/event/lance-woods-live-at-punch-line-comedy-club-sacramento/
LOCATION:Punch Line Comedy Club – Sacramento\, 2100 Arden Way\, Sacramento\, California\, 95825\, United States Of America
ATTACH;FMTTYPE=image/jpeg:https://comedycalendar.com/wp-content/uploads/2026/03/41bdbe6a-9cca-48eb-b55d-66b49d8f94af_CUSTOM-LHS4eZ.jpg
GEO:38.5943776;-121.4160953
X-APPLE-STRUCTURED-LOCATION;VALUE=URI;X-ADDRESS=Punch Line Comedy Club – Sacramento 2100 Arden Way Sacramento California 95825 United States Of America;X-APPLE-RADIUS=500;X-TITLE=2100 Arden Way:geo:-121.4160953,38.5943776
END:VEVENT
BEGIN:VEVENT
DTSTART;TZID=America/Los_Angeles:20260422T200000
DTEND;TZID=America/Los_Angeles:20260422T220000
DTSTAMP:20260422T012741
CREATED:20260323T210000Z
LAST-MODIFIED:20260323T210000Z
UID:10003884-1776888000-1776895200@comedycalendar.com
SUMMARY:Bob Rubin LIVE at Punch Line Comedy Club San Francisco
DESCRIPTION:This post contains affiliate links. We earn a commission if you purchase tickets through our links at no extra cost to you. \nOfficial Tickets\nResale Tickets \nBob Rubin LIVE at Punch Line Comedy Club San Francisco\nAcclaimed comedian Bob Rubin returns to the legendary Punch Line Comedy Club in San Francisco on Wednesday\, April 22\, 2026. Known for his sharp wit\, self-deprecating humor\, and hilarious storytelling\, Rubin is a fan favorite at the Punch Line and always delivers an unforgettable night of laughs. \nEvent Details\nDate: Wednesday\, April 22\, 2026\nTime: 8:00 PM PDT\nVenue: Punch Line Comedy Club – San Francisco\nAddress: 444 Battery Street\, San Francisco\, CA 94111\nAge Requirement: 18+ / 2 Beverage Minimum \nAbout Bob Rubin\nBob Rubin is a veteran stand-up comedian and a beloved regular at the Punch Line Comedy Club in San Francisco. Known for his sharp\, self-deprecating humor and masterful storytelling\, Rubin has built a loyal following over years of performing at top comedy clubs across the country. His return to the Punch Line is always a special event for Bay Area comedy fans. \nWhat to Expect\n\nFull headlining stand-up set from Bob Rubin\nSharp\, self-deprecating humor and hilarious storytelling\nIntimate setting at the legendary Punch Line Comedy Club\nFull bar service available throughout the show\nA classic San Francisco comedy night with a beloved local favorite\n\nVenue Information\nPunch Line Comedy Club San Francisco is one of the most storied comedy venues in the country\, located at 444 Battery Street in the Financial District. It has launched the careers of countless comedy legends and continues to be a premier destination for stand-up comedy in the Bay Area. \nTicket Information\nTickets start at $28. 18+ event with a 2 beverage minimum. Secure your seats before they sell out! \nOfficial Tickets\nResale Tickets \nThis post contains affiliate links. We earn a commission if you purchase tickets through our links at no extra cost to you.\nAll sales are final. Show times subject to change. Valid photo ID may be required for entry.
URL:https://comedycalendar.com/event/bob-rubin-live-at-punch-line-comedy-club-san-francisco/
LOCATION:Punch Line Comedy Club – San Francisco\, 444 Battery Street\, San Francisco\, California\, 94111\, United States Of America
ATTACH;FMTTYPE=image/jpeg:https://comedycalendar.com/wp-content/uploads/2026/03/467a28d0-3541-4bfc-a997-9caa9b29b862_1838381_TABLET_LANDSCAPE_LARGE_16_9-mco05j.jpg
GEO:37.795486;-122.4001359
X-APPLE-STRUCTURED-LOCATION;VALUE=URI;X-ADDRESS=Punch Line Comedy Club – San Francisco 444 Battery Street San Francisco California 94111 United States Of America;X-APPLE-RADIUS=500;X-TITLE=444 Battery Street:geo:-122.4001359,37.795486
END:VEVENT
BEGIN:VEVENT
DTSTART;TZID=America/Los_Angeles:20260422T213000
DTEND;TZID=America/Los_Angeles:20260422T233000
DTSTAMP:20260422T012741
CREATED:20260306T213000Z
LAST-MODIFIED:20260306T214011Z
UID:10002584-1776893400-1776900600@comedycalendar.com
SUMMARY:Rich Vos LIVE at Hollywood Improv (The Main Room)
DESCRIPTION:Official Tickets\nResale Tickets\n \nRich Vos\, the veteran stand-up comedian and co-host of the popular My Wife Hates Me podcast\, brings his sharp\, no-holds-barred comedy to the Hollywood Improv Main Room stage. \nKnown for his appearances on Last Comic Standing\, Tough Crowd with Colin Quinn\, and numerous Comedy Central specials\, Rich Vos is a road-tested comedian with decades of experience making audiences laugh. \nEvent Details\n\nDate: Wednesday\, April 22\, 2026\nTime: 9:30 PM PDT\nVenue: Hollywood Improv (The Main Room)\, 8162 Melrose Avenue\, Hollywood\, CA 90046\nAge Requirement: 21+ only\nSeating: General Admission\, first-come first-served\nTwo-item minimum purchase required in showroom\n\nTickets\nPrice: Starting from ~$20 + fees \n\nOfficial Tickets\nResale Tickets\n \nThis post contains affiliate links. We may earn a commission at no extra cost to you.
URL:https://comedycalendar.com/event/rich-vos-live-at-hollywood-improv-the-main-room/
LOCATION:Hollywood Improv (The Main Room)\, 8162 Melrose Avenue\, Hollywood\, CA\, 90046\, United States
ATTACH;FMTTYPE=image/jpeg:https://i.ticketweb.com/i/00/12/90/11/44_Edp.jpg?v=6
GEO:34.0834521;-118.3673737
X-APPLE-STRUCTURED-LOCATION;VALUE=URI;X-ADDRESS=Hollywood Improv (The Main Room) 8162 Melrose Avenue Hollywood CA 90046 United States;X-APPLE-RADIUS=500;X-TITLE=8162 Melrose Avenue:geo:-118.3673737,34.0834521
END:VEVENT
END:VCALENDAR