BEGIN:VCALENDAR
VERSION:2.0
PRODID:-//Find Upcoming Comedy Shows Near You | Comedy Calendar - ECPv6.15.20//NONSGML v1.0//EN
CALSCALE:GREGORIAN
METHOD:PUBLISH
X-WR-CALNAME:Find Upcoming Comedy Shows Near You | Comedy Calendar
X-ORIGINAL-URL:https://comedycalendar.com
X-WR-CALDESC:Events for Find Upcoming Comedy Shows Near You | Comedy Calendar
REFRESH-INTERVAL;VALUE=DURATION:PT1H
X-Robots-Tag:noindex
X-PUBLISHED-TTL:PT1H
BEGIN:VTIMEZONE
TZID:America/New_York
BEGIN:DAYLIGHT
TZOFFSETFROM:-0500
TZOFFSETTO:-0400
TZNAME:EDT
DTSTART:20250309T070000
END:DAYLIGHT
BEGIN:STANDARD
TZOFFSETFROM:-0400
TZOFFSETTO:-0500
TZNAME:EST
DTSTART:20251102T060000
END:STANDARD
BEGIN:DAYLIGHT
TZOFFSETFROM:-0500
TZOFFSETTO:-0400
TZNAME:EDT
DTSTART:20260308T070000
END:DAYLIGHT
BEGIN:STANDARD
TZOFFSETFROM:-0400
TZOFFSETTO:-0500
TZNAME:EST
DTSTART:20261101T060000
END:STANDARD
BEGIN:DAYLIGHT
TZOFFSETFROM:-0500
TZOFFSETTO:-0400
TZNAME:EDT
DTSTART:20270314T070000
END:DAYLIGHT
BEGIN:STANDARD
TZOFFSETFROM:-0400
TZOFFSETTO:-0500
TZNAME:EST
DTSTART:20271107T060000
END:STANDARD
END:VTIMEZONE
BEGIN:VTIMEZONE
TZID:America/Los_Angeles
BEGIN:DAYLIGHT
TZOFFSETFROM:-0800
TZOFFSETTO:-0700
TZNAME:PDT
DTSTART:20250309T100000
END:DAYLIGHT
BEGIN:STANDARD
TZOFFSETFROM:-0700
TZOFFSETTO:-0800
TZNAME:PST
DTSTART:20251102T090000
END:STANDARD
BEGIN:DAYLIGHT
TZOFFSETFROM:-0800
TZOFFSETTO:-0700
TZNAME:PDT
DTSTART:20260308T100000
END:DAYLIGHT
BEGIN:STANDARD
TZOFFSETFROM:-0700
TZOFFSETTO:-0800
TZNAME:PST
DTSTART:20261101T090000
END:STANDARD
BEGIN:DAYLIGHT
TZOFFSETFROM:-0800
TZOFFSETTO:-0700
TZNAME:PDT
DTSTART:20270314T100000
END:DAYLIGHT
BEGIN:STANDARD
TZOFFSETFROM:-0700
TZOFFSETTO:-0800
TZNAME:PST
DTSTART:20271107T090000
END:STANDARD
END:VTIMEZONE
BEGIN:VEVENT
DTSTART;TZID=America/New_York:20260421T190000
DTEND;TZID=America/New_York:20260421T210000
DTSTAMP:20260421T013728
CREATED:20260326T190000Z
LAST-MODIFIED:20260326T190000Z
UID:10004030-1776798000-1776805200@comedycalendar.com
SUMMARY:Frank Caliendo LIVE at Pittsburgh Improv
DESCRIPTION:Official TicketsResale Tickets \nThis post contains affiliate links. We may earn a commission at no extra cost to you. \nAbout Frank Caliendo\nFrank Caliendo is one of the most gifted impressionists and comedians in the entertainment industry. With an enormous collection of spot-on impressions at his command\, Frank creates extraordinary comedic situations featuring our culture’s most famous celebrities\, sports figures\, and political leaders — all delivered with impeccable timing and razor-sharp wit. \nA veteran of over 20 years in the business\, Frank starred in his own TBS TV series Frank TV\, was a cast member on Fox’s MADtv for five years\, and was a regular on ESPN’s Sunday NFL Countdown. He has appeared over 20 times combined on Jimmy Kimmel Live!\, The Tonight Show\, and The Late Show. His viral Super Bowl parodies and political impressions have racked up millions of views online. \nTouring non-stop year-round\, Frank’s live shows fill theaters with a high-energy blend of observations\, impressions\, characters\, and stories for fans of all ages. He has performed at the prestigious Radio-Television Correspondents Dinner in Washington D.C. and appeared in two Super Bowl Pre-Game shows. \nEvent Details\nDate: Tuesday\, April 21\, 2026\nTime: 7:00 PM\nVenue: Pittsburgh Improv\nAddress: 166 E. Bridge St\, Homestead\, PA 15120\nShow Duration: Approximately 90 minutes \nAbout the Venue\nThe Pittsburgh Improv is Pittsburgh’s premier comedy club\, located at 166 E. Bridge Street in Homestead\, PA — just minutes from downtown Pittsburgh. Part of the nationally renowned Improv Comedy Club chain\, this venue offers an intimate\, club-style atmosphere where every seat feels close to the stage. \nThe club features a full-service bar and restaurant\, so you can enjoy food and drinks throughout the show. The seating is arranged in a classic comedy club layout with tables and chairs\, giving the evening a relaxed\, social feel. The venue holds several hundred guests and is known for its excellent sightlines and top-notch sound system. \nParking is available nearby in the Homestead area\, and the venue is easily accessible from major Pittsburgh highways. The Pittsburgh Improv regularly hosts nationally touring headliners\, making it one of the best places in the region to catch world-class stand-up comedy. \nWhat to Expect\nFrank Caliendo’s live show is a non-stop laugh fest from start to finish. Expect a high-energy performance packed with his signature impressions of celebrities\, politicians\, and sports figures\, alongside fresh observational comedy and storytelling that showcases his incredible range as a performer. \nThe show typically features an opening act before Frank takes the stage for his headlining set. Fans consistently rave that he is “spectacular” and that “there is no one who can match Frank.” His ability to interact with the audience and improvise on the spot makes every show a unique experience. \nWhether you’re a longtime fan or seeing Frank Caliendo for the first time\, this is a night of comedy you won’t want to miss. Arrive early\, grab a drink\, and get ready for a hilarious evening with one of comedy’s greatest impressionists. \nTicket Information\nPrice Range: $30 – $75 \nTickets are available through official channels and resale platforms. Book early — Frank Caliendo shows sell out fast! \nOfficial TicketsResale Tickets
URL:https://comedycalendar.com/event/frank-caliendo-live-at-pittsburgh-improv/
LOCATION:Pittsburgh Improv\, 166 E. Bridge St\, Homestead\, Pennsylvania\, 15120\, United States
CATEGORIES:Headliner,Improv,Improv Comedy,Showcase
ATTACH;FMTTYPE=image/jpeg:https://s1.ticketm.net/dam/a/29d/5f0570c5-0612-4c97-ad58-2eecd1dc929d_RETINA_PORTRAIT_3_2.jpg
GEO:40.4089383;-79.9149412
X-APPLE-STRUCTURED-LOCATION;VALUE=URI;X-ADDRESS=Pittsburgh Improv 166 E. Bridge St Homestead Pennsylvania 15120 United States;X-APPLE-RADIUS=500;X-TITLE=166 E. Bridge St:geo:-79.9149412,40.4089383
END:VEVENT
BEGIN:VEVENT
DTSTART;TZID=America/New_York:20260421T193000
DTEND;TZID=America/New_York:20260421T213000
DTSTAMP:20260421T013728
CREATED:20260319T155552Z
LAST-MODIFIED:20260319T155552Z
UID:10003353-1776799800-1776807000@comedycalendar.com
SUMMARY:Nimesh Patel: With All Due Disrespect Tour LIVE at Houston Improv
DESCRIPTION:This post contains affiliate links. We earn a commission if you purchase tickets through our links at no extra cost to you. \nOfficial Tickets\nResale Tickets \nNimesh Patel: With All Due Disrespect Tour LIVE at Houston Improv\nOne of comedy’s sharpest voices\, Nimesh Patel\, brings his acclaimed With All Due Disrespect Tour to Houston Improv on April 21\, 2026. Known for his fearless\, boundary-pushing stand-up\, Nimesh delivers a high-energy show packed with incisive wit and unforgettable punchlines. \nEvent Details\nDate: Tuesday\, April 21\, 2026\nTime: 7:30 PM CDT\nVenue: Houston Improv\nAddress: 7620 Katy Freeway\, Ste. 455\, Houston\, TX 77024\nAge Requirement: 18+ with valid government-issued photo ID \nAbout Nimesh Patel\nNimesh Patel is a critically acclaimed stand-up comedian and former Saturday Night Live writer who has become one of the most talked-about voices in comedy. Known for his bold\, unfiltered humor and razor-sharp social commentary\, Nimesh has performed on Netflix\, Comedy Central\, and major stages across the country. His With All Due Disrespect Tour has been selling out venues nationwide. \nWhat to Expect\n\nBold\, boundary-pushing stand-up comedy\nSharp social and cultural commentary\nHigh-energy performance from an SNL veteran writer\nIntimate club atmosphere at Houston Improv\nFull bar service available throughout the show\nAn unforgettable night of fearless comedy\n\nVenue Information\nHouston Improv is one of Houston’s premier comedy clubs\, located at 7620 Katy Freeway in the Memorial City area. The venue offers a fantastic atmosphere for live comedy with full bar service and easy access from across the Houston metro area. \nTicket Information\nTickets start from $206. This is an 18+ event. Doors open prior to show time. No refunds or exchanges unless the event is cancelled or postponed. \nOfficial Tickets\nResale Tickets \nThis post contains affiliate links. We earn a commission if you purchase tickets through our links at no extra cost to you. \nAll sales are final. Show times subject to change. Valid photo ID may be required for entry.
URL:https://comedycalendar.com/event/nimesh-patel-with-all-due-disrespect-tour-live-at-houston-improv/
LOCATION:Houston Improv\, 7620 Katy Freeway\, Houston\, TX\, 77024\, United States
ATTACH;FMTTYPE=image/jpeg:https://s1.ticketm.net/dam/c/50a/fa9caa1f-73a1-411e-b507-ec56fa59650a_106061_TABLET_LANDSCAPE_LARGE_16_9.jpg
GEO:29.785526;-95.4640201
X-APPLE-STRUCTURED-LOCATION;VALUE=URI;X-ADDRESS=Houston Improv 7620 Katy Freeway Houston TX 77024 United States;X-APPLE-RADIUS=500;X-TITLE=7620 Katy Freeway:geo:-95.4640201,29.785526
END:VEVENT
BEGIN:VEVENT
DTSTART;TZID=America/Los_Angeles:20260421T193000
DTEND;TZID=America/Los_Angeles:20260421T213000
DTSTAMP:20260421T013728
CREATED:20260323T210000Z
LAST-MODIFIED:20260323T210000Z
UID:10003883-1776799800-1776807000@comedycalendar.com
SUMMARY:Chris Thayer LIVE at Punch Line Comedy Club San Francisco
DESCRIPTION:This post contains affiliate links. We earn a commission if you purchase tickets through our links at no extra cost to you. \nOfficial Tickets\nResale Tickets \nChris Thayer LIVE at Punch Line Comedy Club San Francisco\nComedian Chris Thayer takes the stage at the legendary Punch Line Comedy Club in San Francisco on Tuesday\, April 21\, 2026. Known for his clever\, relatable humor and engaging stage presence\, Thayer delivers a night of stand-up comedy you won’t want to miss. \nEvent Details\nDate: Tuesday\, April 21\, 2026\nTime: 7:30 PM PDT\nVenue: Punch Line Comedy Club – San Francisco\nAddress: 444 Battery Street\, San Francisco\, CA 94111\nAge Requirement: 18+ / 2 Beverage Minimum \nAbout Chris Thayer\nChris Thayer is a stand-up comedian known for his sharp wit and engaging storytelling. A rising voice in the comedy world\, Thayer has performed at clubs and festivals across the country\, earning a reputation for his clever observations and natural stage presence. \nWhat to Expect\n\nFull stand-up comedy set from Chris Thayer\nClever\, relatable humor with engaging storytelling\nIntimate setting at the legendary Punch Line Comedy Club\nFull bar service available throughout the show\nA great Tuesday night out in San Francisco\n\nVenue Information\nPunch Line Comedy Club San Francisco is one of the most storied comedy venues in the country\, located at 444 Battery Street in the Financial District. It has launched the careers of countless comedy legends and continues to be a premier destination for stand-up comedy in the Bay Area. \nTicket Information\nTickets start at $26. 18+ event with a 2 beverage minimum. Secure your seats before they sell out! \nOfficial Tickets\nResale Tickets \nThis post contains affiliate links. We earn a commission if you purchase tickets through our links at no extra cost to you.\nAll sales are final. Show times subject to change. Valid photo ID may be required for entry.
URL:https://comedycalendar.com/event/chris-thayer-live-at-punch-line-comedy-club-san-francisco/
LOCATION:Punch Line Comedy Club – San Francisco\, 444 Battery Street\, San Francisco\, California\, 94111\, United States Of America
ATTACH;FMTTYPE=image/jpeg:https://comedycalendar.com/wp-content/uploads/2026/03/fe5aab00-73a1-4df9-b56c-cd6c25201e96_TABLET_LANDSCAPE_LARGE_16_9-d0MMMz.jpg
GEO:37.795486;-122.4001359
X-APPLE-STRUCTURED-LOCATION;VALUE=URI;X-ADDRESS=Punch Line Comedy Club – San Francisco 444 Battery Street San Francisco California 94111 United States Of America;X-APPLE-RADIUS=500;X-TITLE=444 Battery Street:geo:-122.4001359,37.795486
END:VEVENT
BEGIN:VEVENT
DTSTART;TZID=America/New_York:20260421T200000
DTEND;TZID=America/New_York:20260421T223000
DTSTAMP:20260421T013728
CREATED:20260315T140000Z
LAST-MODIFIED:20260315T140000Z
UID:10002977-1776801600-1776810600@comedycalendar.com
SUMMARY:Michael McIntyre: Hello America! LIVE at DAR Constitution Hall
DESCRIPTION:Official TicketsResale Tickets \nAbout the Performer\nMichael McIntyre is one of the biggest comedy stars on the planet. The British comedian has sold out arenas across the UK\, Europe\, and Australia\, and is now bringing his brand-new “Hello America!” tour to the United States for the first time. Known for his boundless energy\, impeccable timing\, and universally relatable humor\, McIntyre has a gift for finding comedy in the everyday moments of life. \nWith multiple Netflix specials\, a hugely popular BBC chat show\, and record-breaking arena tours under his belt\, Michael McIntyre is a comedy phenomenon. His “Hello America!” tour marks a landmark moment — his first-ever full US tour — and Washington\, DC is one of the lucky cities on the itinerary. \nEvent Details\n\nDate: Tuesday\, April 21\, 2026\nTime: 8:00 PM (Doors at 7:00 PM)\nVenue: DAR Constitution Hall\, 1776 D Street NW\, Washington\, DC 20006\nAge Restrictions: All ages welcome\n\nAbout the Venue\nDAR Constitution Hall is one of Washington\, DC’s most prestigious and historic concert venues. Located just steps from the White House at 1776 D Street NW\, this magnificent hall seats approximately 3\,700 guests and has hosted some of the world’s greatest performers since 1929. \nThe venue features stunning neoclassical architecture\, excellent acoustics\, and a grand atmosphere that befits a performer of McIntyre’s stature. It is easily accessible via the Farragut West Metro station. Parking is available at nearby garages\, and the surrounding area offers excellent dining options for a pre-show dinner. \nWhat to Expect\nMichael McIntyre’s live shows are legendary for their energy and audience interaction. Expect a high-octane evening of stand-up comedy featuring his signature observational humor\, hilarious crowd work\, and the kind of perfectly crafted jokes that have made him a global superstar. \nThis is a full headline show — no opening act\, just Michael McIntyre delivering two-plus hours of world-class comedy. Whether you’re a longtime fan or discovering him for the first time\, this is a night you won’t forget. \nTicket Information\nPrice Range: From $123 \nTickets are available through Ticketmaster (official) or VividSeats (resale). Due to overwhelming demand\, a second show has been added on April 24 — but both shows are expected to sell out quickly! \nOfficial TicketsResale Tickets \nThis post contains affiliate links. We may earn a commission at no extra cost to you.
URL:https://comedycalendar.com/event/michael-mcintyre-hello-america-live-at-dar-constitution-hall/
LOCATION:DAR Constitution Hall\, 1776 D Street NW\, Washington\, DC\, 20006\, United States
ATTACH;FMTTYPE=image/jpeg:https://media.ticketmaster.com/en-us/dam/a/7f0/3f3fad04-732a-4508-b330-1ba0518cd7f0_CUSTOM.jpg
GEO:38.8941743;-77.0408523
X-APPLE-STRUCTURED-LOCATION;VALUE=URI;X-ADDRESS=DAR Constitution Hall 1776 D Street NW Washington DC 20006 United States;X-APPLE-RADIUS=500;X-TITLE=1776 D Street NW:geo:-77.0408523,38.8941743
END:VEVENT
BEGIN:VEVENT
DTSTART;TZID=America/New_York:20260421T210000
DTEND;TZID=America/New_York:20260421T230000
DTSTAMP:20260421T013728
CREATED:20260212T104143Z
LAST-MODIFIED:20260421T045745Z
UID:10002240-1776805200-1776812400@comedycalendar.com
SUMMARY:TOO LIT Tuesday Blackbird Ordinary Comedy Night
DESCRIPTION:Too Lit Tuesday: Miami comedy\, guaranteed seats\, shots\, and an afterparty that turns a Tuesday into the weekend. Free Shots at 9PM.
URL:https://comedycalendar.com/event/too-lit-tuesday-blackbird-ordinary-comedy-night-21/
LOCATION:Blackbird Ordinary\, Southwest 1st Avenue 729\, Miami\, FL\, 33130\, United States
ATTACH;FMTTYPE=image/jpeg:https://comedycalendar.com/wp-content/uploads/2025/09/9b428c0ea8703892381afa84fd89e835.jpg
GEO:25.7666715;-80.1951345
X-APPLE-STRUCTURED-LOCATION;VALUE=URI;X-ADDRESS=Blackbird Ordinary Southwest 1st Avenue 729 Miami FL 33130 United States;X-APPLE-RADIUS=500;X-TITLE=Southwest 1st Avenue 729:geo:-80.1951345,25.7666715
END:VEVENT
END:VCALENDAR