BEGIN:VCALENDAR
VERSION:2.0
PRODID:-//Find Upcoming Comedy Shows Near You | Comedy Calendar - ECPv6.15.20//NONSGML v1.0//EN
CALSCALE:GREGORIAN
METHOD:PUBLISH
X-WR-CALNAME:Find Upcoming Comedy Shows Near You | Comedy Calendar
X-ORIGINAL-URL:https://comedycalendar.com
X-WR-CALDESC:Events for Find Upcoming Comedy Shows Near You | Comedy Calendar
REFRESH-INTERVAL;VALUE=DURATION:PT1H
X-Robots-Tag:noindex
X-PUBLISHED-TTL:PT1H
BEGIN:VTIMEZONE
TZID:America/Chicago
BEGIN:DAYLIGHT
TZOFFSETFROM:-0600
TZOFFSETTO:-0500
TZNAME:CDT
DTSTART:20250309T080000
END:DAYLIGHT
BEGIN:STANDARD
TZOFFSETFROM:-0500
TZOFFSETTO:-0600
TZNAME:CST
DTSTART:20251102T070000
END:STANDARD
BEGIN:DAYLIGHT
TZOFFSETFROM:-0600
TZOFFSETTO:-0500
TZNAME:CDT
DTSTART:20260308T080000
END:DAYLIGHT
BEGIN:STANDARD
TZOFFSETFROM:-0500
TZOFFSETTO:-0600
TZNAME:CST
DTSTART:20261101T070000
END:STANDARD
BEGIN:DAYLIGHT
TZOFFSETFROM:-0600
TZOFFSETTO:-0500
TZNAME:CDT
DTSTART:20270314T080000
END:DAYLIGHT
BEGIN:STANDARD
TZOFFSETFROM:-0500
TZOFFSETTO:-0600
TZNAME:CST
DTSTART:20271107T070000
END:STANDARD
END:VTIMEZONE
BEGIN:VTIMEZONE
TZID:America/Los_Angeles
BEGIN:DAYLIGHT
TZOFFSETFROM:-0800
TZOFFSETTO:-0700
TZNAME:PDT
DTSTART:20250309T100000
END:DAYLIGHT
BEGIN:STANDARD
TZOFFSETFROM:-0700
TZOFFSETTO:-0800
TZNAME:PST
DTSTART:20251102T090000
END:STANDARD
BEGIN:DAYLIGHT
TZOFFSETFROM:-0800
TZOFFSETTO:-0700
TZNAME:PDT
DTSTART:20260308T100000
END:DAYLIGHT
BEGIN:STANDARD
TZOFFSETFROM:-0700
TZOFFSETTO:-0800
TZNAME:PST
DTSTART:20261101T090000
END:STANDARD
BEGIN:DAYLIGHT
TZOFFSETFROM:-0800
TZOFFSETTO:-0700
TZNAME:PDT
DTSTART:20270314T100000
END:DAYLIGHT
BEGIN:STANDARD
TZOFFSETFROM:-0700
TZOFFSETTO:-0800
TZNAME:PST
DTSTART:20271107T090000
END:STANDARD
END:VTIMEZONE
BEGIN:VTIMEZONE
TZID:America/New_York
BEGIN:DAYLIGHT
TZOFFSETFROM:-0500
TZOFFSETTO:-0400
TZNAME:EDT
DTSTART:20250309T070000
END:DAYLIGHT
BEGIN:STANDARD
TZOFFSETFROM:-0400
TZOFFSETTO:-0500
TZNAME:EST
DTSTART:20251102T060000
END:STANDARD
BEGIN:DAYLIGHT
TZOFFSETFROM:-0500
TZOFFSETTO:-0400
TZNAME:EDT
DTSTART:20260308T070000
END:DAYLIGHT
BEGIN:STANDARD
TZOFFSETFROM:-0400
TZOFFSETTO:-0500
TZNAME:EST
DTSTART:20261101T060000
END:STANDARD
BEGIN:DAYLIGHT
TZOFFSETFROM:-0500
TZOFFSETTO:-0400
TZNAME:EDT
DTSTART:20270314T070000
END:DAYLIGHT
BEGIN:STANDARD
TZOFFSETFROM:-0400
TZOFFSETTO:-0500
TZNAME:EST
DTSTART:20271107T060000
END:STANDARD
END:VTIMEZONE
BEGIN:VEVENT
DTSTART;TZID=America/Chicago:20260319T190000
DTEND;TZID=America/Chicago:20260319T210000
DTSTAMP:20260422T063700
CREATED:20260309T040000Z
LAST-MODIFIED:20260309T040000Z
UID:10002703-1773946800-1773954000@comedycalendar.com
SUMMARY:Carlos Mencia LIVE at Chicago Improv
DESCRIPTION:This post contains affiliate links. We earn a commission if you purchase tickets through our links at no extra cost to you. \nOfficial Tickets\nResale Tickets \nCarlos Mencia LIVE at Chicago Improv\nComedy legend Carlos Mencia is back on the road and bringing his bold\, boundary-pushing stand-up to Chicago Improv in Schaumburg\, IL. Known for his fearless humor and high-energy performances\, Carlos delivers a show that is guaranteed to have you in stitches. \nEvent Details\nDate: Thursday\, March 19\, 2026\nTime: 7:00 PM\nVenue: Chicago Improv\nAddress: 5 Woodfield Mall K120B\, Schaumburg\, IL 60173\nAge Requirement: 18+ \nAbout Carlos Mencia\nCarlos Mencia is one of the most recognizable names in stand-up comedy\, best known for his hit Comedy Central series Mind of Mencia. With a career spanning over three decades\, Carlos has built a reputation for his fearless\, high-energy performances that tackle culture\, identity\, and the absurdities of everyday life. He continues to tour nationally to sold-out crowds. \nWhat to Expect\n\nBold\, unfiltered stand-up comedy from a true comedy legend\nHilarious takes on culture\, society\, and personal experiences\nHigh-energy performance with incredible crowd interaction\nAn intimate club experience at the legendary Chicago Improv\nFull food and drink service available throughout the show\n\nVenue Information\nChicago Improv is located inside Woodfield Mall in Schaumburg\, IL — one of the Midwest’s top comedy clubs\, featuring nationally touring headliners in an intimate setting with full food and drink service. \nTicket Information\nTickets range from $36 – $66. Don’t wait — grab your seats before they’re gone! \nOfficial Tickets\nResale Tickets \nThis post contains affiliate links. We earn a commission if you purchase tickets through our links at no extra cost to you.\nAll sales are final. Show times subject to change. Valid photo ID may be required for entry.
URL:https://comedycalendar.com/event/carlos-mencia-live-at-chicago-improv/
LOCATION:Chicago Improv\, 5 Woodfield Mall\, Schaumburg\, IL\, 60173\, USA
ATTACH;FMTTYPE=image/jpeg:https://s1.ticketm.net/dam/a/71e/ae08fa89-c239-4b74-bb4d-4de73688871e_EVENT_DETAIL_PAGE_16_9.jpg
GEO:42.0453811;-88.0375314
X-APPLE-STRUCTURED-LOCATION;VALUE=URI;X-ADDRESS=Chicago Improv 5 Woodfield Mall Schaumburg IL 60173 USA;X-APPLE-RADIUS=500;X-TITLE=5 Woodfield Mall:geo:-88.0375314,42.0453811
END:VEVENT
BEGIN:VEVENT
DTSTART;TZID=America/Los_Angeles:20260319T190000
DTEND;TZID=America/Los_Angeles:20260319T210000
DTSTAMP:20260422T063700
CREATED:20260313T220000Z
LAST-MODIFIED:20260313T220000Z
UID:10002826-1773946800-1773954000@comedycalendar.com
SUMMARY:Rayna Greenberg: Honestly\, It's You LIVE at Cobb's Comedy Club
DESCRIPTION:Official TicketsResale Tickets \nAbout the Performer\nRayna Greenberg is a sharp\, fearless stand-up comedian known for her honest\, relatable humor and high-energy stage presence. She has built a devoted following through her viral social media content and her ability to turn everyday experiences into laugh-out-loud comedy. Her style is refreshingly candid — blending self-deprecating wit with bold observations about modern life\, relationships\, and the human condition. \nThe Honestly\, It’s You tour showcases Rayna at her comedic best\, delivering a polished\, personal set that resonates deeply with audiences. Whether you’ve followed her online for years or are seeing her for the first time\, Rayna Greenberg delivers a show that is both hilarious and surprisingly heartfelt. \nEvent Details\n\nDate: Thursday\, March 19\, 2026\nTime: 7:00 PM\nVenue: Cobb’s Comedy Club\, 915 Columbus Avenue\, San Francisco\, CA 94133\nAge Restriction: 18+ Event\nTicket Price Range: $55 – $96\n\nAbout the Venue\nCobb’s Comedy Club is one of San Francisco’s most iconic and beloved comedy venues\, located in the heart of the North Beach neighborhood at 915 Columbus Avenue. With a capacity of approximately 400 guests\, Cobb’s offers an intimate yet lively atmosphere that puts every seat close to the action. The club has hosted some of the biggest names in stand-up comedy for decades\, making it a true institution in the Bay Area comedy scene. \nThe venue features a full bar and food service\, comfortable seating\, and excellent sightlines from virtually every seat in the house. The energy at Cobb’s is always warm and welcoming\, with a crowd that genuinely loves live comedy. Street parking is available in the surrounding North Beach area\, and the venue is easily accessible via public transit. \nWhat to Expect\nThe Honestly\, It’s You show is a full evening of Rayna Greenberg’s signature stand-up comedy. Expect honest storytelling\, sharp punchlines\, and the kind of relatable humor that makes you feel like you’re laughing with a close friend. Rayna’s connection with her audience is one of her greatest strengths — she has a natural ability to make everyone in the room feel seen and heard. \nThis is an 18+ event. Arrive early to grab a drink and get a great seat. Shows at Cobb’s typically run 60–90 minutes and leave audiences wanting more. \nTicket Information\nPrice Range: $55 – $96 \nTickets are available now. Don’t miss your chance to see Rayna Greenberg live on the Honestly\, It’s You tour! \nOfficial TicketsResale Tickets \nThis post contains affiliate links. We may earn a commission at no extra cost to you.
URL:https://comedycalendar.com/event/rayna-greenberg-honestly-its-you-live-at-cobbs-comedy-club/
LOCATION:Cobb’s Comedy Club\, 915 Columbus Avenue\, San Francisco\, California\, 94133\, United States Of America
ATTACH;FMTTYPE=image/jpeg:https://comedycalendar.com/wp-content/uploads/2026/02/74b9a919-1e79-4a63-a3b8-509f677b707f_CUSTOM-fAcQQC.jpg
GEO:37.8029543;-122.4143041
X-APPLE-STRUCTURED-LOCATION;VALUE=URI;X-ADDRESS=Cobb’s Comedy Club 915 Columbus Avenue San Francisco California 94133 United States Of America;X-APPLE-RADIUS=500;X-TITLE=915 Columbus Avenue:geo:-122.4143041,37.8029543
END:VEVENT
BEGIN:VEVENT
DTSTART;TZID=America/Chicago:20260319T190000
DTEND;TZID=America/Chicago:20260319T213000
DTSTAMP:20260422T063700
CREATED:20260309T040000Z
LAST-MODIFIED:20260309T040000Z
UID:10002704-1773946800-1773955800@comedycalendar.com
SUMMARY:Colin Mochrie & Brad Sherwood LIVE at Genesee Theatre
DESCRIPTION:This post contains affiliate links. We earn a commission if you purchase tickets through our links at no extra cost to you. \nOfficial Tickets\nResale Tickets \nColin Mochrie & Brad Sherwood LIVE at Genesee Theatre\nArmed with only their lightning-fast wit\, Whose Line Is It Anyway? stars Colin Mochrie and Brad Sherwood are back and “Asking for Trouble!” These two improv legends bring their unscripted\, audience-driven comedy show to the beautiful Genesee Theatre in Waukegan\, IL for one unforgettable night. \nEvent Details\nDate: Thursday\, March 19\, 2026\nTime: 7:00 PM\nVenue: Genesee Theatre\nAddress: 203 N. Genesee St.\, Waukegan\, IL 60085\nAge Requirement: All Ages \nAbout Colin Mochrie & Brad Sherwood\nColin Mochrie and Brad Sherwood are best known as beloved cast members of the hit improv comedy show Whose Line Is It Anyway? Together\, they have toured the world performing their unique brand of unscripted\, audience-interactive comedy. Their chemistry and quick wit make every show a completely unique experience that leaves audiences in tears of laughter. \nWhat to Expect\n\nHilarious unscripted improv comedy driven entirely by audience suggestions\nIconic games and scenes from Whose Line Is It Anyway?\nIncredible chemistry and banter between two comedy legends\nAudience participation opportunities throughout the show\nA completely unique\, one-of-a-kind performance every single night\nAll-ages fun in the stunning Genesee Theatre\n\nVenue Information\nThe Genesee Theatre is a beautifully restored historic venue in downtown Waukegan\, IL\, offering world-class entertainment in an elegant setting with excellent sightlines from every seat. \nTicket Information\nTickets are available now. This show is expected to sell out — secure your seats today! \nOfficial Tickets\nResale Tickets \nThis post contains affiliate links. We earn a commission if you purchase tickets through our links at no extra cost to you.\nAll sales are final. Show times subject to change. Valid photo ID may be required for entry.
URL:https://comedycalendar.com/event/colin-mochrie-and-brad-sherwood-live-at-genesee-theatre/
LOCATION:Genesee Theatre\, 203 N Genesee St\, Waukegan\, IL\, 60085\, USA
ATTACH;FMTTYPE=image/jpeg:https://comedycalendar.com/wp-content/uploads/2026/03/35eff9b0-9131-487e-9537-6e964b334a00_1322571_EVENT_DETAIL_PAGE_16_9-loFW9b.jpg
GEO:42.3627846;-87.8308752
X-APPLE-STRUCTURED-LOCATION;VALUE=URI;X-ADDRESS=Genesee Theatre 203 N Genesee St Waukegan IL 60085 USA;X-APPLE-RADIUS=500;X-TITLE=203 N Genesee St:geo:-87.8308752,42.3627846
END:VEVENT
BEGIN:VEVENT
DTSTART;TZID=America/New_York:20260319T193000
DTEND;TZID=America/New_York:20260319T210000
DTSTAMP:20260422T063700
CREATED:20260316T000000Z
LAST-MODIFIED:20260316T000000Z
UID:10003067-1773948600-1773954000@comedycalendar.com
SUMMARY:Tone Bell LIVE at Punch Line Irving
DESCRIPTION:Official TicketsResale Tickets \nThis post contains affiliate links. We may earn a commission at no extra cost to you. \nAbout the Performer\nTone Bell is a rising star in the world of stand-up comedy\, known for his quick wit\, relatable storytelling\, and infectious energy on stage. \nYou may recognize him from his appearances on television\, including his work on NBC’s Truth Be Told and his stand-up specials. His comedy blends sharp observational humor with personal anecdotes that keep audiences laughing from start to finish. \nWhether you’re a longtime fan or discovering him for the first time\, Tone Bell delivers a high-energy performance that leaves crowds wanting more. \nEvent Details\nDate: Thursday\, March 19\, 2026 \nTime: 7:30 PM \nVenue: Punch Line Irving\, 310 W Las Colinas Blvd.\, Suite 130\, Irving\, TX 75039 \nTicket Price Range: $20 – $45 \nAge Restriction: 18+ with valid government-issued photo ID \nAbout the Venue\nPunch Line Irving is one of the Dallas-Fort Worth area’s premier comedy clubs\, located in the heart of the Las Colinas entertainment district in Irving\, Texas. \nThe club offers an intimate setting with excellent sightlines from every seat\, ensuring a personal and immersive comedy experience. With a full bar and food service available\, guests can enjoy drinks and bites throughout the show. \nThe venue is conveniently located at 310 W Las Colinas Blvd.\, Suite 130\, just minutes from downtown Dallas and DFW Airport. Parking is available in the surrounding area. \nWhat to Expect\nExpect a full evening of stand-up comedy headlined by Tone Bell\, with an opening act to warm up the crowd before the main event. \nThe show runs approximately 90 minutes and features Tone Bell’s signature blend of storytelling\, character work\, and sharp punchlines. The intimate club atmosphere means you’ll feel like you’re part of the action. \nDoors open one hour before showtime\, so arrive early to grab a drink\, find your seat\, and settle in for a great night of laughs. \nTicket Information\nTickets range from $20 to $45 depending on seating section. Purchase official tickets directly through Ticketmaster or find resale tickets via VividSeats. \nOfficial TicketsResale Tickets
URL:https://comedycalendar.com/event/tone-bell-live-at-punch-line-irving/
LOCATION:Punch Line Irving\, 310 W Las Colinas Blvd.\, Suite 130\, Irving\, TX\, 75039\, United States Of America
ATTACH;FMTTYPE=image/jpeg:https://media.ticketmaster.com/en-us/dam/a/daa/de79fb3f-177e-45e9-9334-ba088a890daa_CUSTOM.jpg
GEO:32.8734455;-96.9445654
X-APPLE-STRUCTURED-LOCATION;VALUE=URI;X-ADDRESS=Punch Line Irving 310 W Las Colinas Blvd. Suite 130 Irving TX 75039 United States Of America;X-APPLE-RADIUS=500;X-TITLE=310 W Las Colinas Blvd.\, Suite 130:geo:-96.9445654,32.8734455
END:VEVENT
BEGIN:VEVENT
DTSTART;TZID=America/Los_Angeles:20260319T193000
DTEND;TZID=America/Los_Angeles:20260319T213000
DTSTAMP:20260422T063700
CREATED:20260313T220000Z
LAST-MODIFIED:20260313T220000Z
UID:10002827-1773948600-1773955800@comedycalendar.com
SUMMARY:David Nihill: Taking Tangents Tour LIVE at Punch Line Comedy Club San Francisco
DESCRIPTION:Official TicketsResale Tickets \nAbout the Performer\nDavid Nihill is an Irish-American stand-up comedian\, author\, and public speaking coach who has taken the comedy world by storm with his unique blend of storytelling\, self-deprecating humor\, and sharp wit. He is the author of the bestselling book Do You Talk Funny? and has performed at comedy festivals and clubs across the United States\, Ireland\, and beyond. His comedy draws from his experiences as an immigrant navigating American culture and the universal absurdities of everyday life. \nThe Taking Tangents Tour showcases David at his comedic best — weaving together hilarious tangents\, personal stories\, and sharp observations into a seamless and thoroughly entertaining performance. His natural storytelling ability and warm stage presence make him a crowd favorite wherever he performs. \nEvent Details\n\nDate: Thursday\, March 19\, 2026\nTime: 7:30 PM\nVenue: Punch Line Comedy Club – San Francisco\, 444 Battery Street\, San Francisco\, CA 94111\nAge Restriction: 18+ Event\nTicket Price Range: $25 – $94\n\nAbout the Venue\nPunch Line Comedy Club San Francisco is one of the most legendary comedy clubs in the United States\, located at 444 Battery Street in the heart of the Financial District. Since opening in 1978\, the Punch Line has been the launching pad for some of the biggest names in comedy\, including Robin Williams\, Ellen DeGeneres\, and Jerry Seinfeld. With a capacity of around 300 guests\, the club offers an intimate\, up-close experience that makes every show feel personal. \nThe venue features a full bar\, table seating\, and a warm\, classic comedy club atmosphere. The Punch Line is easily accessible via BART and Muni\, with parking available in nearby garages. It’s the quintessential San Francisco comedy experience — intimate\, electric\, and unforgettable. \nWhat to Expect\nThe Taking Tangents Tour is a full evening of David Nihill’s signature storytelling comedy. Expect hilarious tangents\, personal anecdotes\, and the kind of warm\, engaging humor that makes you feel like you’re listening to a brilliant friend tell the funniest stories you’ve ever heard. \nThis is an 18+ event. Arrive early to grab a drink and get settled — shows at the Punch Line fill up fast and the atmosphere is always buzzing before the headliner takes the stage. \nTicket Information\nPrice Range: $25 – $94 \nTickets are available now. Don’t miss David Nihill on the Taking Tangents Tour! \nOfficial TicketsResale Tickets \nThis post contains affiliate links. We may earn a commission at no extra cost to you.
URL:https://comedycalendar.com/event/david-nihill-taking-tangents-tour-live-at-punch-line-comedy-club-san-francisco/
LOCATION:Punch Line Comedy Club – San Francisco\, 444 Battery Street\, San Francisco\, California\, 94111\, United States Of America
ATTACH;FMTTYPE=image/jpeg:https://comedycalendar.com/wp-content/uploads/2026/02/c806a736-e022-4160-b213-c84e9b28e12a_CUSTOM-PQ1WFt.jpg
GEO:37.795486;-122.4001359
X-APPLE-STRUCTURED-LOCATION;VALUE=URI;X-ADDRESS=Punch Line Comedy Club – San Francisco 444 Battery Street San Francisco California 94111 United States Of America;X-APPLE-RADIUS=500;X-TITLE=444 Battery Street:geo:-122.4001359,37.795486
END:VEVENT
BEGIN:VEVENT
DTSTART;TZID=America/Chicago:20260319T193000
DTEND;TZID=America/Chicago:20260319T213000
DTSTAMP:20260422T063700
CREATED:20260317T210000Z
LAST-MODIFIED:20260317T210000Z
UID:10003266-1773948600-1773955800@comedycalendar.com
SUMMARY:Vinny Guadagnino LIVE at Punch Line Houston
DESCRIPTION:Official TicketsResale Tickets \nThis post contains affiliate links. We may earn a commission at no extra cost to you. \nAbout the Performer\nVinny Guadagnino is best known as a cast member of MTV’s iconic reality series Jersey Shore and its spinoff Jersey Shore: Family Vacation. Beyond his reality TV fame\, Vinny has built a genuine career as a stand-up comedian\, bringing his sharp wit\, self-deprecating humor\, and charismatic stage presence to clubs and theaters across the country. \nHis comedy draws heavily from his Italian-American upbringing\, his experiences on reality television\, and the absurdities of everyday life. Fans of the show will love seeing a different\, more personal side of Vinny as he takes the stage solo and delivers laughs in a way only he can. \nEvent Details\nDate: Thursday\, March 19\, 2026\nTime: 7:30 PM\nVenue: Punch Line Houston\nAddress: 1204 Caroline Street\, Houston\, TX 77002\nAge Restriction: 18+ (please verify with venue)\nTicket Price Range: $30 – $60 \nAbout the Venue\nPunch Line Houston is a top-tier comedy club located in the heart of downtown Houston at 1204 Caroline Street. Part of the nationally acclaimed Punch Line Comedy Club chain\, this venue is known for its intimate atmosphere\, excellent sightlines\, and world-class comedy programming. \nThe club offers a full bar and food menu\, so you can enjoy drinks and bites while you laugh. The seating is arranged to give every guest a great view of the stage. Parking is available in nearby downtown Houston garages and on surrounding streets. The venue is 18+ for most shows. \nWhat to Expect\nVinny Guadagnino’s live stand-up show is an intimate\, high-energy performance where he connects directly with the audience. Expect stories from behind the scenes of Jersey Shore\, candid reflections on fame\, and plenty of laughs about his life\, family\, and relationships. \nThe show runs approximately 75–90 minutes. Preferred seating packages may include a meet & greet opportunity with Vinny after the show — check ticket options for details. This is a rare chance to see a beloved TV personality in a completely different\, unscripted setting. \nTicket Information\nPrice Range: $30 – $60 (plus fees)\nTickets are available through Ticketmaster (official) and VividSeats (resale). \nOfficial TicketsResale Tickets
URL:https://comedycalendar.com/event/vinny-guadagnino-live-at-punch-line-houston/
LOCATION:Punch Line Houston\, 1204 Caroline Street\, Houston\, TX\, 77002\, United States
ATTACH;FMTTYPE=image/jpeg:https://media.ticketmaster.com/en-us/dam/a/78a/34867ea2-61b4-4b11-b5bc-c85bc025d78a_CUSTOM.jpg
GEO:29.7533552;-95.3641123
X-APPLE-STRUCTURED-LOCATION;VALUE=URI;X-ADDRESS=Punch Line Houston 1204 Caroline Street Houston TX 77002 United States;X-APPLE-RADIUS=500;X-TITLE=1204 Caroline Street:geo:-95.3641123,29.7533552
END:VEVENT
BEGIN:VEVENT
DTSTART;TZID=America/Chicago:20260319T200000
DTEND;TZID=America/Chicago:20260319T223000
DTSTAMP:20260422T063700
CREATED:20260317T210000Z
LAST-MODIFIED:20260319T202013Z
UID:10003267-1773950400-1773959400@comedycalendar.com
SUMMARY:D.L. Hughley & Deon Cole: Grown Folks Laugh Different LIVE at Arena Theatre
DESCRIPTION:Official Tickets \nThis post contains affiliate links. We may earn a commission at no extra cost to you. \nAbout the Performers\nD.L. Hughley is one of the most celebrated comedians in America\, known for his sharp political commentary\, fearless social observations\, and decades of stand-up excellence. A member of the legendary “Original Kings of Comedy\,” D.L. has starred in his own sitcom\, hosted talk shows\, and remains one of the most relevant voices in comedy today. \nDeon Cole is a multi-talented comedian\, writer\, and actor best known for his roles on Black-ish and Grown-ish. His stand-up style is raw\, hilarious\, and deeply relatable — blending street-smart humor with sharp cultural commentary. Together\, D.L. and Deon form a powerhouse comedy duo that promises a night of non-stop laughter. \nEvent Details\nDate: Thursday\, March 19\, 2026\nTime: Doors 7:00 PM | Show 8:00 PM\nVenue: Arena Theatre\nAddress: 7326 Southwest Fwy\, Houston\, TX 77074\nAge Restriction: 18+ Only\nTicket Price Range: $50 – $115 \nAbout the Venue\nArena Theatre is one of Houston’s most storied entertainment venues\, located at 7326 Southwest Freeway. With a capacity of approximately 2\,000 guests\, it offers a mid-size concert hall experience with excellent acoustics and sightlines from every section. \nThe venue features a general admission floor area as well as reserved seating in the balcony\, giving attendees flexibility in how they experience the show. A full bar is available\, and the venue is easily accessible from major Houston freeways. Parking is available on-site. This is an 18+ event. \nWhat to Expect\n“Grown Folks Laugh Different” is a one-night-only comedy showcase featuring two of the biggest names in stand-up comedy. D.L. Hughley and Deon Cole will each deliver full headline sets\, bringing their signature styles to the stage for an unforgettable evening. \nExpect bold\, unfiltered comedy that speaks to grown-up experiences — relationships\, culture\, politics\, and the hilarious realities of adult life. This is not a show for the faint of heart. It’s a night of real talk\, real laughs\, and real entertainment from two legends of the craft. \nTicket Information\nPrice Range: $50 – $115 (plus fees)\nTickets are available through Ticketmaster (official). \nOfficial Tickets
URL:https://comedycalendar.com/event/dl-hughley-deon-cole-grown-folks-laugh-different-live-at-arena-theatre/
LOCATION:Arena Theatre\, 7326 Southwest Fwy\, Houston\, TX\, 77074\, United States
CATEGORIES:Comedy Showcase,Double Headlining,Showcase,Stand Up Comedy
ATTACH;FMTTYPE=image/jpeg:https://s1.ticketm.net/dam/e/e72/5e34e20f-b212-45a2-867f-fbb99d309e72_EVENT_DETAIL_PAGE_16_9.jpg
GEO:29.7029216;-95.5180179
X-APPLE-STRUCTURED-LOCATION;VALUE=URI;X-ADDRESS=Arena Theatre 7326 Southwest Fwy Houston TX 77074 United States;X-APPLE-RADIUS=500;X-TITLE=7326 Southwest Fwy:geo:-95.5180179,29.7029216
END:VEVENT
BEGIN:VEVENT
DTSTART;TZID=America/New_York:20260319T210000
DTEND;TZID=America/New_York:20260319T230000
DTSTAMP:20260422T063700
CREATED:20260223T120000Z
LAST-MODIFIED:20260223T120000Z
UID:10002452-1773954000-1773961200@comedycalendar.com
SUMMARY:Cristela Alonzo The Midlife Mixtape Tour LIVE at Amaturo Theater at Broward Center
DESCRIPTION:This post contains affiliate links. We earn a commission if you purchase tickets through our links at no extra cost to you. \nOfficial Tickets (Ticketmaster) \nResale Tickets (VividSeats) \nCristela Alonzo The Midlife Mixtape Tour LIVE at Amaturo Theater at Broward Center\nCristela Alonzo is a talented comedian known for her sharp\, relatable humor about life\, relationships\, and everything in between. She brings her hilarious Midlife Mixtape Tour to Fort Lauderdale for an unforgettable evening of comedy and entertainment. \nEvent Details\nDate: March 19\, 2026\nTime: 8:00 PM\nVenue: Amaturo Theater at Broward Center\nAddress: 201 SW 5th Avenue\, Ft Lauderdale\, FL 33312\nAge Requirement: All ages \nAbout Cristela Alonzo\nCristela Alonzo is an accomplished stand-up comedian\, actress\, and writer known for her intelligent and observational comedy. She has appeared on numerous television shows and comedy specials\, bringing her unique perspective to audiences nationwide. \nWhat to Expect\n\nHilarious stand-up comedy from a talented performer\nSharp\, relatable humor about modern life\nEngaging storytelling and audience interaction\nAn evening of intelligent comedy and entertainment\nComedy that resonates with audiences of all backgrounds\n\nVenue Information\nAmaturo Theater at Broward Center is a premier performance venue in Fort Lauderdale\, hosting world-class entertainment including comedy\, theater\, and music. The intimate setting provides an excellent experience for stand-up comedy performances. \nTicket Information\nTickets are available starting at $40 and range up to $75 depending on seating. Purchase your tickets through Ticketmaster for official sales or VividSeats for resale options. \nOfficial Tickets (Ticketmaster) \nResale Tickets (VividSeats) \nThis post contains affiliate links. We earn a commission if you purchase tickets through our links at no extra cost to you. \nAll sales are final. Show times subject to change. Valid photo ID may be required for entry.
URL:https://comedycalendar.com/event/cristela-alonzo-the-midlife-mixtape-tour-live-at-amaturo-theater-at-broward-center/
LOCATION:Amaturo Theater at Broward Center\, 201 SW 5th Avenue\, Ft Lauderdale\, Florida\, 33312\, United States
ATTACH;FMTTYPE=image/jpeg:https://comedycalendar.com/wp-content/uploads/2026/02/9b9b4e28-ea74-43e5-bf77-12b1ae0f2032_EVENT_DETAIL_PAGE_16_9-RYFuL9.jpg
GEO:26.1192712;-80.1488015
X-APPLE-STRUCTURED-LOCATION;VALUE=URI;X-ADDRESS=Amaturo Theater at Broward Center 201 SW 5th Avenue Ft Lauderdale Florida 33312 United States;X-APPLE-RADIUS=500;X-TITLE=201 SW 5th Avenue:geo:-80.1488015,26.1192712
END:VEVENT
END:VCALENDAR