BEGIN:VCALENDAR
VERSION:2.0
PRODID:-//Find Upcoming Comedy Shows Near You | Comedy Calendar - ECPv6.15.20//NONSGML v1.0//EN
CALSCALE:GREGORIAN
METHOD:PUBLISH
X-ORIGINAL-URL:https://comedycalendar.com
X-WR-CALDESC:Events for Find Upcoming Comedy Shows Near You | Comedy Calendar
REFRESH-INTERVAL;VALUE=DURATION:PT1H
X-Robots-Tag:noindex
X-PUBLISHED-TTL:PT1H
BEGIN:VTIMEZONE
TZID:America/New_York
BEGIN:DAYLIGHT
TZOFFSETFROM:-0500
TZOFFSETTO:-0400
TZNAME:EDT
DTSTART:20250309T070000
END:DAYLIGHT
BEGIN:STANDARD
TZOFFSETFROM:-0400
TZOFFSETTO:-0500
TZNAME:EST
DTSTART:20251102T060000
END:STANDARD
BEGIN:DAYLIGHT
TZOFFSETFROM:-0500
TZOFFSETTO:-0400
TZNAME:EDT
DTSTART:20260308T070000
END:DAYLIGHT
BEGIN:STANDARD
TZOFFSETFROM:-0400
TZOFFSETTO:-0500
TZNAME:EST
DTSTART:20261101T060000
END:STANDARD
BEGIN:DAYLIGHT
TZOFFSETFROM:-0500
TZOFFSETTO:-0400
TZNAME:EDT
DTSTART:20270314T070000
END:DAYLIGHT
BEGIN:STANDARD
TZOFFSETFROM:-0400
TZOFFSETTO:-0500
TZNAME:EST
DTSTART:20271107T060000
END:STANDARD
END:VTIMEZONE
BEGIN:VTIMEZONE
TZID:America/Los_Angeles
BEGIN:DAYLIGHT
TZOFFSETFROM:-0800
TZOFFSETTO:-0700
TZNAME:PDT
DTSTART:20250309T100000
END:DAYLIGHT
BEGIN:STANDARD
TZOFFSETFROM:-0700
TZOFFSETTO:-0800
TZNAME:PST
DTSTART:20251102T090000
END:STANDARD
BEGIN:DAYLIGHT
TZOFFSETFROM:-0800
TZOFFSETTO:-0700
TZNAME:PDT
DTSTART:20260308T100000
END:DAYLIGHT
BEGIN:STANDARD
TZOFFSETFROM:-0700
TZOFFSETTO:-0800
TZNAME:PST
DTSTART:20261101T090000
END:STANDARD
BEGIN:DAYLIGHT
TZOFFSETFROM:-0800
TZOFFSETTO:-0700
TZNAME:PDT
DTSTART:20270314T100000
END:DAYLIGHT
BEGIN:STANDARD
TZOFFSETFROM:-0700
TZOFFSETTO:-0800
TZNAME:PST
DTSTART:20271107T090000
END:STANDARD
END:VTIMEZONE
BEGIN:VEVENT
DTSTART;TZID=America/New_York:20260306T190000
DTEND;TZID=America/New_York:20260306T210000
DTSTAMP:20260420T070458
CREATED:20260218T120000Z
LAST-MODIFIED:20260218T173931Z
UID:10002321-1772823600-1772830800@comedycalendar.com
SUMMARY:David Nihill LIVE at Gramercy Theatre
DESCRIPTION:This post contains affiliate links. We earn a commission if you purchase tickets through our links at no extra cost to you. \nOfficial Tickets (Ticketmaster) \nResale Tickets (VividSeats) \nDavid Nihill LIVE at Gramercy Theatre\nDavid Nihill is an internationally touring comedian and bestselling author featured on Dry Bar Comedy and TED. He brings his unique brand of humor to the Gramercy Theatre for an unforgettable evening of stand-up comedy. \nEvent Details\nDate: Friday\, March 6\, 2026 \nTime: 7:00 PM \nVenue: Gramercy Theatre \nAddress: 127 E 23rd St\, New York\, NY 10010 \nAbout David Nihill\nDavid Nihill is a bestselling author and internationally touring comedian known for his appearances on Dry Bar Comedy and TED talks. His comedy combines storytelling with sharp observations about life and culture. \nWhat to Expect\n\nStand-up comedy performance\nEngaging storytelling and humor\nInteractive audience engagement\nApproximately 60-90 minutes of comedy\n\nVenue Information\nThe Gramercy Theatre is a premier comedy and entertainment venue located in Manhattan. Known for hosting top comedians and performers\, it offers an intimate setting for live comedy shows. \nTicket Information\nTickets are available through Ticketmaster and VividSeats for resale options. Prices range from $25 to $75 depending on seat selection. \nOfficial Tickets (Ticketmaster) \nResale Tickets (VividSeats) \nThis post contains affiliate links. We earn a commission if you purchase tickets through our links at no extra cost to you. \nAll sales are final. Show times subject to change. Valid photo ID may be required for entry.
URL:https://comedycalendar.com/event/david-nihill-live-at-gramercy-theatre-2/
LOCATION:Gramercy Theatre\, 127 East 23rd Street\, New York\, NY\, 10010\, USA
CATEGORIES:Stand Up Comedy
ATTACH;FMTTYPE=image/jpeg:https://s1.ticketm.net/dam/a/65b/a6732ed0-b835-45ce-8b18-5e48aab0765b_1836471_RETINA_PORTRAIT_3_2.jpg
GEO:40.7398304;-73.984981
X-APPLE-STRUCTURED-LOCATION;VALUE=URI;X-ADDRESS=Gramercy Theatre 127 East 23rd Street New York NY 10010 USA;X-APPLE-RADIUS=500;X-TITLE=127 East 23rd Street:geo:-73.984981,40.7398304
END:VEVENT
BEGIN:VEVENT
DTSTART;TZID=America/New_York:20260306T193000
DTEND;TZID=America/New_York:20260306T210000
DTSTAMP:20260420T070458
CREATED:20260302T225002Z
LAST-MODIFIED:20260302T225741Z
UID:10002493-1772825400-1772830800@comedycalendar.com
SUMMARY:Ariel Elias LIVE at The Studio at Mizner Park
DESCRIPTION:This post contains affiliate links. We earn a commission if you purchase tickets through our links at no extra cost to you. \nOfficial Tickets (Ticketmaster) \nResale Tickets (VividSeats) \nAriel Elias LIVE at The Studio at Mizner Park\nGet ready to laugh with Ariel Elias\, the witty\, sly\, and unforgettable comedian LIVE at The Studio at Mizner Park on Friday\, March 6th\, 2026! Hailing from Kentucky and now based in New York City\, Ariel blends personal stories with sharp\, clever observations that resonate with audiences of all ages. \nEvent Details\nDate: Friday\, March 6\, 2026\nTime: 7:30 PM\nVenue: The Studio at Mizner Park\nAddress: 201 W Plaza Real\, Boca Raton\, FL 33432\nPrice Range: $47 – $114\nAge Requirement: All ages (varies by event) \nAbout Ariel Elias\nAriel Elias is a rising star in the comedy world\, featured in The New York Times\, Rolling Stone\, Washington Post\, and on Good Morning America. She’s a Just For Laughs New Face (2021) and one of Paste Magazine’s Best Comedians of 2022. After a viral stand-up clip caught Jimmy Kimmel’s attention\, Ariel made her late-night TV debut on Jimmy Kimmel Live!\, followed by The Late Show with Stephen Colbert\, earning over 1 million views online. \nWhat to Expect\n\nSharp\, witty stand-up comedy from a rising star\nPersonal stories with clever observations\nHigh-energy performance\nIntimate comedy club atmosphere\nFull bar and food service available\nOutdoor terrace overlooking Mizner Park\n\nVenue Information\nThe Studio at Mizner Park is an intimate comedy venue located in the heart of Boca Raton’s Mizner Park shopping and entertainment district. The venue features an outdoor terrace overlooking the park\, a full cocktail bar\, and excellent food options. Doors open at 6:30 PM with the cocktail bar opening at 6:30 PM as well. \nTicket Information\nTickets are available through Ticketmaster and VividSeats. Prices range from $47 to $114. Purchase your tickets now to secure your spot for this amazing comedy show! \nOfficial Tickets (Ticketmaster) \nResale Tickets (VividSeats) \nThis post contains affiliate links. We earn a commission if you purchase tickets through our links at no extra cost to you. \nAll sales are final. Show times subject to change. Valid photo ID may be required for entry.
URL:https://comedycalendar.com/event/ariel-elias-live-at-the-studio-at-mizner-park/
LOCATION:The Studio at Mizner Park\, 201 W Plaza Real\, Boca Raton\, Florida\, 33432\, United States
ATTACH;FMTTYPE=image/jpeg:https://s1.ticketm.net/dam/a/5e6/74562952-787e-4c07-a94d-3591686a55e6_CUSTOM.jpg
GEO:26.3527896;-80.0858808
X-APPLE-STRUCTURED-LOCATION;VALUE=URI;X-ADDRESS=The Studio at Mizner Park 201 W Plaza Real Boca Raton Florida 33432 United States;X-APPLE-RADIUS=500;X-TITLE=201 W Plaza Real:geo:-80.0858808,26.3527896
END:VEVENT
BEGIN:VEVENT
DTSTART;TZID=America/Los_Angeles:20260306T193000
DTEND;TZID=America/Los_Angeles:20260306T220000
DTSTAMP:20260420T070458
CREATED:20260305T190000Z
LAST-MODIFIED:20260305T190000Z
UID:10002533-1772825400-1772834400@comedycalendar.com
SUMMARY:Trey Kennedy - The Relatable Tour LIVE at Alex Theatre
DESCRIPTION:Official TicketsResale Tickets \nTrey Kennedy: The Relatable Tour\nTrey Kennedy is bringing his brand-new stand-up show\, The Relatable Tour\, to the Alex Theatre in Glendale\, CA. Known for his hilarious takes on fatherhood\, family life\, and everyday moments\, Trey delivers laugh-out-loud comedy that resonates with audiences of all ages. \nThis show features all-new material — don’t miss your chance to see one of comedy’s most relatable voices live on stage! \nEvent Details\n\nDate: Friday\, March 6\, 2026\nTime: 7:30 PM\nVenue: Alex Theatre\nAddress: 216 North Brand Boulevard\, Glendale\, CA 91203\nTickets From: $38\n\nGet Your Tickets\nOfficial TicketsResale Tickets \nThis post contains affiliate links. We may earn a commission at no extra cost to you.
URL:https://comedycalendar.com/event/trey-kennedy-the-relatable-tour-live-at-alex-theatre/
LOCATION:Alex Theatre\, 216 North Brand Boulevard\, Glendale\, CA\, 91203\, United States
ATTACH;FMTTYPE=image/jpeg:https://media.ticketmaster.com/en-us/dam/a/949/5cde611c-539d-443f-b0c7-bc13bcb06949_CUSTOM.jpg
GEO:34.1488031;-118.2546509
X-APPLE-STRUCTURED-LOCATION;VALUE=URI;X-ADDRESS=Alex Theatre 216 North Brand Boulevard Glendale CA 91203 United States;X-APPLE-RADIUS=500;X-TITLE=216 North Brand Boulevard:geo:-118.2546509,34.1488031
END:VEVENT
BEGIN:VEVENT
DTSTART;TZID=America/New_York:20260306T200000
DTEND;TZID=America/New_York:20260306T213000
DTSTAMP:20260420T070458
CREATED:20260218T190000Z
LAST-MODIFIED:20260319T202201Z
UID:10002360-1772827200-1772832600@comedycalendar.com
SUMMARY:Andrew Dice Clay & Jon Lovitz LIVE at St. George Theatre
DESCRIPTION:This post contains affiliate links. We earn a commission if you purchase tickets through our links at no extra cost to you. \nOfficial Tickets (Ticketmaster) \nResale Tickets (VividSeats) \nAndrew Dice Clay & Jon Lovitz LIVE at St. George Theatre\nTwo comedy legends take the stage together for an unforgettable night of stand-up comedy. Andrew Dice Clay and Jon Lovitz bring their signature styles and decades of comedic experience to St. George Theatre for an evening of outrageous laughs and entertainment. \nEvent Details\nDate: Friday\, March 6\, 2026 \nTime: 8:00 PM \nVenue: St. George Theatre \nAddress: 35 Hyatt Street\, Staten Island\, NY \nAge Requirement: 18+ \nAbout the Performers\nAndrew Dice Clay is an iconic stand-up comedian known for his outrageous persona and controversial humor. Jon Lovitz is a legendary comedian and actor famous for his work on Saturday Night Live and his distinctive comedic voice. Together\, they create an unforgettable comedy experience. \nWhat to Expect\n\nHigh-energy stand-up comedy from two legends\nOutrageous humor and crowd interaction\nOriginal material and classic bits\nProfessional sound and lighting\nWelcoming atmosphere for comedy fans\nUnforgettable night of laughter\n\nVenue Information\nSt. George Theatre is a historic and iconic venue in Staten Island\, New York. The beautiful theater provides an intimate setting for top-tier comedians and performers with excellent acoustics and comfortable seating. \nTicket Information\nTickets are available through Ticketmaster and VividSeats. Prices range from $25-$75 depending on seating and availability. Early purchase is recommended for the best selection. \nOfficial Tickets (Ticketmaster) \nResale Tickets (VividSeats) \nThis post contains affiliate links. We earn a commission if you purchase tickets through our links at no extra cost to you. \nAll sales are final. Show times subject to change. Valid photo ID may be required for entry.
URL:https://comedycalendar.com/event/andrew-dice-clay-jon-lovitz-live-at-st-george-theatre/
LOCATION:St. George Theatre\, 35 Hyatt Street\, Staten Island\, NY\, 10301\, USA
CATEGORIES:Double Headlining,Stand Up Comedy
ATTACH;FMTTYPE=image/jpeg:https://s1.ticketm.net/dam/a/179/fa1e9505-0a32-4a26-8807-7caa4f684179_816911_TABLET_LANDSCAPE_LARGE_16_9.jpg?width=1350&height=765&fit=crop&auto=webp
GEO:40.6419756;-74.0775162
X-APPLE-STRUCTURED-LOCATION;VALUE=URI;X-ADDRESS=St. George Theatre 35 Hyatt Street Staten Island NY 10301 USA;X-APPLE-RADIUS=500;X-TITLE=35 Hyatt Street:geo:-74.0775162,40.6419756
END:VEVENT
BEGIN:VEVENT
DTSTART;TZID=America/Los_Angeles:20260306T200000
DTEND;TZID=America/Los_Angeles:20260306T223000
DTSTAMP:20260420T070458
CREATED:20260305T190000Z
LAST-MODIFIED:20260305T190000Z
UID:10002534-1772827200-1772836200@comedycalendar.com
SUMMARY:Brian Regan LIVE at Fred Kavli Theatre
DESCRIPTION:Official TicketsResale Tickets \nBrian Regan Live in Thousand Oaks\nBrian Regan\, one of the most respected and beloved stand-up comedians in the country\, is coming to the Fred Kavli Theatre in Thousand Oaks\, CA. Known for his clean\, clever\, and brilliantly crafted comedy\, Brian has been making audiences roar with laughter for decades. \nDon’t miss this rare chance to see a true comedy legend perform live — an unforgettable night of laughs for the whole family! \nEvent Details\n\nDate: Friday\, March 6\, 2026\nTime: 8:00 PM\nVenue: Fred Kavli Theatre – B of A Performing Arts Center\nAddress: 2100 E. Thousand Oaks Blvd\, Thousand Oaks\, CA 91362\nTickets From: $72\n\nGet Your Tickets\nOfficial TicketsResale Tickets \nThis post contains affiliate links. We may earn a commission at no extra cost to you.
URL:https://comedycalendar.com/event/brian-regan-live-at-fred-kavli-theatre/
LOCATION:Fred Kavli Theatre- B of A Performing Arts Center\,Thousand Oaks\, 2100 E. Thousand Oaks\, Thousand Oaks\, CA\, 91362\, United States
ATTACH;FMTTYPE=image/jpeg:https://media.ticketmaster.com/en-us/dam/a/dc4/dbeb6a1f-d197-434f-a482-dfadf5df6dc4_CUSTOM.jpg
GEO:34.1755067;-118.8477088
X-APPLE-STRUCTURED-LOCATION;VALUE=URI;X-ADDRESS=Fred Kavli Theatre- B of A Performing Arts CenterThousand Oaks 2100 E. Thousand Oaks Thousand Oaks CA 91362 United States;X-APPLE-RADIUS=500;X-TITLE=2100 E. Thousand Oaks:geo:-118.8477088,34.1755067
END:VEVENT
BEGIN:VEVENT
DTSTART;TZID=America/New_York:20260306T210000
DTEND;TZID=America/New_York:20260306T230000
DTSTAMP:20260420T070459
CREATED:20260212T104145Z
LAST-MODIFIED:20260228T051257Z
UID:10002246-1772830800-1772838000@comedycalendar.com
SUMMARY:Thank You Miami Stand Up Comedy Show (Friday)
DESCRIPTION:Kick off Friday right: craft beers on tap\, late-night bites & Miami’s funniest comics. Laugh\, sip & start your weekend like a local legend.
URL:https://comedycalendar.com/event/thank-you-miami-stand-up-comedy-show-friday-24/
LOCATION:Thank You Miami Cocina & Beer House\, 1701 West Flagler Street\, #Suite 101\, Miami\, FL\, 33135\, United States
CATEGORIES:Stand Up Comedy
ATTACH;FMTTYPE=image/jpeg:https://comedycalendar.com/wp-content/uploads/2025/07/6a7ebf7a30a5bbeb3a8c1f6f9956d3a1.jpg
GEO:25.7735028;-80.2231124
X-APPLE-STRUCTURED-LOCATION;VALUE=URI;X-ADDRESS=Thank You Miami Cocina & Beer House 1701 West Flagler Street #Suite 101 Miami FL 33135 United States;X-APPLE-RADIUS=500;X-TITLE=1701 West Flagler Street\, #Suite 101:geo:-80.2231124,25.7735028
END:VEVENT
END:VCALENDAR